BEGIN:VCALENDAR
VERSION:2.0
PRODID:-//QuickScores.com//BQ Dynamic iCal Creator//EN
METHOD:PUBLISH
X-WR-CALNAME:Santa Smash Mens Doubles (4.0+) 5:30pm 12/21 - Completed Tournaments 2023/24
X-WR-CALDESC:QuickScores game calendar
X-PUBLISHED-TTL:PT24H
REFRESH-INTERVAL;VALUE=DURATION:PT24H
CALSCALE:GREGORIAN
BEGIN:VTIMEZONE
TZID:America/Chicago
X-LIC-LOCATION:America/Chicago
BEGIN:DAYLIGHT
TZNAME:CDT
TZOFFSETFROM:-0600
TZOFFSETTO:-0500
DTSTART:19700308T020000
RRULE:FREQ=YEARLY;BYMONTH=3;BYDAY=2SU
END:DAYLIGHT
BEGIN:STANDARD
TZNAME:CST
TZOFFSETFROM:-0500
TZOFFSETTO:-0600
DTSTART:19701101T020000
RRULE:FREQ=YEARLY;BYMONTH=11;BYDAY=1SU
END:STANDARD
END:VTIMEZONE
BEGIN:VEVENT
UID:pupc-66476353-20241228T174000@quickscores.com
DTSTAMP:20260423T222900Z
DTSTART;TZID=America/Chicago:20241228T174000
DURATION:PT0H20M0S
SUMMARY:KyleLaramie/ChrisCarpenter vs. MarcusDinora/JadonWing
DESCRIPTION:Santa Smash Mens Doubles (4.0+) 5:30pm 12/21 - Paddle Up Pickleball Club
LOCATION:Court 9
CATEGORIES:QuickScores, Pickleball Game
TRANSP:OPAQUE
BEGIN:VALARM
TRIGGER:-PT2H
ACTION:DISPLAY
DESCRIPTION:KyleLaramie/ChrisCarpenter vs. MarcusDinora/JadonWing
END:VALARM
END:VEVENT
BEGIN:VEVENT
UID:pupc-66476354-20241228T174000@quickscores.com
DTSTAMP:20260423T222900Z
DTSTART;TZID=America/Chicago:20241228T174000
DURATION:PT0H20M0S
SUMMARY:NickBorger/GarrettHallemeier vs. JohnHarte/BlakeHuskey
DESCRIPTION:Santa Smash Mens Doubles (4.0+) 5:30pm 12/21 - Paddle Up Pickleball Club
LOCATION:Court 7
CATEGORIES:QuickScores, Pickleball Game
TRANSP:OPAQUE
BEGIN:VALARM
TRIGGER:-PT2H
ACTION:DISPLAY
DESCRIPTION:NickBorger/GarrettHallemeier vs. JohnHarte/BlakeHuskey
END:VALARM
END:VEVENT
BEGIN:VEVENT
UID:pupc-66476367-20241228T174000@quickscores.com
DTSTAMP:20260423T222900Z
DTSTART;TZID=America/Chicago:20241228T174000
DURATION:PT0H20M0S
SUMMARY:JustinXu/EthanXu vs. ShivaGarimella/ChrisBullock
DESCRIPTION:Santa Smash Mens Doubles (4.0+) 5:30pm 12/21 - Paddle Up Pickleball Club
LOCATION:Court 5
CATEGORIES:QuickScores, Pickleball Game
TRANSP:OPAQUE
BEGIN:VALARM
TRIGGER:-PT2H
ACTION:DISPLAY
DESCRIPTION:JustinXu/EthanXu vs. ShivaGarimella/ChrisBullock
END:VALARM
END:VEVENT
BEGIN:VEVENT
UID:pupc-66476357-20241228T174000@quickscores.com
DTSTAMP:20260423T222900Z
DTSTART;TZID=America/Chicago:20241228T174000
DURATION:PT0H20M0S
SUMMARY:DerekDallas/NathanDallas vs. MatthewHultman/JohnO'Keefe
DESCRIPTION:Santa Smash Mens Doubles (4.0+) 5:30pm 12/21 - Paddle Up Pickleball Club
LOCATION:Court 8
CATEGORIES:QuickScores, Pickleball Game
TRANSP:OPAQUE
BEGIN:VALARM
TRIGGER:-PT2H
ACTION:DISPLAY
DESCRIPTION:DerekDallas/NathanDallas vs. MatthewHultman/JohnO'Keefe
END:VALARM
END:VEVENT
BEGIN:VEVENT
UID:pupc-66476365-20241228T174000@quickscores.com
DTSTAMP:20260423T222900Z
DTSTART;TZID=America/Chicago:20241228T174000
DURATION:PT0H20M0S
SUMMARY:DanSerbin/JonPisoni vs. PrestonBehlmann/MikeBerry
DESCRIPTION:Santa Smash Mens Doubles (4.0+) 5:30pm 12/21 - Paddle Up Pickleball Club
LOCATION:Court 3
CATEGORIES:QuickScores, Pickleball Game
TRANSP:OPAQUE
BEGIN:VALARM
TRIGGER:-PT2H
ACTION:DISPLAY
DESCRIPTION:DanSerbin/JonPisoni vs. PrestonBehlmann/MikeBerry
END:VALARM
END:VEVENT
BEGIN:VEVENT
UID:pupc-66476352-20241228T180000@quickscores.com
DTSTAMP:20260423T222900Z
DTSTART;TZID=America/Chicago:20241228T180000
DURATION:PT0H20M0S
SUMMARY:ChuckKuehl/RyanNiedermayer vs. ChaseBlickhan/CarterSmith
DESCRIPTION:Santa Smash Mens Doubles (4.0+) 5:30pm 12/21 - Paddle Up Pickleball Club
LOCATION:Court 5
CATEGORIES:QuickScores, Pickleball Game
TRANSP:OPAQUE
BEGIN:VALARM
TRIGGER:-PT2H
ACTION:DISPLAY
DESCRIPTION:ChuckKuehl/RyanNiedermayer vs. ChaseBlickhan/CarterSmith
END:VALARM
END:VEVENT
BEGIN:VEVENT
UID:pupc-66476362-20241228T180000@quickscores.com
DTSTAMP:20260423T222900Z
DTSTART;TZID=America/Chicago:20241228T180000
DURATION:PT0H20M0S
SUMMARY:KyleLaramie/ChrisCarpenter vs. JonRichert/BryceGamache
DESCRIPTION:Santa Smash Mens Doubles (4.0+) 5:30pm 12/21 - Paddle Up Pickleball Club
LOCATION:Court 8
CATEGORIES:QuickScores, Pickleball Game
TRANSP:OPAQUE
BEGIN:VALARM
TRIGGER:-PT2H
ACTION:DISPLAY
DESCRIPTION:KyleLaramie/ChrisCarpenter vs. JonRichert/BryceGamache
END:VALARM
END:VEVENT
BEGIN:VEVENT
UID:pupc-66476359-20241228T180000@quickscores.com
DTSTAMP:20260423T222900Z
DTSTART;TZID=America/Chicago:20241228T180000
DURATION:PT0H20M0S
SUMMARY:TimGoble/JasonRule vs. ShivaGarimella/ChrisBullock
DESCRIPTION:Santa Smash Mens Doubles (4.0+) 5:30pm 12/21 - Paddle Up Pickleball Club
LOCATION:Court 3
CATEGORIES:QuickScores, Pickleball Game
TRANSP:OPAQUE
BEGIN:VALARM
TRIGGER:-PT2H
ACTION:DISPLAY
DESCRIPTION:TimGoble/JasonRule vs. ShivaGarimella/ChrisBullock
END:VALARM
END:VEVENT
BEGIN:VEVENT
UID:pupc-66476363-20241228T180000@quickscores.com
DTSTAMP:20260423T222900Z
DTSTART;TZID=America/Chicago:20241228T180000
DURATION:PT0H20M0S
SUMMARY:JohnHarte/BlakeHuskey vs. LotfiEl-Haw/RamyShoela
DESCRIPTION:Santa Smash Mens Doubles (4.0+) 5:30pm 12/21 - Paddle Up Pickleball Club
LOCATION:Court 9
CATEGORIES:QuickScores, Pickleball Game
TRANSP:OPAQUE
BEGIN:VALARM
TRIGGER:-PT2H
ACTION:DISPLAY
DESCRIPTION:JohnHarte/BlakeHuskey vs. LotfiEl-Haw/RamyShoela
END:VALARM
END:VEVENT
BEGIN:VEVENT
UID:pupc-66476356-20241228T180000@quickscores.com
DTSTAMP:20260423T222900Z
DTSTART;TZID=America/Chicago:20241228T180000
DURATION:PT0H20M0S
SUMMARY:DanSerbin/JonPisoni vs. KenTrokey/MattTrokey
DESCRIPTION:Santa Smash Mens Doubles (4.0+) 5:30pm 12/21 - Paddle Up Pickleball Club
LOCATION:Court 7
CATEGORIES:QuickScores, Pickleball Game
TRANSP:OPAQUE
BEGIN:VALARM
TRIGGER:-PT2H
ACTION:DISPLAY
DESCRIPTION:DanSerbin/JonPisoni vs. KenTrokey/MattTrokey
END:VALARM
END:VEVENT
BEGIN:VEVENT
UID:pupc-66476364-20241228T182000@quickscores.com
DTSTAMP:20260423T222900Z
DTSTART;TZID=America/Chicago:20241228T182000
DURATION:PT0H20M0S
SUMMARY:KenTrokey/MattTrokey vs. DerekDallas/NathanDallas
DESCRIPTION:Santa Smash Mens Doubles (4.0+) 5:30pm 12/21 - Paddle Up Pickleball Club
LOCATION:Court 5
CATEGORIES:QuickScores, Pickleball Game
TRANSP:OPAQUE
BEGIN:VALARM
TRIGGER:-PT2H
ACTION:DISPLAY
DESCRIPTION:KenTrokey/MattTrokey vs. DerekDallas/NathanDallas
END:VALARM
END:VEVENT
BEGIN:VEVENT
UID:pupc-66476366-20241228T182000@quickscores.com
DTSTAMP:20260423T222900Z
DTSTART;TZID=America/Chicago:20241228T182000
DURATION:PT0H20M0S
SUMMARY:TimGoble/JasonRule vs. MatthewHultman/JohnO'Keefe
DESCRIPTION:Santa Smash Mens Doubles (4.0+) 5:30pm 12/21 - Paddle Up Pickleball Club
LOCATION:Court 7
CATEGORIES:QuickScores, Pickleball Game
TRANSP:OPAQUE
BEGIN:VALARM
TRIGGER:-PT2H
ACTION:DISPLAY
DESCRIPTION:TimGoble/JasonRule vs. MatthewHultman/JohnO'Keefe
END:VALARM
END:VEVENT
BEGIN:VEVENT
UID:pupc-66476361-20241228T182000@quickscores.com
DTSTAMP:20260423T222900Z
DTSTART;TZID=America/Chicago:20241228T182000
DURATION:PT0H20M0S
SUMMARY:ChaseBlickhan/CarterSmith vs. NickBorger/GarrettHallemeier
DESCRIPTION:Santa Smash Mens Doubles (4.0+) 5:30pm 12/21 - Paddle Up Pickleball Club
LOCATION:Court 9
CATEGORIES:QuickScores, Pickleball Game
TRANSP:OPAQUE
BEGIN:VALARM
TRIGGER:-PT2H
ACTION:DISPLAY
DESCRIPTION:ChaseBlickhan/CarterSmith vs. NickBorger/GarrettHallemeier
END:VALARM
END:VEVENT
BEGIN:VEVENT
UID:pupc-66476360-20241228T182000@quickscores.com
DTSTAMP:20260423T222900Z
DTSTART;TZID=America/Chicago:20241228T182000
DURATION:PT0H20M0S
SUMMARY:ChuckKuehl/RyanNiedermayer vs. MarcusDinora/JadonWing
DESCRIPTION:Santa Smash Mens Doubles (4.0+) 5:30pm 12/21 - Paddle Up Pickleball Club
LOCATION:Court 6
CATEGORIES:QuickScores, Pickleball Game
TRANSP:OPAQUE
BEGIN:VALARM
TRIGGER:-PT2H
ACTION:DISPLAY
DESCRIPTION:ChuckKuehl/RyanNiedermayer vs. MarcusDinora/JadonWing
END:VALARM
END:VEVENT
BEGIN:VEVENT
UID:pupc-66476358-20241228T182000@quickscores.com
DTSTAMP:20260423T222900Z
DTSTART;TZID=America/Chicago:20241228T182000
DURATION:PT0H20M0S
SUMMARY:JustinXu/EthanXu vs. PrestonBehlmann/MikeBerry
DESCRIPTION:Santa Smash Mens Doubles (4.0+) 5:30pm 12/21 - Paddle Up Pickleball Club
LOCATION:Court 8
CATEGORIES:QuickScores, Pickleball Game
TRANSP:OPAQUE
BEGIN:VALARM
TRIGGER:-PT2H
ACTION:DISPLAY
DESCRIPTION:JustinXu/EthanXu vs. PrestonBehlmann/MikeBerry
END:VALARM
END:VEVENT
BEGIN:VEVENT
UID:pupc-66476355-20241228T182000@quickscores.com
DTSTAMP:20260423T222900Z
DTSTART;TZID=America/Chicago:20241228T182000
DURATION:PT0H20M0S
SUMMARY:JonRichert/BryceGamache vs. LotfiEl-Haw/RamyShoela
DESCRIPTION:Santa Smash Mens Doubles (4.0+) 5:30pm 12/21 - Paddle Up Pickleball Club
LOCATION:Court 4
CATEGORIES:QuickScores, Pickleball Game
TRANSP:OPAQUE
BEGIN:VALARM
TRIGGER:-PT2H
ACTION:DISPLAY
DESCRIPTION:JonRichert/BryceGamache vs. LotfiEl-Haw/RamyShoela
END:VALARM
END:VEVENT
BEGIN:VEVENT
UID:pupc-66476375-20241228T184000@quickscores.com
DTSTAMP:20260423T222900Z
DTSTART;TZID=America/Chicago:20241228T184000
DURATION:PT0H20M0S
SUMMARY:PrestonBehlmann/MikeBerry vs. TimGoble/JasonRule
DESCRIPTION:Santa Smash Mens Doubles (4.0+) 5:30pm 12/21 - Paddle Up Pickleball Club
LOCATION:Court 1
CATEGORIES:QuickScores, Pickleball Game
TRANSP:OPAQUE
BEGIN:VALARM
TRIGGER:-PT2H
ACTION:DISPLAY
DESCRIPTION:PrestonBehlmann/MikeBerry vs. TimGoble/JasonRule
END:VALARM
END:VEVENT
BEGIN:VEVENT
UID:pupc-66476374-20241228T184000@quickscores.com
DTSTAMP:20260423T222900Z
DTSTART;TZID=America/Chicago:20241228T184000
DURATION:PT0H20M0S
SUMMARY:ShivaGarimella/ChrisBullock vs. DerekDallas/NathanDallas
DESCRIPTION:Santa Smash Mens Doubles (4.0+) 5:30pm 12/21 - Paddle Up Pickleball Club
LOCATION:Court 6
CATEGORIES:QuickScores, Pickleball Game
TRANSP:OPAQUE
BEGIN:VALARM
TRIGGER:-PT2H
ACTION:DISPLAY
DESCRIPTION:ShivaGarimella/ChrisBullock vs. DerekDallas/NathanDallas
END:VALARM
END:VEVENT
BEGIN:VEVENT
UID:pupc-66476373-20241228T184000@quickscores.com
DTSTAMP:20260423T222900Z
DTSTART;TZID=America/Chicago:20241228T184000
DURATION:PT0H20M0S
SUMMARY:JustinXu/EthanXu vs. DanSerbin/JonPisoni
DESCRIPTION:Santa Smash Mens Doubles (4.0+) 5:30pm 12/21 - Paddle Up Pickleball Club
LOCATION:Court 7
CATEGORIES:QuickScores, Pickleball Game
TRANSP:OPAQUE
BEGIN:VALARM
TRIGGER:-PT2H
ACTION:DISPLAY
DESCRIPTION:JustinXu/EthanXu vs. DanSerbin/JonPisoni
END:VALARM
END:VEVENT
BEGIN:VEVENT
UID:pupc-66476372-20241228T184000@quickscores.com
DTSTAMP:20260423T222900Z
DTSTART;TZID=America/Chicago:20241228T184000
DURATION:PT0H20M0S
SUMMARY:MatthewHultman/JohnO'Keefe vs. KenTrokey/MattTrokey
DESCRIPTION:Santa Smash Mens Doubles (4.0+) 5:30pm 12/21 - Paddle Up Pickleball Club
LOCATION:Court 2
CATEGORIES:QuickScores, Pickleball Game
TRANSP:OPAQUE
BEGIN:VALARM
TRIGGER:-PT2H
ACTION:DISPLAY
DESCRIPTION:MatthewHultman/JohnO'Keefe vs. KenTrokey/MattTrokey
END:VALARM
END:VEVENT
BEGIN:VEVENT
UID:pupc-66476371-20241228T184000@quickscores.com
DTSTAMP:20260423T222900Z
DTSTART;TZID=America/Chicago:20241228T184000
DURATION:PT0H20M0S
SUMMARY:NickBorger/GarrettHallemeier vs. JonRichert/BryceGamache
DESCRIPTION:Santa Smash Mens Doubles (4.0+) 5:30pm 12/21 - Paddle Up Pickleball Club
LOCATION:Court 5
CATEGORIES:QuickScores, Pickleball Game
TRANSP:OPAQUE
BEGIN:VALARM
TRIGGER:-PT2H
ACTION:DISPLAY
DESCRIPTION:NickBorger/GarrettHallemeier vs. JonRichert/BryceGamache
END:VALARM
END:VEVENT
BEGIN:VEVENT
UID:pupc-66476370-20241228T184000@quickscores.com
DTSTAMP:20260423T222900Z
DTSTART;TZID=America/Chicago:20241228T184000
DURATION:PT0H20M0S
SUMMARY:MarcusDinora/JadonWing vs. LotfiEl-Haw/RamyShoela
DESCRIPTION:Santa Smash Mens Doubles (4.0+) 5:30pm 12/21 - Paddle Up Pickleball Club
LOCATION:Court 8
CATEGORIES:QuickScores, Pickleball Game
TRANSP:OPAQUE
BEGIN:VALARM
TRIGGER:-PT2H
ACTION:DISPLAY
DESCRIPTION:MarcusDinora/JadonWing vs. LotfiEl-Haw/RamyShoela
END:VALARM
END:VEVENT
BEGIN:VEVENT
UID:pupc-66476369-20241228T184000@quickscores.com
DTSTAMP:20260423T222900Z
DTSTART;TZID=America/Chicago:20241228T184000
DURATION:PT0H20M0S
SUMMARY:ChaseBlickhan/CarterSmith vs. JohnHarte/BlakeHuskey
DESCRIPTION:Santa Smash Mens Doubles (4.0+) 5:30pm 12/21 - Paddle Up Pickleball Club
LOCATION:Court 9
CATEGORIES:QuickScores, Pickleball Game
TRANSP:OPAQUE
BEGIN:VALARM
TRIGGER:-PT2H
ACTION:DISPLAY
DESCRIPTION:ChaseBlickhan/CarterSmith vs. JohnHarte/BlakeHuskey
END:VALARM
END:VEVENT
BEGIN:VEVENT
UID:pupc-66476368-20241228T184000@quickscores.com
DTSTAMP:20260423T222900Z
DTSTART;TZID=America/Chicago:20241228T184000
DURATION:PT0H20M0S
SUMMARY:KyleLaramie/ChrisCarpenter vs. ChuckKuehl/RyanNiedermayer
DESCRIPTION:Santa Smash Mens Doubles (4.0+) 5:30pm 12/21 - Paddle Up Pickleball Club
LOCATION:Court 4
CATEGORIES:QuickScores, Pickleball Game
TRANSP:OPAQUE
BEGIN:VALARM
TRIGGER:-PT2H
ACTION:DISPLAY
DESCRIPTION:KyleLaramie/ChrisCarpenter vs. ChuckKuehl/RyanNiedermayer
END:VALARM
END:VEVENT
BEGIN:VEVENT
UID:pupc-66476383-20241228T190000@quickscores.com
DTSTAMP:20260423T222900Z
DTSTART;TZID=America/Chicago:20241228T190000
DURATION:PT0H20M0S
SUMMARY:MatthewHultman/JohnO'Keefe vs. JustinXu/EthanXu
DESCRIPTION:Santa Smash Mens Doubles (4.0+) 5:30pm 12/21 - Paddle Up Pickleball Club
LOCATION:Court 4
CATEGORIES:QuickScores, Pickleball Game
TRANSP:OPAQUE
BEGIN:VALARM
TRIGGER:-PT2H
ACTION:DISPLAY
DESCRIPTION:MatthewHultman/JohnO'Keefe vs. JustinXu/EthanXu
END:VALARM
END:VEVENT
BEGIN:VEVENT
UID:pupc-66476382-20241228T190000@quickscores.com
DTSTAMP:20260423T222900Z
DTSTART;TZID=America/Chicago:20241228T190000
DURATION:PT0H20M0S
SUMMARY:ShivaGarimella/ChrisBullock vs. DanSerbin/JonPisoni
DESCRIPTION:Santa Smash Mens Doubles (4.0+) 5:30pm 12/21 - Paddle Up Pickleball Club
LOCATION:Court 6
CATEGORIES:QuickScores, Pickleball Game
TRANSP:OPAQUE
BEGIN:VALARM
TRIGGER:-PT2H
ACTION:DISPLAY
DESCRIPTION:ShivaGarimella/ChrisBullock vs. DanSerbin/JonPisoni
END:VALARM
END:VEVENT
BEGIN:VEVENT
UID:pupc-66476381-20241228T190000@quickscores.com
DTSTAMP:20260423T222900Z
DTSTART;TZID=America/Chicago:20241228T190000
DURATION:PT0H20M0S
SUMMARY:DerekDallas/NathanDallas vs. TimGoble/JasonRule
DESCRIPTION:Santa Smash Mens Doubles (4.0+) 5:30pm 12/21 - Paddle Up Pickleball Club
LOCATION:Court 1
CATEGORIES:QuickScores, Pickleball Game
TRANSP:OPAQUE
BEGIN:VALARM
TRIGGER:-PT2H
ACTION:DISPLAY
DESCRIPTION:DerekDallas/NathanDallas vs. TimGoble/JasonRule
END:VALARM
END:VEVENT
BEGIN:VEVENT
UID:pupc-66476380-20241228T190000@quickscores.com
DTSTAMP:20260423T222900Z
DTSTART;TZID=America/Chicago:20241228T190000
DURATION:PT0H20M0S
SUMMARY:KenTrokey/MattTrokey vs. PrestonBehlmann/MikeBerry
DESCRIPTION:Santa Smash Mens Doubles (4.0+) 5:30pm 12/21 - Paddle Up Pickleball Club
LOCATION:Court 9
CATEGORIES:QuickScores, Pickleball Game
TRANSP:OPAQUE
BEGIN:VALARM
TRIGGER:-PT2H
ACTION:DISPLAY
DESCRIPTION:KenTrokey/MattTrokey vs. PrestonBehlmann/MikeBerry
END:VALARM
END:VEVENT
BEGIN:VEVENT
UID:pupc-66476379-20241228T190000@quickscores.com
DTSTAMP:20260423T222900Z
DTSTART;TZID=America/Chicago:20241228T190000
DURATION:PT0H20M0S
SUMMARY:JohnHarte/BlakeHuskey vs. KyleLaramie/ChrisCarpenter
DESCRIPTION:Santa Smash Mens Doubles (4.0+) 5:30pm 12/21 - Paddle Up Pickleball Club
LOCATION:Court 7
CATEGORIES:QuickScores, Pickleball Game
TRANSP:OPAQUE
BEGIN:VALARM
TRIGGER:-PT2H
ACTION:DISPLAY
DESCRIPTION:JohnHarte/BlakeHuskey vs. KyleLaramie/ChrisCarpenter
END:VALARM
END:VEVENT
BEGIN:VEVENT
UID:pupc-66476378-20241228T190000@quickscores.com
DTSTAMP:20260423T222900Z
DTSTART;TZID=America/Chicago:20241228T190000
DURATION:PT0H20M0S
SUMMARY:LotfiEl-Haw/RamyShoela vs. ChaseBlickhan/CarterSmith
DESCRIPTION:Santa Smash Mens Doubles (4.0+) 5:30pm 12/21 - Paddle Up Pickleball Club
LOCATION:Court 5
CATEGORIES:QuickScores, Pickleball Game
TRANSP:OPAQUE
BEGIN:VALARM
TRIGGER:-PT2H
ACTION:DISPLAY
DESCRIPTION:LotfiEl-Haw/RamyShoela vs. ChaseBlickhan/CarterSmith
END:VALARM
END:VEVENT
BEGIN:VEVENT
UID:pupc-66476377-20241228T190000@quickscores.com
DTSTAMP:20260423T222900Z
DTSTART;TZID=America/Chicago:20241228T190000
DURATION:PT0H20M0S
SUMMARY:JonRichert/BryceGamache vs. MarcusDinora/JadonWing
DESCRIPTION:Santa Smash Mens Doubles (4.0+) 5:30pm 12/21 - Paddle Up Pickleball Club
LOCATION:Court 2
CATEGORIES:QuickScores, Pickleball Game
TRANSP:OPAQUE
BEGIN:VALARM
TRIGGER:-PT2H
ACTION:DISPLAY
DESCRIPTION:JonRichert/BryceGamache vs. MarcusDinora/JadonWing
END:VALARM
END:VEVENT
BEGIN:VEVENT
UID:pupc-66476376-20241228T190000@quickscores.com
DTSTAMP:20260423T222900Z
DTSTART;TZID=America/Chicago:20241228T190000
DURATION:PT0H20M0S
SUMMARY:NickBorger/GarrettHallemeier vs. ChuckKuehl/RyanNiedermayer
DESCRIPTION:Santa Smash Mens Doubles (4.0+) 5:30pm 12/21 - Paddle Up Pickleball Club
LOCATION:Court 8
CATEGORIES:QuickScores, Pickleball Game
TRANSP:OPAQUE
BEGIN:VALARM
TRIGGER:-PT2H
ACTION:DISPLAY
DESCRIPTION:NickBorger/GarrettHallemeier vs. ChuckKuehl/RyanNiedermayer
END:VALARM
END:VEVENT
BEGIN:VEVENT
UID:pupc-66476391-20241228T192000@quickscores.com
DTSTAMP:20260423T222900Z
DTSTART;TZID=America/Chicago:20241228T192000
DURATION:PT0H20M0S
SUMMARY:PrestonBehlmann/MikeBerry vs. DerekDallas/NathanDallas
DESCRIPTION:Santa Smash Mens Doubles (4.0+) 5:30pm 12/21 - Paddle Up Pickleball Club
LOCATION:Court 4
CATEGORIES:QuickScores, Pickleball Game
TRANSP:OPAQUE
BEGIN:VALARM
TRIGGER:-PT2H
ACTION:DISPLAY
DESCRIPTION:PrestonBehlmann/MikeBerry vs. DerekDallas/NathanDallas
END:VALARM
END:VEVENT
BEGIN:VEVENT
UID:pupc-66476390-20241228T192000@quickscores.com
DTSTAMP:20260423T222900Z
DTSTART;TZID=America/Chicago:20241228T192000
DURATION:PT0H20M0S
SUMMARY:TimGoble/JasonRule vs. DanSerbin/JonPisoni
DESCRIPTION:Santa Smash Mens Doubles (4.0+) 5:30pm 12/21 - Paddle Up Pickleball Club
LOCATION:Court 8
CATEGORIES:QuickScores, Pickleball Game
TRANSP:OPAQUE
BEGIN:VALARM
TRIGGER:-PT2H
ACTION:DISPLAY
DESCRIPTION:TimGoble/JasonRule vs. DanSerbin/JonPisoni
END:VALARM
END:VEVENT
BEGIN:VEVENT
UID:pupc-66476389-20241228T192000@quickscores.com
DTSTAMP:20260423T222900Z
DTSTART;TZID=America/Chicago:20241228T192000
DURATION:PT0H20M0S
SUMMARY:ShivaGarimella/ChrisBullock vs. MatthewHultman/JohnO'Keefe
DESCRIPTION:Santa Smash Mens Doubles (4.0+) 5:30pm 12/21 - Paddle Up Pickleball Club
LOCATION:Court 5
CATEGORIES:QuickScores, Pickleball Game
TRANSP:OPAQUE
BEGIN:VALARM
TRIGGER:-PT2H
ACTION:DISPLAY
DESCRIPTION:ShivaGarimella/ChrisBullock vs. MatthewHultman/JohnO'Keefe
END:VALARM
END:VEVENT
BEGIN:VEVENT
UID:pupc-66476388-20241228T192000@quickscores.com
DTSTAMP:20260423T222900Z
DTSTART;TZID=America/Chicago:20241228T192000
DURATION:PT0H20M0S
SUMMARY:JustinXu/EthanXu vs. KenTrokey/MattTrokey
DESCRIPTION:Santa Smash Mens Doubles (4.0+) 5:30pm 12/21 - Paddle Up Pickleball Club
LOCATION:Court 1
CATEGORIES:QuickScores, Pickleball Game
TRANSP:OPAQUE
BEGIN:VALARM
TRIGGER:-PT2H
ACTION:DISPLAY
DESCRIPTION:JustinXu/EthanXu vs. KenTrokey/MattTrokey
END:VALARM
END:VEVENT
BEGIN:VEVENT
UID:pupc-66476387-20241228T192000@quickscores.com
DTSTAMP:20260423T222900Z
DTSTART;TZID=America/Chicago:20241228T192000
DURATION:PT0H20M0S
SUMMARY:MarcusDinora/JadonWing vs. NickBorger/GarrettHallemeier
DESCRIPTION:Santa Smash Mens Doubles (4.0+) 5:30pm 12/21 - Paddle Up Pickleball Club
LOCATION:Court 7
CATEGORIES:QuickScores, Pickleball Game
TRANSP:OPAQUE
BEGIN:VALARM
TRIGGER:-PT2H
ACTION:DISPLAY
DESCRIPTION:MarcusDinora/JadonWing vs. NickBorger/GarrettHallemeier
END:VALARM
END:VEVENT
BEGIN:VEVENT
UID:pupc-66476386-20241228T192000@quickscores.com
DTSTAMP:20260423T222900Z
DTSTART;TZID=America/Chicago:20241228T192000
DURATION:PT0H20M0S
SUMMARY:ChaseBlickhan/CarterSmith vs. JonRichert/BryceGamache
DESCRIPTION:Santa Smash Mens Doubles (4.0+) 5:30pm 12/21 - Paddle Up Pickleball Club
LOCATION:Court 2
CATEGORIES:QuickScores, Pickleball Game
TRANSP:OPAQUE
BEGIN:VALARM
TRIGGER:-PT2H
ACTION:DISPLAY
DESCRIPTION:ChaseBlickhan/CarterSmith vs. JonRichert/BryceGamache
END:VALARM
END:VEVENT
BEGIN:VEVENT
UID:pupc-66476385-20241228T192000@quickscores.com
DTSTAMP:20260423T222900Z
DTSTART;TZID=America/Chicago:20241228T192000
DURATION:PT0H20M0S
SUMMARY:LotfiEl-Haw/RamyShoela vs. KyleLaramie/ChrisCarpenter
DESCRIPTION:Santa Smash Mens Doubles (4.0+) 5:30pm 12/21 - Paddle Up Pickleball Club
LOCATION:Court 9
CATEGORIES:QuickScores, Pickleball Game
TRANSP:OPAQUE
BEGIN:VALARM
TRIGGER:-PT2H
ACTION:DISPLAY
DESCRIPTION:LotfiEl-Haw/RamyShoela vs. KyleLaramie/ChrisCarpenter
END:VALARM
END:VEVENT
BEGIN:VEVENT
UID:pupc-66476384-20241228T192000@quickscores.com
DTSTAMP:20260423T222900Z
DTSTART;TZID=America/Chicago:20241228T192000
DURATION:PT0H20M0S
SUMMARY:JohnHarte/BlakeHuskey vs. ChuckKuehl/RyanNiedermayer
DESCRIPTION:Santa Smash Mens Doubles (4.0+) 5:30pm 12/21 - Paddle Up Pickleball Club
LOCATION:Court 6
CATEGORIES:QuickScores, Pickleball Game
TRANSP:OPAQUE
BEGIN:VALARM
TRIGGER:-PT2H
ACTION:DISPLAY
DESCRIPTION:JohnHarte/BlakeHuskey vs. ChuckKuehl/RyanNiedermayer
END:VALARM
END:VEVENT
BEGIN:VEVENT
UID:pupc-66476399-20241228T194000@quickscores.com
DTSTAMP:20260423T222900Z
DTSTART;TZID=America/Chicago:20241228T194000
DURATION:PT0H20M0S
SUMMARY:DanSerbin/JonPisoni vs. MatthewHultman/JohnO'Keefe
DESCRIPTION:Santa Smash Mens Doubles (4.0+) 5:30pm 12/21 - Paddle Up Pickleball Club
LOCATION:Court 8
CATEGORIES:QuickScores, Pickleball Game
TRANSP:OPAQUE
BEGIN:VALARM
TRIGGER:-PT2H
ACTION:DISPLAY
DESCRIPTION:DanSerbin/JonPisoni vs. MatthewHultman/JohnO'Keefe
END:VALARM
END:VEVENT
BEGIN:VEVENT
UID:pupc-66476398-20241228T194000@quickscores.com
DTSTAMP:20260423T222900Z
DTSTART;TZID=America/Chicago:20241228T194000
DURATION:PT0H20M0S
SUMMARY:DerekDallas/NathanDallas vs. JustinXu/EthanXu
DESCRIPTION:Santa Smash Mens Doubles (4.0+) 5:30pm 12/21 - Paddle Up Pickleball Club
LOCATION:Court 5
CATEGORIES:QuickScores, Pickleball Game
TRANSP:OPAQUE
BEGIN:VALARM
TRIGGER:-PT2H
ACTION:DISPLAY
DESCRIPTION:DerekDallas/NathanDallas vs. JustinXu/EthanXu
END:VALARM
END:VEVENT
BEGIN:VEVENT
UID:pupc-66476397-20241228T194000@quickscores.com
DTSTAMP:20260423T222900Z
DTSTART;TZID=America/Chicago:20241228T194000
DURATION:PT0H20M0S
SUMMARY:PrestonBehlmann/MikeBerry vs. ShivaGarimella/ChrisBullock
DESCRIPTION:Santa Smash Mens Doubles (4.0+) 5:30pm 12/21 - Paddle Up Pickleball Club
LOCATION:Court 2
CATEGORIES:QuickScores, Pickleball Game
TRANSP:OPAQUE
BEGIN:VALARM
TRIGGER:-PT2H
ACTION:DISPLAY
DESCRIPTION:PrestonBehlmann/MikeBerry vs. ShivaGarimella/ChrisBullock
END:VALARM
END:VEVENT
BEGIN:VEVENT
UID:pupc-66476396-20241228T194000@quickscores.com
DTSTAMP:20260423T222900Z
DTSTART;TZID=America/Chicago:20241228T194000
DURATION:PT0H20M0S
SUMMARY:KenTrokey/MattTrokey vs. TimGoble/JasonRule
DESCRIPTION:Santa Smash Mens Doubles (4.0+) 5:30pm 12/21 - Paddle Up Pickleball Club
LOCATION:Court 7
CATEGORIES:QuickScores, Pickleball Game
TRANSP:OPAQUE
BEGIN:VALARM
TRIGGER:-PT2H
ACTION:DISPLAY
DESCRIPTION:KenTrokey/MattTrokey vs. TimGoble/JasonRule
END:VALARM
END:VEVENT
BEGIN:VEVENT
UID:pupc-66476395-20241228T194000@quickscores.com
DTSTAMP:20260423T222900Z
DTSTART;TZID=America/Chicago:20241228T194000
DURATION:PT0H20M0S
SUMMARY:ChaseBlickhan/CarterSmith vs. KyleLaramie/ChrisCarpenter
DESCRIPTION:Santa Smash Mens Doubles (4.0+) 5:30pm 12/21 - Paddle Up Pickleball Club
LOCATION:Court 6
CATEGORIES:QuickScores, Pickleball Game
TRANSP:OPAQUE
BEGIN:VALARM
TRIGGER:-PT2H
ACTION:DISPLAY
DESCRIPTION:ChaseBlickhan/CarterSmith vs. KyleLaramie/ChrisCarpenter
END:VALARM
END:VEVENT
BEGIN:VEVENT
UID:pupc-66476394-20241228T194000@quickscores.com
DTSTAMP:20260423T222900Z
DTSTART;TZID=America/Chicago:20241228T194000
DURATION:PT0H20M0S
SUMMARY:MarcusDinora/JadonWing vs. JohnHarte/BlakeHuskey
DESCRIPTION:Santa Smash Mens Doubles (4.0+) 5:30pm 12/21 - Paddle Up Pickleball Club
LOCATION:Court 4
CATEGORIES:QuickScores, Pickleball Game
TRANSP:OPAQUE
BEGIN:VALARM
TRIGGER:-PT2H
ACTION:DISPLAY
DESCRIPTION:MarcusDinora/JadonWing vs. JohnHarte/BlakeHuskey
END:VALARM
END:VEVENT
BEGIN:VEVENT
UID:pupc-66476393-20241228T194000@quickscores.com
DTSTAMP:20260423T222900Z
DTSTART;TZID=America/Chicago:20241228T194000
DURATION:PT0H20M0S
SUMMARY:LotfiEl-Haw/RamyShoela vs. NickBorger/GarrettHallemeier
DESCRIPTION:Santa Smash Mens Doubles (4.0+) 5:30pm 12/21 - Paddle Up Pickleball Club
LOCATION:Court 9
CATEGORIES:QuickScores, Pickleball Game
TRANSP:OPAQUE
BEGIN:VALARM
TRIGGER:-PT2H
ACTION:DISPLAY
DESCRIPTION:LotfiEl-Haw/RamyShoela vs. NickBorger/GarrettHallemeier
END:VALARM
END:VEVENT
BEGIN:VEVENT
UID:pupc-66476392-20241228T194000@quickscores.com
DTSTAMP:20260423T222900Z
DTSTART;TZID=America/Chicago:20241228T194000
DURATION:PT0H20M0S
SUMMARY:JonRichert/BryceGamache vs. ChuckKuehl/RyanNiedermayer
DESCRIPTION:Santa Smash Mens Doubles (4.0+) 5:30pm 12/21 - Paddle Up Pickleball Club
LOCATION:Court 1
CATEGORIES:QuickScores, Pickleball Game
TRANSP:OPAQUE
BEGIN:VALARM
TRIGGER:-PT2H
ACTION:DISPLAY
DESCRIPTION:JonRichert/BryceGamache vs. ChuckKuehl/RyanNiedermayer
END:VALARM
END:VEVENT
BEGIN:VEVENT
UID:pupc-66476406-20241228T200000@quickscores.com
DTSTAMP:20260423T222900Z
DTSTART;TZID=America/Chicago:20241228T200000
DURATION:PT0H20M0S
SUMMARY:MatthewHultman/JohnO'Keefe vs. PrestonBehlmann/MikeBerry
DESCRIPTION:Santa Smash Mens Doubles (4.0+) 5:30pm 12/21 - Paddle Up Pickleball Club
LOCATION:Court 5
CATEGORIES:QuickScores, Pickleball Game
TRANSP:OPAQUE
BEGIN:VALARM
TRIGGER:-PT2H
ACTION:DISPLAY
DESCRIPTION:MatthewHultman/JohnO'Keefe vs. PrestonBehlmann/MikeBerry
END:VALARM
END:VEVENT
BEGIN:VEVENT
UID:pupc-66476405-20241228T200000@quickscores.com
DTSTAMP:20260423T222900Z
DTSTART;TZID=America/Chicago:20241228T200000
DURATION:PT0H20M0S
SUMMARY:TimGoble/JasonRule vs. JustinXu/EthanXu
DESCRIPTION:Santa Smash Mens Doubles (4.0+) 5:30pm 12/21 - Paddle Up Pickleball Club
LOCATION:Court 4
CATEGORIES:QuickScores, Pickleball Game
TRANSP:OPAQUE
BEGIN:VALARM
TRIGGER:-PT2H
ACTION:DISPLAY
DESCRIPTION:TimGoble/JasonRule vs. JustinXu/EthanXu
END:VALARM
END:VEVENT
BEGIN:VEVENT
UID:pupc-66476404-20241228T200000@quickscores.com
DTSTAMP:20260423T222900Z
DTSTART;TZID=America/Chicago:20241228T200000
DURATION:PT0H20M0S
SUMMARY:KenTrokey/MattTrokey vs. ShivaGarimella/ChrisBullock
DESCRIPTION:Santa Smash Mens Doubles (4.0+) 5:30pm 12/21 - Paddle Up Pickleball Club
LOCATION:Court 1
CATEGORIES:QuickScores, Pickleball Game
TRANSP:OPAQUE
BEGIN:VALARM
TRIGGER:-PT2H
ACTION:DISPLAY
DESCRIPTION:KenTrokey/MattTrokey vs. ShivaGarimella/ChrisBullock
END:VALARM
END:VEVENT
BEGIN:VEVENT
UID:pupc-66476403-20241228T200000@quickscores.com
DTSTAMP:20260423T222900Z
DTSTART;TZID=America/Chicago:20241228T200000
DURATION:PT0H20M0S
SUMMARY:MarcusDinora/JadonWing vs. ChaseBlickhan/CarterSmith
DESCRIPTION:Santa Smash Mens Doubles (4.0+) 5:30pm 12/21 - Paddle Up Pickleball Club
LOCATION:Court 8
CATEGORIES:QuickScores, Pickleball Game
TRANSP:OPAQUE
BEGIN:VALARM
TRIGGER:-PT2H
ACTION:DISPLAY
DESCRIPTION:MarcusDinora/JadonWing vs. ChaseBlickhan/CarterSmith
END:VALARM
END:VEVENT
BEGIN:VEVENT
UID:pupc-66476402-20241228T200000@quickscores.com
DTSTAMP:20260423T222900Z
DTSTART;TZID=America/Chicago:20241228T200000
DURATION:PT0H20M0S
SUMMARY:NickBorger/GarrettHallemeier vs. KyleLaramie/ChrisCarpenter
DESCRIPTION:Santa Smash Mens Doubles (4.0+) 5:30pm 12/21 - Paddle Up Pickleball Club
LOCATION:Court 6
CATEGORIES:QuickScores, Pickleball Game
TRANSP:OPAQUE
BEGIN:VALARM
TRIGGER:-PT2H
ACTION:DISPLAY
DESCRIPTION:NickBorger/GarrettHallemeier vs. KyleLaramie/ChrisCarpenter
END:VALARM
END:VEVENT
BEGIN:VEVENT
UID:pupc-66476401-20241228T200000@quickscores.com
DTSTAMP:20260423T222900Z
DTSTART;TZID=America/Chicago:20241228T200000
DURATION:PT0H20M0S
SUMMARY:JohnHarte/BlakeHuskey vs. JonRichert/BryceGamache
DESCRIPTION:Santa Smash Mens Doubles (4.0+) 5:30pm 12/21 - Paddle Up Pickleball Club
LOCATION:Court 2
CATEGORIES:QuickScores, Pickleball Game
TRANSP:OPAQUE
BEGIN:VALARM
TRIGGER:-PT2H
ACTION:DISPLAY
DESCRIPTION:JohnHarte/BlakeHuskey vs. JonRichert/BryceGamache
END:VALARM
END:VEVENT
BEGIN:VEVENT
UID:pupc-66476400-20241228T200000@quickscores.com
DTSTAMP:20260423T222900Z
DTSTART;TZID=America/Chicago:20241228T200000
DURATION:PT0H20M0S
SUMMARY:ChuckKuehl/RyanNiedermayer vs. LotfiEl-Haw/RamyShoela
DESCRIPTION:Santa Smash Mens Doubles (4.0+) 5:30pm 12/21 - Paddle Up Pickleball Club
LOCATION:Court 7
CATEGORIES:QuickScores, Pickleball Game
TRANSP:OPAQUE
BEGIN:VALARM
TRIGGER:-PT2H
ACTION:DISPLAY
DESCRIPTION:ChuckKuehl/RyanNiedermayer vs. LotfiEl-Haw/RamyShoela
END:VALARM
END:VEVENT
BEGIN:VEVENT
UID:pupc-66476407-20241228T200000@quickscores.com
DTSTAMP:20260423T222900Z
DTSTART;TZID=America/Chicago:20241228T200000
DURATION:PT0H20M0S
SUMMARY:DerekDallas/NathanDallas vs. DanSerbin/JonPisoni
DESCRIPTION:Santa Smash Mens Doubles (4.0+) 5:30pm 12/21 - Paddle Up Pickleball Club
LOCATION:Court 9
CATEGORIES:QuickScores, Pickleball Game
TRANSP:OPAQUE
BEGIN:VALARM
TRIGGER:-PT2H
ACTION:DISPLAY
DESCRIPTION:DerekDallas/NathanDallas vs. DanSerbin/JonPisoni
END:VALARM
END:VEVENT
END:VCALENDAR
