BEGIN:VCALENDAR
VERSION:2.0
PRODID:-//QuickScores.com//BQ Dynamic iCal Creator//EN
METHOD:PUBLISH
X-WR-CALNAME:60 Aa/aaa - The Buckeye Classic 2025
X-WR-CALDESC:QuickScores game calendar
X-PUBLISHED-TTL:PT24H
REFRESH-INTERVAL;VALUE=DURATION:PT24H
CALSCALE:GREGORIAN
BEGIN:VTIMEZONE
TZID:America/New_York
X-LIC-LOCATION:America/New_York
BEGIN:DAYLIGHT
TZNAME:EDT
TZOFFSETFROM:-0500
TZOFFSETTO:-0400
DTSTART:19700308T020000
RRULE:FREQ=YEARLY;BYMONTH=3;BYDAY=2SU
END:DAYLIGHT
BEGIN:STANDARD
TZNAME:EST
TZOFFSETFROM:-0400
TZOFFSETTO:-0500
DTSTART:19701101T020000
RRULE:FREQ=YEARLY;BYMONTH=11;BYDAY=1SU
END:STANDARD
END:VTIMEZONE
BEGIN:VEVENT
UID:thebuckeyeclassic-65719166-20250620T123000@quickscores.com
DTSTAMP:20260422T015700Z
DTSTART;TZID=America/New_York:20250620T123000
DURATION:PT1H30M0S
SUMMARY:[4] Buckeye Classics 60 AAA vs. [5] C P O A 60 AAA
DESCRIPTION:60 Aa/aaa - <BR> <b> The Buckeye Classic
LOCATION:Field 1
CATEGORIES:QuickScores, Softball - Adult Game
TRANSP:OPAQUE
BEGIN:VALARM
TRIGGER:-PT2H
ACTION:DISPLAY
DESCRIPTION:[4] Buckeye Classics 60 AAA vs. [5] C P O A 60 AAA
END:VALARM
END:VEVENT
BEGIN:VEVENT
UID:thebuckeyeclassic-65719168-20250620T123000@quickscores.com
DTSTAMP:20260422T015700Z
DTSTART;TZID=America/New_York:20250620T123000
DURATION:PT1H30M0S
SUMMARY:[3] Michigan Wizards / 1 Under  60 AAA vs. [6] Generac  60 AAA
DESCRIPTION:60 Aa/aaa - <BR> <b> The Buckeye Classic
LOCATION:Field 2
CATEGORIES:QuickScores, Softball - Adult Game
TRANSP:OPAQUE
BEGIN:VALARM
TRIGGER:-PT2H
ACTION:DISPLAY
DESCRIPTION:[3] Michigan Wizards / 1 Under  60 AAA vs. [6] Generac  60 AAA
END:VALARM
END:VEVENT
BEGIN:VEVENT
UID:thebuckeyeclassic-65719165-20250620T140000@quickscores.com
DTSTAMP:20260422T015700Z
DTSTART;TZID=America/New_York:20250620T140000
DURATION:PT1H30M0S
SUMMARY:[1] Strategies for Success (SFS) 60AAA vs. [8] Pelley's Stix 60AA
DESCRIPTION:60 Aa/aaa - <BR> <b> The Buckeye Classic
LOCATION:Field 1
CATEGORIES:QuickScores, Softball - Adult Game
TRANSP:OPAQUE
BEGIN:VALARM
TRIGGER:-PT2H
ACTION:DISPLAY
DESCRIPTION:[1] Strategies for Success (SFS) 60AAA vs. [8] Pelley's Stix 60AA
END:VALARM
END:VEVENT
BEGIN:VEVENT
UID:thebuckeyeclassic-65719167-20250620T140000@quickscores.com
DTSTAMP:20260422T015700Z
DTSTART;TZID=America/New_York:20250620T140000
DURATION:PT1H30M0S
SUMMARY:[2] Bomani/TTK  60AAA vs. [7] Angry Rooster Deli 60AAA
DESCRIPTION:60 Aa/aaa - <BR> <b> The Buckeye Classic
LOCATION:Field 2
CATEGORIES:QuickScores, Softball - Adult Game
TRANSP:OPAQUE
BEGIN:VALARM
TRIGGER:-PT2H
ACTION:DISPLAY
DESCRIPTION:[2] Bomani/TTK  60AAA vs. [7] Angry Rooster Deli 60AAA
END:VALARM
END:VEVENT
BEGIN:VEVENT
UID:thebuckeyeclassic-65719172-20250621T090000@quickscores.com
DTSTAMP:20260422T015700Z
DTSTART;TZID=America/New_York:20250621T090000
DURATION:PT1H30M0S
SUMMARY:[7] Angry Rooster Deli 60AAA vs. [6] Generac  60 AAA
DESCRIPTION:60 Aa/aaa - <BR> <b> The Buckeye Classic
LOCATION:Field 4
CATEGORIES:QuickScores, Softball - Adult Game
TRANSP:OPAQUE
BEGIN:VALARM
TRIGGER:-PT2H
ACTION:DISPLAY
DESCRIPTION:[7] Angry Rooster Deli 60AAA vs. [6] Generac  60 AAA
END:VALARM
END:VEVENT
BEGIN:VEVENT
UID:thebuckeyeclassic-65719171-20250621T090000@quickscores.com
DTSTAMP:20260422T015700Z
DTSTART;TZID=America/New_York:20250621T090000
DURATION:PT1H30M0S
SUMMARY:[8] Pelley's Stix 60AA vs. [5] C P O A 60 AAA
DESCRIPTION:60 Aa/aaa - <BR> <b> The Buckeye Classic
LOCATION:Field 3
CATEGORIES:QuickScores, Softball - Adult Game
TRANSP:OPAQUE
BEGIN:VALARM
TRIGGER:-PT2H
ACTION:DISPLAY
DESCRIPTION:[8] Pelley's Stix 60AA vs. [5] C P O A 60 AAA
END:VALARM
END:VEVENT
BEGIN:VEVENT
UID:thebuckeyeclassic-65719170-20250621T090000@quickscores.com
DTSTAMP:20260422T015700Z
DTSTART;TZID=America/New_York:20250621T090000
DURATION:PT1H30M0S
SUMMARY:[2] Bomani/TTK  60AAA vs. [3] Michigan Wizards / 1 Under  60 AAA
DESCRIPTION:60 Aa/aaa - <BR> <b> The Buckeye Classic
LOCATION:Field 2
CATEGORIES:QuickScores, Softball - Adult Game
TRANSP:OPAQUE
BEGIN:VALARM
TRIGGER:-PT2H
ACTION:DISPLAY
DESCRIPTION:[2] Bomani/TTK  60AAA vs. [3] Michigan Wizards / 1 Under  60 AAA
END:VALARM
END:VEVENT
BEGIN:VEVENT
UID:thebuckeyeclassic-65719169-20250621T090000@quickscores.com
DTSTAMP:20260422T015700Z
DTSTART;TZID=America/New_York:20250621T090000
DURATION:PT1H30M0S
SUMMARY:[1] Strategies for Success (SFS) 60AAA vs. [4] Buckeye Classics 60 AAA
DESCRIPTION:60 Aa/aaa - <BR> <b> The Buckeye Classic
LOCATION:Field 1
CATEGORIES:QuickScores, Softball - Adult Game
TRANSP:OPAQUE
BEGIN:VALARM
TRIGGER:-PT2H
ACTION:DISPLAY
DESCRIPTION:[1] Strategies for Success (SFS) 60AAA vs. [4] Buckeye Classics 60 AAA
END:VALARM
END:VEVENT
BEGIN:VEVENT
UID:thebuckeyeclassic-65719173-20250621T103000@quickscores.com
DTSTAMP:20260422T015700Z
DTSTART;TZID=America/New_York:20250621T103000
DURATION:PT1H30M0S
SUMMARY:[2] Bomani/TTK  60AAA vs. [5] C P O A 60 AAA
DESCRIPTION:60 Aa/aaa - <BR> <b> The Buckeye Classic
LOCATION:Field 3
CATEGORIES:QuickScores, Softball - Adult Game
TRANSP:OPAQUE
BEGIN:VALARM
TRIGGER:-PT2H
ACTION:DISPLAY
DESCRIPTION:[2] Bomani/TTK  60AAA vs. [5] C P O A 60 AAA
END:VALARM
END:VEVENT
BEGIN:VEVENT
UID:thebuckeyeclassic-65719174-20250621T103000@quickscores.com
DTSTAMP:20260422T015700Z
DTSTART;TZID=America/New_York:20250621T103000
DURATION:PT1H30M0S
SUMMARY:[4] Buckeye Classics 60 AAA vs. [6] Generac  60 AAA
DESCRIPTION:60 Aa/aaa - <BR> <b> The Buckeye Classic
LOCATION:Field 4
CATEGORIES:QuickScores, Softball - Adult Game
TRANSP:OPAQUE
BEGIN:VALARM
TRIGGER:-PT2H
ACTION:DISPLAY
DESCRIPTION:[4] Buckeye Classics 60 AAA vs. [6] Generac  60 AAA
END:VALARM
END:VEVENT
BEGIN:VEVENT
UID:thebuckeyeclassic-65719175-20250621T103000@quickscores.com
DTSTAMP:20260422T015700Z
DTSTART;TZID=America/New_York:20250621T103000
DURATION:PT1H30M0S
SUMMARY:[1] Strategies for Success (SFS) 60AAA vs. [3] Michigan Wizards / 1 Under  60 AAA
DESCRIPTION:60 Aa/aaa - <BR> <b> The Buckeye Classic
LOCATION:Field 1
CATEGORIES:QuickScores, Softball - Adult Game
TRANSP:OPAQUE
BEGIN:VALARM
TRIGGER:-PT2H
ACTION:DISPLAY
DESCRIPTION:[1] Strategies for Success (SFS) 60AAA vs. [3] Michigan Wizards / 1 Under  60 AAA
END:VALARM
END:VEVENT
BEGIN:VEVENT
UID:thebuckeyeclassic-65719176-20250621T120000@quickscores.com
DTSTAMP:20260422T015700Z
DTSTART;TZID=America/New_York:20250621T120000
DURATION:PT1H30M0S
SUMMARY:[2] Bomani/TTK  60AAA vs. [6] Generac  60 AAA
DESCRIPTION:60 Aa/aaa - <BR> <b> The Buckeye Classic
LOCATION:Field 4
CATEGORIES:QuickScores, Softball - Adult Game
TRANSP:OPAQUE
BEGIN:VALARM
TRIGGER:-PT2H
ACTION:DISPLAY
DESCRIPTION:[2] Bomani/TTK  60AAA vs. [6] Generac  60 AAA
END:VALARM
END:VEVENT
BEGIN:VEVENT
UID:thebuckeyeclassic-65719177-20250622T090000@quickscores.com
DTSTAMP:20260422T015700Z
DTSTART;TZID=America/New_York:20250622T090000
DURATION:PT1H30M0S
SUMMARY:[3] Michigan Wizards / 1 Under  60 AAA vs. [6] Generac  60 AAA
DESCRIPTION:60 Aa/aaa - <BR> <b> The Buckeye Classic
LOCATION:Field 1
CATEGORIES:QuickScores, Softball - Adult Game
TRANSP:OPAQUE
BEGIN:VALARM
TRIGGER:-PT2H
ACTION:DISPLAY
DESCRIPTION:[3] Michigan Wizards / 1 Under  60 AAA vs. [6] Generac  60 AAA
END:VALARM
END:VEVENT
BEGIN:VEVENT
UID:thebuckeyeclassic-65719178-20250622T103000@quickscores.com
DTSTAMP:20260422T015700Z
DTSTART;TZID=America/New_York:20250622T103000
DURATION:PT1H30M0S
SUMMARY:[1] Strategies for Success (SFS) 60AAA vs. [3] Michigan Wizards / 1 Under  60 AAA
DESCRIPTION:60 Aa/aaa - <BR> <b> The Buckeye Classic
LOCATION:Field 1
CATEGORIES:QuickScores, Softball - Adult Game
TRANSP:OPAQUE
BEGIN:VALARM
TRIGGER:-PT2H
ACTION:DISPLAY
DESCRIPTION:[1] Strategies for Success (SFS) 60AAA vs. [3] Michigan Wizards / 1 Under  60 AAA
END:VALARM
END:VEVENT
BEGIN:VEVENT
UID:thebuckeyeclassic-65719179-20250622T120000@quickscores.com
DTSTAMP:20260422T015700Z
DTSTART;TZID=America/New_York:20250622T120000
DURATION:PT1H30M0S
SUMMARY:[3] Michigan Wizards / 1 Under  60 AAA vs. [1] Strategies for Success (SFS) 60AAA
DESCRIPTION:60 Aa/aaa - <BR> <b> The Buckeye Classic
LOCATION:Field 1
CATEGORIES:QuickScores, Softball - Adult Game
TRANSP:OPAQUE
BEGIN:VALARM
TRIGGER:-PT2H
ACTION:DISPLAY
DESCRIPTION:[3] Michigan Wizards / 1 Under  60 AAA vs. [1] Strategies for Success (SFS) 60AAA
END:VALARM
END:VEVENT
END:VCALENDAR
