BEGIN:VCALENDAR
VERSION:2.0
PRODID:-//QuickScores.com//BQ Dynamic iCal Creator//EN
METHOD:PUBLISH
X-WR-CALNAME:Men 60 Major Gold - 2024 ISSA Winter Worlds & USA Championships
X-WR-CALDESC:QuickScores game calendar
X-PUBLISHED-TTL:PT24H
REFRESH-INTERVAL;VALUE=DURATION:PT24H
CALSCALE:GREGORIAN
BEGIN:VTIMEZONE
TZID:America/New_York
X-LIC-LOCATION:America/New_York
BEGIN:DAYLIGHT
TZNAME:EDT
TZOFFSETFROM:-0500
TZOFFSETTO:-0400
DTSTART:19700308T020000
RRULE:FREQ=YEARLY;BYMONTH=3;BYDAY=2SU
END:DAYLIGHT
BEGIN:STANDARD
TZNAME:EST
TZOFFSETFROM:-0400
TZOFFSETTO:-0500
DTSTART:19701101T020000
RRULE:FREQ=YEARLY;BYMONTH=11;BYDAY=1SU
END:STANDARD
END:VTIMEZONE
BEGIN:VEVENT
UID:issa-65599836-20241102T113000@quickscores.com
DTSTAMP:20260423T022300Z
DTSTART;TZID=America/New_York:20241102T113000
DURATION:PT1H30M0S
SUMMARY:[B #2] Monster Softball vs. [A #3] Isabel Heating and Cooling
DESCRIPTION:Men 60 Major Gold - International Senior Softball Association<br>ISSA
LOCATION:BSC-A4
CATEGORIES:QuickScores, Softball Game
TRANSP:OPAQUE
BEGIN:VALARM
TRIGGER:-PT2H
ACTION:DISPLAY
DESCRIPTION:[B #2] Monster Softball vs. [A #3] Isabel Heating and Cooling
END:VALARM
END:VEVENT
BEGIN:VEVENT
UID:issa-65599840-20241102T113000@quickscores.com
DTSTAMP:20260423T022300Z
DTSTART;TZID=America/New_York:20241102T113000
DURATION:PT1H30M0S
SUMMARY:[B #1] Top Dawgs vs. [A #2] Buell Fuel 60
DESCRIPTION:Men 60 Major Gold - International Senior Softball Association<br>ISSA
LOCATION:BSC-A1
CATEGORIES:QuickScores, Softball Game
TRANSP:OPAQUE
BEGIN:VALARM
TRIGGER:-PT2H
ACTION:DISPLAY
DESCRIPTION:[B #1] Top Dawgs vs. [A #2] Buell Fuel 60
END:VALARM
END:VEVENT
BEGIN:VEVENT
UID:issa-65599839-20241102T130000@quickscores.com
DTSTAMP:20260423T022300Z
DTSTART;TZID=America/New_York:20241102T130000
DURATION:PT1H30M0S
SUMMARY:[A #1] Montgomery Swarm 60 vs. [A #3] Isabel Heating and Cooling
DESCRIPTION:Men 60 Major Gold - International Senior Softball Association<br>ISSA
LOCATION:BSC-A4
CATEGORIES:QuickScores, Softball Game
TRANSP:OPAQUE
BEGIN:VALARM
TRIGGER:-PT2H
ACTION:DISPLAY
DESCRIPTION:[A #1] Montgomery Swarm 60 vs. [A #3] Isabel Heating and Cooling
END:VALARM
END:VEVENT
BEGIN:VEVENT
UID:issa-65599843-20241102T143000@quickscores.com
DTSTAMP:20260423T022300Z
DTSTART;TZID=America/New_York:20241102T143000
DURATION:PT1H30M0S
SUMMARY:[A #2] Buell Fuel 60 vs. [B #2] Monster Softball
DESCRIPTION:Men 60 Major Gold - International Senior Softball Association<br>ISSA
LOCATION:BSC-A4
CATEGORIES:QuickScores, Softball Game
TRANSP:OPAQUE
BEGIN:VALARM
TRIGGER:-PT2H
ACTION:DISPLAY
DESCRIPTION:[A #2] Buell Fuel 60 vs. [B #2] Monster Softball
END:VALARM
END:VEVENT
BEGIN:VEVENT
UID:issa-65599845-20241102T160000@quickscores.com
DTSTAMP:20260423T022300Z
DTSTART;TZID=America/New_York:20241102T160000
DURATION:PT1H30M0S
SUMMARY:[A #1] Montgomery Swarm 60 vs. [B #1] Top Dawgs
DESCRIPTION:Men 60 Major Gold - International Senior Softball Association<br>ISSA
LOCATION:BSC-A3
CATEGORIES:QuickScores, Softball Game
TRANSP:OPAQUE
BEGIN:VALARM
TRIGGER:-PT2H
ACTION:DISPLAY
DESCRIPTION:[A #1] Montgomery Swarm 60 vs. [B #1] Top Dawgs
END:VALARM
END:VEVENT
BEGIN:VEVENT
UID:issa-65599846-20241102T160000@quickscores.com
DTSTAMP:20260423T022300Z
DTSTART;TZID=America/New_York:20241102T160000
DURATION:PT1H30M0S
SUMMARY:[B #2] Monster Softball vs. [A #3] Isabel Heating and Cooling
DESCRIPTION:Men 60 Major Gold - International Senior Softball Association<br>ISSA
LOCATION:BSC-A4
CATEGORIES:QuickScores, Softball Game
TRANSP:OPAQUE
BEGIN:VALARM
TRIGGER:-PT2H
ACTION:DISPLAY
DESCRIPTION:[B #2] Monster Softball vs. [A #3] Isabel Heating and Cooling
END:VALARM
END:VEVENT
BEGIN:VEVENT
UID:issa-65599847-20241103T083000@quickscores.com
DTSTAMP:20260423T022300Z
DTSTART;TZID=America/New_York:20241103T083000
DURATION:PT1H30M0S
SUMMARY:[A #1] Montgomery Swarm 60 vs. [A #3] Isabel Heating and Cooling
DESCRIPTION:Men 60 Major Gold - International Senior Softball Association<br>ISSA
LOCATION:BSC-B4
CATEGORIES:QuickScores, Softball Game
TRANSP:OPAQUE
BEGIN:VALARM
TRIGGER:-PT2H
ACTION:DISPLAY
DESCRIPTION:[A #1] Montgomery Swarm 60 vs. [A #3] Isabel Heating and Cooling
END:VALARM
END:VEVENT
BEGIN:VEVENT
UID:issa-65599848-20241103T100000@quickscores.com
DTSTAMP:20260423T022300Z
DTSTART;TZID=America/New_York:20241103T100000
DURATION:PT1H30M0S
SUMMARY:[B #1] Top Dawgs vs. [A #3] Isabel Heating and Cooling
DESCRIPTION:Men 60 Major Gold - International Senior Softball Association<br>ISSA
LOCATION:BSC-B4
CATEGORIES:QuickScores, Softball Game
TRANSP:OPAQUE
BEGIN:VALARM
TRIGGER:-PT2H
ACTION:DISPLAY
DESCRIPTION:[B #1] Top Dawgs vs. [A #3] Isabel Heating and Cooling
END:VALARM
END:VEVENT
END:VCALENDAR
