BEGIN:VCALENDAR
VERSION:2.0
PRODID:-//QuickScores.com//BQ Dynamic iCal Creator//EN
METHOD:PUBLISH
X-WR-CALNAME:Men 70 Aaa - 2024 ISSA 17th Annual Winter Nationals
X-WR-CALDESC:QuickScores game calendar
X-PUBLISHED-TTL:PT24H
REFRESH-INTERVAL;VALUE=DURATION:PT24H
CALSCALE:GREGORIAN
BEGIN:VTIMEZONE
TZID:America/New_York
X-LIC-LOCATION:America/New_York
BEGIN:DAYLIGHT
TZNAME:EDT
TZOFFSETFROM:-0500
TZOFFSETTO:-0400
DTSTART:19700308T020000
RRULE:FREQ=YEARLY;BYMONTH=3;BYDAY=2SU
END:DAYLIGHT
BEGIN:STANDARD
TZNAME:EST
TZOFFSETFROM:-0400
TZOFFSETTO:-0500
DTSTART:19701101T020000
RRULE:FREQ=YEARLY;BYMONTH=11;BYDAY=1SU
END:STANDARD
END:VTIMEZONE
BEGIN:VEVENT
UID:issa-65512744-20241002T123000@quickscores.com
DTSTAMP:20260425T092900Z
DTSTART;TZID=America/New_York:20241002T123000
DURATION:PT1H30M0S
SUMMARY:[4] Springford 70s vs. [5] Jag-One Jersey Masters Red
DESCRIPTION:Men 70 Aaa - International Senior Softball Association<br>ISSA
LOCATION:R 2
CATEGORIES:QuickScores, Softball Game
TRANSP:OPAQUE
BEGIN:VALARM
TRIGGER:-PT2H
ACTION:DISPLAY
DESCRIPTION:[4] Springford 70s vs. [5] Jag-One Jersey Masters Red
END:VALARM
END:VEVENT
BEGIN:VEVENT
UID:issa-65512747-20241002T140000@quickscores.com
DTSTAMP:20260425T092900Z
DTSTART;TZID=America/New_York:20241002T140000
DURATION:PT1H30M0S
SUMMARY:[1] Buddy’s Tidewater 70’s vs. [4] Springford 70s
DESCRIPTION:Men 70 Aaa - International Senior Softball Association<br>ISSA
LOCATION:R 2
CATEGORIES:QuickScores, Softball Game
TRANSP:OPAQUE
BEGIN:VALARM
TRIGGER:-PT2H
ACTION:DISPLAY
DESCRIPTION:[1] Buddy’s Tidewater 70’s vs. [4] Springford 70s
END:VALARM
END:VEVENT
BEGIN:VEVENT
UID:issa-65512748-20241002T140000@quickscores.com
DTSTAMP:20260425T092900Z
DTSTART;TZID=America/New_York:20241002T140000
DURATION:PT1H30M0S
SUMMARY:[2] Simmons Day Allstars 70s vs. [3] Louisville OGs
DESCRIPTION:Men 70 Aaa - International Senior Softball Association<br>ISSA
LOCATION:R 4
CATEGORIES:QuickScores, Softball Game
TRANSP:OPAQUE
BEGIN:VALARM
TRIGGER:-PT2H
ACTION:DISPLAY
DESCRIPTION:[2] Simmons Day Allstars 70s vs. [3] Louisville OGs
END:VALARM
END:VEVENT
BEGIN:VEVENT
UID:issa-65512751-20241002T153000@quickscores.com
DTSTAMP:20260425T092900Z
DTSTART;TZID=America/New_York:20241002T153000
DURATION:PT1H30M0S
SUMMARY:[3] Louisville OGs vs. [5] Jag-One Jersey Masters Red
DESCRIPTION:Men 70 Aaa - International Senior Softball Association<br>ISSA
LOCATION:R 4
CATEGORIES:QuickScores, Softball Game
TRANSP:OPAQUE
BEGIN:VALARM
TRIGGER:-PT2H
ACTION:DISPLAY
DESCRIPTION:[3] Louisville OGs vs. [5] Jag-One Jersey Masters Red
END:VALARM
END:VEVENT
BEGIN:VEVENT
UID:issa-65512753-20241002T170000@quickscores.com
DTSTAMP:20260425T092900Z
DTSTART;TZID=America/New_York:20241002T170000
DURATION:PT1H30M0S
SUMMARY:[4] Springford 70s vs. [2] Simmons Day Allstars 70s
DESCRIPTION:Men 70 Aaa - International Senior Softball Association<br>ISSA
LOCATION:R 4
CATEGORIES:QuickScores, Softball Game
TRANSP:OPAQUE
BEGIN:VALARM
TRIGGER:-PT2H
ACTION:DISPLAY
DESCRIPTION:[4] Springford 70s vs. [2] Simmons Day Allstars 70s
END:VALARM
END:VEVENT
BEGIN:VEVENT
UID:issa-65512754-20241003T083000@quickscores.com
DTSTAMP:20260425T092900Z
DTSTART;TZID=America/New_York:20241003T083000
DURATION:PT1H30M0S
SUMMARY:[3] Louisville OGs vs. [1] Buddy’s Tidewater 70’s
DESCRIPTION:Men 70 Aaa - International Senior Softball Association<br>ISSA
LOCATION:R 4
CATEGORIES:QuickScores, Softball Game
TRANSP:OPAQUE
BEGIN:VALARM
TRIGGER:-PT2H
ACTION:DISPLAY
DESCRIPTION:[3] Louisville OGs vs. [1] Buddy’s Tidewater 70’s
END:VALARM
END:VEVENT
BEGIN:VEVENT
UID:issa-65512755-20241003T100000@quickscores.com
DTSTAMP:20260425T092900Z
DTSTART;TZID=America/New_York:20241003T100000
DURATION:PT1H30M0S
SUMMARY:[2] Simmons Day Allstars 70s vs. [3] Louisville OGs
DESCRIPTION:Men 70 Aaa - International Senior Softball Association<br>ISSA
LOCATION:R 4
CATEGORIES:QuickScores, Softball Game
TRANSP:OPAQUE
BEGIN:VALARM
TRIGGER:-PT2H
ACTION:DISPLAY
DESCRIPTION:[2] Simmons Day Allstars 70s vs. [3] Louisville OGs
END:VALARM
END:VEVENT
BEGIN:VEVENT
UID:issa-65512756-20241003T113000@quickscores.com
DTSTAMP:20260425T092900Z
DTSTART;TZID=America/New_York:20241003T113000
DURATION:PT1H30M0S
SUMMARY:[4] Springford 70s vs. [2] Simmons Day Allstars 70s
DESCRIPTION:Men 70 Aaa - International Senior Softball Association<br>ISSA
LOCATION:R 4
CATEGORIES:QuickScores, Softball Game
TRANSP:OPAQUE
BEGIN:VALARM
TRIGGER:-PT2H
ACTION:DISPLAY
DESCRIPTION:[4] Springford 70s vs. [2] Simmons Day Allstars 70s
END:VALARM
END:VEVENT
END:VCALENDAR
