BEGIN:VCALENDAR
VERSION:2.0
PRODID:-//QuickScores.com//BQ Dynamic iCal Creator//EN
METHOD:PUBLISH
X-WR-CALNAME:Eayfl Freshmen - Fall 2024
X-WR-CALDESC:QuickScores game calendar
X-PUBLISHED-TTL:PT24H
REFRESH-INTERVAL;VALUE=DURATION:PT24H
CALSCALE:GREGORIAN
BEGIN:VTIMEZONE
TZID:America/Chicago
X-LIC-LOCATION:America/Chicago
BEGIN:DAYLIGHT
TZNAME:CDT
TZOFFSETFROM:-0600
TZOFFSETTO:-0500
DTSTART:19700308T020000
RRULE:FREQ=YEARLY;BYMONTH=3;BYDAY=2SU
END:DAYLIGHT
BEGIN:STANDARD
TZNAME:CST
TZOFFSETFROM:-0500
TZOFFSETTO:-0600
DTSTART:19701101T020000
RRULE:FREQ=YEARLY;BYMONTH=11;BYDAY=1SU
END:STANDARD
END:VTIMEZONE
BEGIN:VEVENT
UID:eayfl-65258480-20240907T090000@quickscores.com
DTSTAMP:20260425T192800Z
DTSTART;TZID=America/Chicago:20240907T090000
DURATION:PT1H0M0S
SUMMARY:Camp Hill vs. Wetumpka
DESCRIPTION:Eayfl Freshmen - East Alabama Youth Football League (EAYFL)
LOCATION:Wetumpka
CATEGORIES:QuickScores, Football Game
TRANSP:OPAQUE
BEGIN:VALARM
TRIGGER:-PT2H
ACTION:DISPLAY
DESCRIPTION:Camp Hill vs. Wetumpka
END:VALARM
END:VEVENT
BEGIN:VEVENT
UID:eayfl-65258481-20240907T090000@quickscores.com
DTSTAMP:20260425T192800Z
DTSTART;TZID=America/Chicago:20240907T090000
DURATION:PT1H0M0S
SUMMARY:Tallassee vs. Reeltown
DESCRIPTION:Eayfl Freshmen - East Alabama Youth Football League (EAYFL)
LOCATION:Reeltown
CATEGORIES:QuickScores, Football Game
TRANSP:OPAQUE
BEGIN:VALARM
TRIGGER:-PT2H
ACTION:DISPLAY
DESCRIPTION:Tallassee vs. Reeltown
END:VALARM
END:VEVENT
BEGIN:VEVENT
UID:eayfl-65258482-20240907T090000@quickscores.com
DTSTAMP:20260425T192800Z
DTSTART;TZID=America/Chicago:20240907T090000
DURATION:PT1H0M0S
SUMMARY:Macon County vs. Dadeville
DESCRIPTION:Eayfl Freshmen - East Alabama Youth Football League (EAYFL)
LOCATION:Dadeville
CATEGORIES:QuickScores, Football Game
TRANSP:OPAQUE
BEGIN:VALARM
TRIGGER:-PT2H
ACTION:DISPLAY
DESCRIPTION:Macon County vs. Dadeville
END:VALARM
END:VEVENT
BEGIN:VEVENT
UID:eayfl-65258484-20240914T090000@quickscores.com
DTSTAMP:20260425T192800Z
DTSTART;TZID=America/Chicago:20240914T090000
DURATION:PT1H0M0S
SUMMARY:Bullock County vs. Wetumpka
DESCRIPTION:Eayfl Freshmen - East Alabama Youth Football League (EAYFL)
LOCATION:Wetumpka
CATEGORIES:QuickScores, Football Game
TRANSP:OPAQUE
BEGIN:VALARM
TRIGGER:-PT2H
ACTION:DISPLAY
DESCRIPTION:Bullock County vs. Wetumpka
END:VALARM
END:VEVENT
BEGIN:VEVENT
UID:eayfl-65258485-20240914T090000@quickscores.com
DTSTAMP:20260425T192800Z
DTSTART;TZID=America/Chicago:20240914T090000
DURATION:PT1H0M0S
SUMMARY:Reeltown vs. Camp Hill
DESCRIPTION:Eayfl Freshmen - East Alabama Youth Football League (EAYFL)
LOCATION:Camp Hill
CATEGORIES:QuickScores, Football Game
TRANSP:OPAQUE
BEGIN:VALARM
TRIGGER:-PT2H
ACTION:DISPLAY
DESCRIPTION:Reeltown vs. Camp Hill
END:VALARM
END:VEVENT
BEGIN:VEVENT
UID:eayfl-65258486-20240914T090000@quickscores.com
DTSTAMP:20260425T192800Z
DTSTART;TZID=America/Chicago:20240914T090000
DURATION:PT1H0M0S
SUMMARY:Dadeville vs. Tallassee
DESCRIPTION:Eayfl Freshmen - East Alabama Youth Football League (EAYFL)
LOCATION:Tallassee
CATEGORIES:QuickScores, Football Game
TRANSP:OPAQUE
BEGIN:VALARM
TRIGGER:-PT2H
ACTION:DISPLAY
DESCRIPTION:Dadeville vs. Tallassee
END:VALARM
END:VEVENT
BEGIN:VEVENT
UID:eayfl-65258490-20240921T090000@quickscores.com
DTSTAMP:20260425T192800Z
DTSTART;TZID=America/Chicago:20240921T090000
DURATION:PT1H0M0S
SUMMARY:Camp Hill vs. Tallassee
DESCRIPTION:Eayfl Freshmen - East Alabama Youth Football League (EAYFL)
LOCATION:Tallassee
CATEGORIES:QuickScores, Football Game
TRANSP:OPAQUE
BEGIN:VALARM
TRIGGER:-PT2H
ACTION:DISPLAY
DESCRIPTION:Camp Hill vs. Tallassee
END:VALARM
END:VEVENT
BEGIN:VEVENT
UID:eayfl-65258489-20240921T090000@quickscores.com
DTSTAMP:20260425T192800Z
DTSTART;TZID=America/Chicago:20240921T090000
DURATION:PT1H0M0S
SUMMARY:Wetumpka vs. Reeltown
DESCRIPTION:Eayfl Freshmen - East Alabama Youth Football League (EAYFL)
LOCATION:Reeltown
CATEGORIES:QuickScores, Football Game
TRANSP:OPAQUE
BEGIN:VALARM
TRIGGER:-PT2H
ACTION:DISPLAY
DESCRIPTION:Wetumpka vs. Reeltown
END:VALARM
END:VEVENT
BEGIN:VEVENT
UID:eayfl-65258488-20240921T090000@quickscores.com
DTSTAMP:20260425T192800Z
DTSTART;TZID=America/Chicago:20240921T090000
DURATION:PT1H0M0S
SUMMARY:Bullock County vs. Macon County
DESCRIPTION:Eayfl Freshmen - East Alabama Youth Football League (EAYFL)
LOCATION:Macon County
CATEGORIES:QuickScores, Football Game
TRANSP:OPAQUE
BEGIN:VALARM
TRIGGER:-PT2H
ACTION:DISPLAY
DESCRIPTION:Bullock County vs. Macon County
END:VALARM
END:VEVENT
BEGIN:VEVENT
UID:eayfl-65258492-20240928T090000@quickscores.com
DTSTAMP:20260425T192800Z
DTSTART;TZID=America/Chicago:20240928T090000
DURATION:PT1H0M0S
SUMMARY:Camp Hill vs. Bullock County
DESCRIPTION:Eayfl Freshmen - East Alabama Youth Football League (EAYFL)
LOCATION:Bullock County
CATEGORIES:QuickScores, Football Game
TRANSP:OPAQUE
BEGIN:VALARM
TRIGGER:-PT2H
ACTION:DISPLAY
DESCRIPTION:Camp Hill vs. Bullock County
END:VALARM
END:VEVENT
BEGIN:VEVENT
UID:eayfl-65258493-20240928T090000@quickscores.com
DTSTAMP:20260425T192800Z
DTSTART;TZID=America/Chicago:20240928T090000
DURATION:PT1H0M0S
SUMMARY:Wetumpka vs. Macon County
DESCRIPTION:Eayfl Freshmen - East Alabama Youth Football League (EAYFL)
LOCATION:Macon County
CATEGORIES:QuickScores, Football Game
TRANSP:OPAQUE
BEGIN:VALARM
TRIGGER:-PT2H
ACTION:DISPLAY
DESCRIPTION:Wetumpka vs. Macon County
END:VALARM
END:VEVENT
BEGIN:VEVENT
UID:eayfl-65258494-20240928T090000@quickscores.com
DTSTAMP:20260425T192800Z
DTSTART;TZID=America/Chicago:20240928T090000
DURATION:PT1H0M0S
SUMMARY:Reeltown vs. Dadeville
DESCRIPTION:Eayfl Freshmen - East Alabama Youth Football League (EAYFL)
LOCATION:Dadeville
CATEGORIES:QuickScores, Football Game
TRANSP:OPAQUE
BEGIN:VALARM
TRIGGER:-PT2H
ACTION:DISPLAY
DESCRIPTION:Reeltown vs. Dadeville
END:VALARM
END:VEVENT
BEGIN:VEVENT
UID:eayfl-65258498-20241005T090000@quickscores.com
DTSTAMP:20260425T192800Z
DTSTART;TZID=America/Chicago:20241005T090000
DURATION:PT1H0M0S
SUMMARY:Macon County vs. Camp Hill
DESCRIPTION:Eayfl Freshmen - East Alabama Youth Football League (EAYFL)
LOCATION:Camp Hill
CATEGORIES:QuickScores, Football Game
TRANSP:OPAQUE
BEGIN:VALARM
TRIGGER:-PT2H
ACTION:DISPLAY
DESCRIPTION:Macon County vs. Camp Hill
END:VALARM
END:VEVENT
BEGIN:VEVENT
UID:eayfl-65258497-20241005T090000@quickscores.com
DTSTAMP:20260425T192800Z
DTSTART;TZID=America/Chicago:20241005T090000
DURATION:PT1H0M0S
SUMMARY:Tallassee vs. Wetumpka
DESCRIPTION:Eayfl Freshmen - East Alabama Youth Football League (EAYFL)
LOCATION:Wetumpka
CATEGORIES:QuickScores, Football Game
TRANSP:OPAQUE
BEGIN:VALARM
TRIGGER:-PT2H
ACTION:DISPLAY
DESCRIPTION:Tallassee vs. Wetumpka
END:VALARM
END:VEVENT
BEGIN:VEVENT
UID:eayfl-65258496-20241005T090000@quickscores.com
DTSTAMP:20260425T192800Z
DTSTART;TZID=America/Chicago:20241005T090000
DURATION:PT1H0M0S
SUMMARY:Dadeville vs. Bullock County
DESCRIPTION:Eayfl Freshmen - East Alabama Youth Football League (EAYFL)
LOCATION:Bullock County
CATEGORIES:QuickScores, Football Game
TRANSP:OPAQUE
BEGIN:VALARM
TRIGGER:-PT2H
ACTION:DISPLAY
DESCRIPTION:Dadeville vs. Bullock County
END:VALARM
END:VEVENT
BEGIN:VEVENT
UID:eayfl-65258500-20241012T090000@quickscores.com
DTSTAMP:20260425T192800Z
DTSTART;TZID=America/Chicago:20241012T090000
DURATION:PT1H0M0S
SUMMARY:Macon County vs. Reeltown
DESCRIPTION:Eayfl Freshmen - East Alabama Youth Football League (EAYFL)
LOCATION:Reeltown
CATEGORIES:QuickScores, Football Game
TRANSP:OPAQUE
BEGIN:VALARM
TRIGGER:-PT2H
ACTION:DISPLAY
DESCRIPTION:Macon County vs. Reeltown
END:VALARM
END:VEVENT
BEGIN:VEVENT
UID:eayfl-65258501-20241012T090000@quickscores.com
DTSTAMP:20260425T192800Z
DTSTART;TZID=America/Chicago:20241012T090000
DURATION:PT1H0M0S
SUMMARY:Bullock County vs. Tallassee
DESCRIPTION:Eayfl Freshmen - East Alabama Youth Football League (EAYFL)
LOCATION:Tallassee
CATEGORIES:QuickScores, Football Game
TRANSP:OPAQUE
BEGIN:VALARM
TRIGGER:-PT2H
ACTION:DISPLAY
DESCRIPTION:Bullock County vs. Tallassee
END:VALARM
END:VEVENT
BEGIN:VEVENT
UID:eayfl-65258502-20241012T090000@quickscores.com
DTSTAMP:20260425T192800Z
DTSTART;TZID=America/Chicago:20241012T090000
DURATION:PT1H0M0S
SUMMARY:Dadeville vs. Camp Hill
DESCRIPTION:Eayfl Freshmen - East Alabama Youth Football League (EAYFL)
LOCATION:Camp Hill
CATEGORIES:QuickScores, Football Game
TRANSP:OPAQUE
BEGIN:VALARM
TRIGGER:-PT2H
ACTION:DISPLAY
DESCRIPTION:Dadeville vs. Camp Hill
END:VALARM
END:VEVENT
BEGIN:VEVENT
UID:eayfl-65258506-20241019T090000@quickscores.com
DTSTAMP:20260425T192800Z
DTSTART;TZID=America/Chicago:20241019T090000
DURATION:PT1H0M0S
SUMMARY:Tallassee vs. Macon County
DESCRIPTION:Eayfl Freshmen - East Alabama Youth Football League (EAYFL)
LOCATION:Macon County
CATEGORIES:QuickScores, Football Game
TRANSP:OPAQUE
BEGIN:VALARM
TRIGGER:-PT2H
ACTION:DISPLAY
DESCRIPTION:Tallassee vs. Macon County
END:VALARM
END:VEVENT
BEGIN:VEVENT
UID:eayfl-65258505-20241019T090000@quickscores.com
DTSTAMP:20260425T192800Z
DTSTART;TZID=America/Chicago:20241019T090000
DURATION:PT1H0M0S
SUMMARY:Reeltown vs. Bullock County
DESCRIPTION:Eayfl Freshmen - East Alabama Youth Football League (EAYFL)
LOCATION:Bullock County
CATEGORIES:QuickScores, Football Game
TRANSP:OPAQUE
BEGIN:VALARM
TRIGGER:-PT2H
ACTION:DISPLAY
DESCRIPTION:Reeltown vs. Bullock County
END:VALARM
END:VEVENT
BEGIN:VEVENT
UID:eayfl-65258504-20241019T090000@quickscores.com
DTSTAMP:20260425T192800Z
DTSTART;TZID=America/Chicago:20241019T090000
DURATION:PT1H0M0S
SUMMARY:Wetumpka vs. Dadeville
DESCRIPTION:Eayfl Freshmen - East Alabama Youth Football League (EAYFL)
LOCATION:Dadeville
CATEGORIES:QuickScores, Football Game
TRANSP:OPAQUE
BEGIN:VALARM
TRIGGER:-PT2H
ACTION:DISPLAY
DESCRIPTION:Wetumpka vs. Dadeville
END:VALARM
END:VEVENT
BEGIN:VEVENT
UID:eayfl-65499857-20241102T080000@quickscores.com
DTSTAMP:20260425T192800Z
DTSTART;TZID=America/Chicago:20241102T080000
DURATION:PT1H0M0S
SUMMARY:[4] Tallassee vs. [5] Wetumpka
DESCRIPTION:Eayfl Freshmen - East Alabama Youth Football League (EAYFL)
LOCATION:Notasulga H.S Field
CATEGORIES:QuickScores, Football Game
TRANSP:OPAQUE
BEGIN:VALARM
TRIGGER:-PT2H
ACTION:DISPLAY
DESCRIPTION:[4] Tallassee vs. [5] Wetumpka
END:VALARM
END:VEVENT
BEGIN:VEVENT
UID:eayfl-65499858-20241102T090000@quickscores.com
DTSTAMP:20260425T192800Z
DTSTART;TZID=America/Chicago:20241102T090000
DURATION:PT1H0M0S
SUMMARY:[2] Camp Hill vs. [7] Bullock County
DESCRIPTION:Eayfl Freshmen - East Alabama Youth Football League (EAYFL)
LOCATION:Notasulga H.S Field
CATEGORIES:QuickScores, Football Game
TRANSP:OPAQUE
BEGIN:VALARM
TRIGGER:-PT2H
ACTION:DISPLAY
DESCRIPTION:[2] Camp Hill vs. [7] Bullock County
END:VALARM
END:VEVENT
BEGIN:VEVENT
UID:eayfl-65499859-20241102T100000@quickscores.com
DTSTAMP:20260425T192800Z
DTSTART;TZID=America/Chicago:20241102T100000
DURATION:PT1H0M0S
SUMMARY:[3] Dadeville vs. [6] Macon County
DESCRIPTION:Eayfl Freshmen - East Alabama Youth Football League (EAYFL)
LOCATION:Notasulga H.S Field
CATEGORIES:QuickScores, Football Game
TRANSP:OPAQUE
BEGIN:VALARM
TRIGGER:-PT2H
ACTION:DISPLAY
DESCRIPTION:[3] Dadeville vs. [6] Macon County
END:VALARM
END:VEVENT
BEGIN:VEVENT
UID:eayfl-65499861-20241109T080000@quickscores.com
DTSTAMP:20260425T192800Z
DTSTART;TZID=America/Chicago:20241109T080000
DURATION:PT1H0M0S
SUMMARY:[2] Camp Hill vs. [6] Macon County
DESCRIPTION:Eayfl Freshmen - East Alabama Youth Football League (EAYFL)
LOCATION:Notasulga H.S Field
CATEGORIES:QuickScores, Football Game
TRANSP:OPAQUE
BEGIN:VALARM
TRIGGER:-PT2H
ACTION:DISPLAY
DESCRIPTION:[2] Camp Hill vs. [6] Macon County
END:VALARM
END:VEVENT
BEGIN:VEVENT
UID:eayfl-65499860-20241109T090000@quickscores.com
DTSTAMP:20260425T192800Z
DTSTART;TZID=America/Chicago:20241109T090000
DURATION:PT1H0M0S
SUMMARY:[1] Reeltown vs. [4] Tallassee
DESCRIPTION:Eayfl Freshmen - East Alabama Youth Football League (EAYFL)
LOCATION:Notasulga H.S Field
CATEGORIES:QuickScores, Football Game
TRANSP:OPAQUE
BEGIN:VALARM
TRIGGER:-PT2H
ACTION:DISPLAY
DESCRIPTION:[1] Reeltown vs. [4] Tallassee
END:VALARM
END:VEVENT
BEGIN:VEVENT
UID:eayfl-65499862-20241116T130000@quickscores.com
DTSTAMP:20260425T192800Z
DTSTART;TZID=America/Chicago:20241116T130000
DURATION:PT1H0M0S
SUMMARY:[1] Reeltown vs. [2] Camp Hill
DESCRIPTION:Eayfl Freshmen - East Alabama Youth Football League (EAYFL)
LOCATION:Dadeville
CATEGORIES:QuickScores, Football Game
TRANSP:OPAQUE
BEGIN:VALARM
TRIGGER:-PT2H
ACTION:DISPLAY
DESCRIPTION:[1] Reeltown vs. [2] Camp Hill
END:VALARM
END:VEVENT
END:VCALENDAR
