BEGIN:VCALENDAR
VERSION:2.0
PRODID:-//QuickScores.com//BQ Dynamic iCal Creator//EN
METHOD:PUBLISH
X-WR-CALNAME:Monday D - 2024 Fall Basketball League
X-WR-CALDESC:QuickScores game calendar
X-PUBLISHED-TTL:PT24H
REFRESH-INTERVAL;VALUE=DURATION:PT24H
CALSCALE:GREGORIAN
BEGIN:VTIMEZONE
TZID:America/Los_Angeles
X-LIC-LOCATION:America/Los_Angeles
BEGIN:DAYLIGHT
TZNAME:PDT
TZOFFSETFROM:-0800
TZOFFSETTO:-0700
DTSTART:19700308T020000
RRULE:FREQ=YEARLY;BYMONTH=3;BYDAY=2SU
END:DAYLIGHT
BEGIN:STANDARD
TZNAME:PST
TZOFFSETFROM:-0700
TZOFFSETTO:-0800
DTSTART:19701101T020000
RRULE:FREQ=YEARLY;BYMONTH=11;BYDAY=1SU
END:STANDARD
END:VTIMEZONE
BEGIN:VEVENT
UID:crpd-64715616-20240826T183000@quickscores.com
DTSTAMP:20260421T070400Z
DTSTART;TZID=America/Los_Angeles:20240826T183000
DURATION:PT1H0M0S
SUMMARY:Rim Rattlers vs. Beerlicious
DESCRIPTION:Monday D - Conejo Recreation and Park District
LOCATION:Thousand Oaks Community Center
CATEGORIES:QuickScores, Basketball - Adult Game
TRANSP:OPAQUE
BEGIN:VALARM
TRIGGER:-PT2H
ACTION:DISPLAY
DESCRIPTION:Rim Rattlers vs. Beerlicious
END:VALARM
END:VEVENT
BEGIN:VEVENT
UID:crpd-64715615-20240826T193000@quickscores.com
DTSTAMP:20260421T070400Z
DTSTART;TZID=America/Los_Angeles:20240826T193000
DURATION:PT1H0M0S
SUMMARY:The Boyz vs. Ballers
DESCRIPTION:Monday D - Conejo Recreation and Park District
LOCATION:Thousand Oaks Community Center
CATEGORIES:QuickScores, Basketball - Adult Game
TRANSP:OPAQUE
BEGIN:VALARM
TRIGGER:-PT2H
ACTION:DISPLAY
DESCRIPTION:The Boyz vs. Ballers
END:VALARM
END:VEVENT
BEGIN:VEVENT
UID:crpd-64715614-20240826T203000@quickscores.com
DTSTAMP:20260421T070400Z
DTSTART;TZID=America/Los_Angeles:20240826T203000
DURATION:PT1H0M0S
SUMMARY:OP Homies vs. Flashes
DESCRIPTION:Monday D - Conejo Recreation and Park District
LOCATION:Thousand Oaks Community Center
CATEGORIES:QuickScores, Basketball - Adult Game
TRANSP:OPAQUE
BEGIN:VALARM
TRIGGER:-PT2H
ACTION:DISPLAY
DESCRIPTION:OP Homies vs. Flashes
END:VALARM
END:VEVENT
BEGIN:VEVENT
UID:crpd-64715618-20240909T183000@quickscores.com
DTSTAMP:20260421T070400Z
DTSTART;TZID=America/Los_Angeles:20240909T183000
DURATION:PT1H0M0S
SUMMARY:The Boyz vs. TO Soft
DESCRIPTION:Monday D - Conejo Recreation and Park District
LOCATION:Thousand Oaks Community Center
CATEGORIES:QuickScores, Basketball - Adult Game
TRANSP:OPAQUE
BEGIN:VALARM
TRIGGER:-PT2H
ACTION:DISPLAY
DESCRIPTION:The Boyz vs. TO Soft
END:VALARM
END:VEVENT
BEGIN:VEVENT
UID:crpd-64715619-20240909T193000@quickscores.com
DTSTAMP:20260421T070400Z
DTSTART;TZID=America/Los_Angeles:20240909T193000
DURATION:PT1H0M0S
SUMMARY:Rim Rattlers vs. Flashes
DESCRIPTION:Monday D - Conejo Recreation and Park District
LOCATION:Thousand Oaks Community Center
CATEGORIES:QuickScores, Basketball - Adult Game
TRANSP:OPAQUE
BEGIN:VALARM
TRIGGER:-PT2H
ACTION:DISPLAY
DESCRIPTION:Rim Rattlers vs. Flashes
END:VALARM
END:VEVENT
BEGIN:VEVENT
UID:crpd-64715620-20240909T203000@quickscores.com
DTSTAMP:20260421T070400Z
DTSTART;TZID=America/Los_Angeles:20240909T203000
DURATION:PT1H0M0S
SUMMARY:Beerlicious vs. Ballers
DESCRIPTION:Monday D - Conejo Recreation and Park District
LOCATION:Thousand Oaks Community Center
CATEGORIES:QuickScores, Basketball - Adult Game
TRANSP:OPAQUE
BEGIN:VALARM
TRIGGER:-PT2H
ACTION:DISPLAY
DESCRIPTION:Beerlicious vs. Ballers
END:VALARM
END:VEVENT
BEGIN:VEVENT
UID:crpd-64715622-20240916T183000@quickscores.com
DTSTAMP:20260421T070400Z
DTSTART;TZID=America/Los_Angeles:20240916T183000
DURATION:PT1H0M0S
SUMMARY:TO Soft vs. Ballers
DESCRIPTION:Monday D - Conejo Recreation and Park District
LOCATION:Thousand Oaks Community Center
CATEGORIES:QuickScores, Basketball - Adult Game
TRANSP:OPAQUE
BEGIN:VALARM
TRIGGER:-PT2H
ACTION:DISPLAY
DESCRIPTION:TO Soft vs. Ballers
END:VALARM
END:VEVENT
BEGIN:VEVENT
UID:crpd-64715623-20240916T193000@quickscores.com
DTSTAMP:20260421T070400Z
DTSTART;TZID=America/Los_Angeles:20240916T193000
DURATION:PT1H0M0S
SUMMARY:OP Homies vs. Beerlicious
DESCRIPTION:Monday D - Conejo Recreation and Park District
LOCATION:Thousand Oaks Community Center
CATEGORIES:QuickScores, Basketball - Adult Game
TRANSP:OPAQUE
BEGIN:VALARM
TRIGGER:-PT2H
ACTION:DISPLAY
DESCRIPTION:OP Homies vs. Beerlicious
END:VALARM
END:VEVENT
BEGIN:VEVENT
UID:crpd-64715624-20240916T203000@quickscores.com
DTSTAMP:20260421T070400Z
DTSTART;TZID=America/Los_Angeles:20240916T203000
DURATION:PT1H0M0S
SUMMARY:The Boyz vs. Rim Rattlers
DESCRIPTION:Monday D - Conejo Recreation and Park District
LOCATION:Thousand Oaks Community Center
CATEGORIES:QuickScores, Basketball - Adult Game
TRANSP:OPAQUE
BEGIN:VALARM
TRIGGER:-PT2H
ACTION:DISPLAY
DESCRIPTION:The Boyz vs. Rim Rattlers
END:VALARM
END:VEVENT
BEGIN:VEVENT
UID:crpd-64715628-20240923T183000@quickscores.com
DTSTAMP:20260421T070400Z
DTSTART;TZID=America/Los_Angeles:20240923T183000
DURATION:PT1H0M0S
SUMMARY:Ballers vs. Flashes
DESCRIPTION:Monday D - Conejo Recreation and Park District
LOCATION:Thousand Oaks Community Center
CATEGORIES:QuickScores, Basketball - Adult Game
TRANSP:OPAQUE
BEGIN:VALARM
TRIGGER:-PT2H
ACTION:DISPLAY
DESCRIPTION:Ballers vs. Flashes
END:VALARM
END:VEVENT
BEGIN:VEVENT
UID:crpd-64715626-20240923T193000@quickscores.com
DTSTAMP:20260421T070400Z
DTSTART;TZID=America/Los_Angeles:20240923T193000
DURATION:PT1H0M0S
SUMMARY:Rim Rattlers vs. OP Homies
DESCRIPTION:Monday D - Conejo Recreation and Park District
LOCATION:Thousand Oaks Community Center
CATEGORIES:QuickScores, Basketball - Adult Game
TRANSP:OPAQUE
BEGIN:VALARM
TRIGGER:-PT2H
ACTION:DISPLAY
DESCRIPTION:Rim Rattlers vs. OP Homies
END:VALARM
END:VEVENT
BEGIN:VEVENT
UID:crpd-64715627-20240923T203000@quickscores.com
DTSTAMP:20260421T070400Z
DTSTART;TZID=America/Los_Angeles:20240923T203000
DURATION:PT1H0M0S
SUMMARY:Beerlicious vs. TO Soft
DESCRIPTION:Monday D - Conejo Recreation and Park District
LOCATION:Thousand Oaks Community Center
CATEGORIES:QuickScores, Basketball - Adult Game
TRANSP:OPAQUE
BEGIN:VALARM
TRIGGER:-PT2H
ACTION:DISPLAY
DESCRIPTION:Beerlicious vs. TO Soft
END:VALARM
END:VEVENT
BEGIN:VEVENT
UID:crpd-64715631-20240930T183000@quickscores.com
DTSTAMP:20260421T070400Z
DTSTART;TZID=America/Los_Angeles:20240930T183000
DURATION:PT1H0M0S
SUMMARY:Rim Rattlers vs. TO Soft
DESCRIPTION:Monday D - Conejo Recreation and Park District
LOCATION:Thousand Oaks Community Center
CATEGORIES:QuickScores, Basketball - Adult Game
TRANSP:OPAQUE
BEGIN:VALARM
TRIGGER:-PT2H
ACTION:DISPLAY
DESCRIPTION:Rim Rattlers vs. TO Soft
END:VALARM
END:VEVENT
BEGIN:VEVENT
UID:crpd-64715630-20240930T193000@quickscores.com
DTSTAMP:20260421T070400Z
DTSTART;TZID=America/Los_Angeles:20240930T193000
DURATION:PT1H0M0S
SUMMARY:Flashes vs. Beerlicious
DESCRIPTION:Monday D - Conejo Recreation and Park District
LOCATION:Thousand Oaks Community Center
CATEGORIES:QuickScores, Basketball - Adult Game
TRANSP:OPAQUE
BEGIN:VALARM
TRIGGER:-PT2H
ACTION:DISPLAY
DESCRIPTION:Flashes vs. Beerlicious
END:VALARM
END:VEVENT
BEGIN:VEVENT
UID:crpd-64715632-20240930T203000@quickscores.com
DTSTAMP:20260421T070400Z
DTSTART;TZID=America/Los_Angeles:20240930T203000
DURATION:PT1H0M0S
SUMMARY:The Boyz vs. OP Homies
DESCRIPTION:Monday D - Conejo Recreation and Park District
LOCATION:Thousand Oaks Community Center
CATEGORIES:QuickScores, Basketball - Adult Game
TRANSP:OPAQUE
BEGIN:VALARM
TRIGGER:-PT2H
ACTION:DISPLAY
DESCRIPTION:The Boyz vs. OP Homies
END:VALARM
END:VEVENT
BEGIN:VEVENT
UID:crpd-64715634-20241007T183000@quickscores.com
DTSTAMP:20260421T070400Z
DTSTART;TZID=America/Los_Angeles:20241007T183000
DURATION:PT1H0M0S
SUMMARY:Beerlicious vs. The Boyz
DESCRIPTION:Monday D - Conejo Recreation and Park District
LOCATION:Thousand Oaks Community Center
CATEGORIES:QuickScores, Basketball - Adult Game
TRANSP:OPAQUE
BEGIN:VALARM
TRIGGER:-PT2H
ACTION:DISPLAY
DESCRIPTION:Beerlicious vs. The Boyz
END:VALARM
END:VEVENT
BEGIN:VEVENT
UID:crpd-64715635-20241007T193000@quickscores.com
DTSTAMP:20260421T070400Z
DTSTART;TZID=America/Los_Angeles:20241007T193000
DURATION:PT1H0M0S
SUMMARY:OP Homies vs. Ballers
DESCRIPTION:Monday D - Conejo Recreation and Park District
LOCATION:Thousand Oaks Community Center
CATEGORIES:QuickScores, Basketball - Adult Game
TRANSP:OPAQUE
BEGIN:VALARM
TRIGGER:-PT2H
ACTION:DISPLAY
DESCRIPTION:OP Homies vs. Ballers
END:VALARM
END:VEVENT
BEGIN:VEVENT
UID:crpd-64715636-20241007T203000@quickscores.com
DTSTAMP:20260421T070400Z
DTSTART;TZID=America/Los_Angeles:20241007T203000
DURATION:PT1H0M0S
SUMMARY:TO Soft vs. Flashes
DESCRIPTION:Monday D - Conejo Recreation and Park District
LOCATION:Thousand Oaks Community Center
CATEGORIES:QuickScores, Basketball - Adult Game
TRANSP:OPAQUE
BEGIN:VALARM
TRIGGER:-PT2H
ACTION:DISPLAY
DESCRIPTION:TO Soft vs. Flashes
END:VALARM
END:VEVENT
BEGIN:VEVENT
UID:crpd-64715638-20241014T183000@quickscores.com
DTSTAMP:20260421T070400Z
DTSTART;TZID=America/Los_Angeles:20241014T183000
DURATION:PT1H0M0S
SUMMARY:Ballers vs. Rim Rattlers
DESCRIPTION:Monday D - Conejo Recreation and Park District
LOCATION:Thousand Oaks Community Center
CATEGORIES:QuickScores, Basketball - Adult Game
TRANSP:OPAQUE
BEGIN:VALARM
TRIGGER:-PT2H
ACTION:DISPLAY
DESCRIPTION:Ballers vs. Rim Rattlers
END:VALARM
END:VEVENT
BEGIN:VEVENT
UID:crpd-64715639-20241014T193000@quickscores.com
DTSTAMP:20260421T070400Z
DTSTART;TZID=America/Los_Angeles:20241014T193000
DURATION:PT1H0M0S
SUMMARY:Flashes vs. The Boyz
DESCRIPTION:Monday D - Conejo Recreation and Park District
LOCATION:Thousand Oaks Community Center
CATEGORIES:QuickScores, Basketball - Adult Game
TRANSP:OPAQUE
BEGIN:VALARM
TRIGGER:-PT2H
ACTION:DISPLAY
DESCRIPTION:Flashes vs. The Boyz
END:VALARM
END:VEVENT
BEGIN:VEVENT
UID:crpd-64715640-20241014T203000@quickscores.com
DTSTAMP:20260421T070400Z
DTSTART;TZID=America/Los_Angeles:20241014T203000
DURATION:PT1H0M0S
SUMMARY:TO Soft vs. OP Homies
DESCRIPTION:Monday D - Conejo Recreation and Park District
LOCATION:Thousand Oaks Community Center
CATEGORIES:QuickScores, Basketball - Adult Game
TRANSP:OPAQUE
BEGIN:VALARM
TRIGGER:-PT2H
ACTION:DISPLAY
DESCRIPTION:TO Soft vs. OP Homies
END:VALARM
END:VEVENT
BEGIN:VEVENT
UID:crpd-64715642-20241021T183000@quickscores.com
DTSTAMP:20260421T070400Z
DTSTART;TZID=America/Los_Angeles:20241021T183000
DURATION:PT1H0M0S
SUMMARY:Flashes vs. OP Homies
DESCRIPTION:Monday D - Conejo Recreation and Park District
LOCATION:Thousand Oaks Community Center
CATEGORIES:QuickScores, Basketball - Adult Game
TRANSP:OPAQUE
BEGIN:VALARM
TRIGGER:-PT2H
ACTION:DISPLAY
DESCRIPTION:Flashes vs. OP Homies
END:VALARM
END:VEVENT
BEGIN:VEVENT
UID:crpd-64715643-20241021T193000@quickscores.com
DTSTAMP:20260421T070400Z
DTSTART;TZID=America/Los_Angeles:20241021T193000
DURATION:PT1H0M0S
SUMMARY:Ballers vs. The Boyz
DESCRIPTION:Monday D - Conejo Recreation and Park District
LOCATION:Thousand Oaks Community Center
CATEGORIES:QuickScores, Basketball - Adult Game
TRANSP:OPAQUE
BEGIN:VALARM
TRIGGER:-PT2H
ACTION:DISPLAY
DESCRIPTION:Ballers vs. The Boyz
END:VALARM
END:VEVENT
BEGIN:VEVENT
UID:crpd-64715644-20241021T203000@quickscores.com
DTSTAMP:20260421T070400Z
DTSTART;TZID=America/Los_Angeles:20241021T203000
DURATION:PT1H0M0S
SUMMARY:Beerlicious vs. Rim Rattlers
DESCRIPTION:Monday D - Conejo Recreation and Park District
LOCATION:Thousand Oaks Community Center
CATEGORIES:QuickScores, Basketball - Adult Game
TRANSP:OPAQUE
BEGIN:VALARM
TRIGGER:-PT2H
ACTION:DISPLAY
DESCRIPTION:Beerlicious vs. Rim Rattlers
END:VALARM
END:VEVENT
BEGIN:VEVENT
UID:crpd-64715646-20241028T183000@quickscores.com
DTSTAMP:20260421T070400Z
DTSTART;TZID=America/Los_Angeles:20241028T183000
DURATION:PT1H0M0S
SUMMARY:TO Soft vs. The Boyz
DESCRIPTION:Monday D - Conejo Recreation and Park District
LOCATION:Thousand Oaks Community Center
CATEGORIES:QuickScores, Basketball - Adult Game
TRANSP:OPAQUE
BEGIN:VALARM
TRIGGER:-PT2H
ACTION:DISPLAY
DESCRIPTION:TO Soft vs. The Boyz
END:VALARM
END:VEVENT
BEGIN:VEVENT
UID:crpd-64715647-20241028T193000@quickscores.com
DTSTAMP:20260421T070400Z
DTSTART;TZID=America/Los_Angeles:20241028T193000
DURATION:PT1H0M0S
SUMMARY:Flashes vs. Rim Rattlers
DESCRIPTION:Monday D - Conejo Recreation and Park District
LOCATION:Thousand Oaks Community Center
CATEGORIES:QuickScores, Basketball - Adult Game
TRANSP:OPAQUE
BEGIN:VALARM
TRIGGER:-PT2H
ACTION:DISPLAY
DESCRIPTION:Flashes vs. Rim Rattlers
END:VALARM
END:VEVENT
BEGIN:VEVENT
UID:crpd-64715648-20241028T203000@quickscores.com
DTSTAMP:20260421T070400Z
DTSTART;TZID=America/Los_Angeles:20241028T203000
DURATION:PT1H0M0S
SUMMARY:Ballers vs. Beerlicious
DESCRIPTION:Monday D - Conejo Recreation and Park District
LOCATION:Thousand Oaks Community Center
CATEGORIES:QuickScores, Basketball - Adult Game
TRANSP:OPAQUE
BEGIN:VALARM
TRIGGER:-PT2H
ACTION:DISPLAY
DESCRIPTION:Ballers vs. Beerlicious
END:VALARM
END:VEVENT
BEGIN:VEVENT
UID:crpd-64715651-20241104T183000@quickscores.com
DTSTAMP:20260421T070400Z
DTSTART;TZID=America/Los_Angeles:20241104T183000
DURATION:PT1H0M0S
SUMMARY:Beerlicious vs. OP Homies
DESCRIPTION:Monday D - Conejo Recreation and Park District
LOCATION:Thousand Oaks Community Center
CATEGORIES:QuickScores, Basketball - Adult Game
TRANSP:OPAQUE
BEGIN:VALARM
TRIGGER:-PT2H
ACTION:DISPLAY
DESCRIPTION:Beerlicious vs. OP Homies
END:VALARM
END:VEVENT
BEGIN:VEVENT
UID:crpd-64715650-20241104T193000@quickscores.com
DTSTAMP:20260421T070400Z
DTSTART;TZID=America/Los_Angeles:20241104T193000
DURATION:PT1H0M0S
SUMMARY:Ballers vs. TO Soft
DESCRIPTION:Monday D - Conejo Recreation and Park District
LOCATION:Thousand Oaks Community Center
CATEGORIES:QuickScores, Basketball - Adult Game
TRANSP:OPAQUE
BEGIN:VALARM
TRIGGER:-PT2H
ACTION:DISPLAY
DESCRIPTION:Ballers vs. TO Soft
END:VALARM
END:VEVENT
BEGIN:VEVENT
UID:crpd-64715652-20241104T203000@quickscores.com
DTSTAMP:20260421T070400Z
DTSTART;TZID=America/Los_Angeles:20241104T203000
DURATION:PT1H0M0S
SUMMARY:Rim Rattlers vs. The Boyz
DESCRIPTION:Monday D - Conejo Recreation and Park District
LOCATION:Thousand Oaks Community Center
CATEGORIES:QuickScores, Basketball - Adult Game
TRANSP:OPAQUE
BEGIN:VALARM
TRIGGER:-PT2H
ACTION:DISPLAY
DESCRIPTION:Rim Rattlers vs. The Boyz
END:VALARM
END:VEVENT
BEGIN:VEVENT
UID:crpd-64715654-20241118T183000@quickscores.com
DTSTAMP:20260421T070400Z
DTSTART;TZID=America/Los_Angeles:20241118T183000
DURATION:PT1H0M0S
SUMMARY:OP Homies vs. Rim Rattlers
DESCRIPTION:Monday D - Conejo Recreation and Park District
LOCATION:Thousand Oaks Community Center
CATEGORIES:QuickScores, Basketball - Adult Game
TRANSP:OPAQUE
BEGIN:VALARM
TRIGGER:-PT2H
ACTION:DISPLAY
DESCRIPTION:OP Homies vs. Rim Rattlers
END:VALARM
END:VEVENT
BEGIN:VEVENT
UID:crpd-64715655-20241118T193000@quickscores.com
DTSTAMP:20260421T070400Z
DTSTART;TZID=America/Los_Angeles:20241118T193000
DURATION:PT1H0M0S
SUMMARY:TO Soft vs. Beerlicious
DESCRIPTION:Monday D - Conejo Recreation and Park District
LOCATION:Thousand Oaks Community Center
CATEGORIES:QuickScores, Basketball - Adult Game
TRANSP:OPAQUE
BEGIN:VALARM
TRIGGER:-PT2H
ACTION:DISPLAY
DESCRIPTION:TO Soft vs. Beerlicious
END:VALARM
END:VEVENT
BEGIN:VEVENT
UID:crpd-64715656-20241118T203000@quickscores.com
DTSTAMP:20260421T070400Z
DTSTART;TZID=America/Los_Angeles:20241118T203000
DURATION:PT1H0M0S
SUMMARY:Flashes vs. Ballers
DESCRIPTION:Monday D - Conejo Recreation and Park District
LOCATION:Thousand Oaks Community Center
CATEGORIES:QuickScores, Basketball - Adult Game
TRANSP:OPAQUE
BEGIN:VALARM
TRIGGER:-PT2H
ACTION:DISPLAY
DESCRIPTION:Flashes vs. Ballers
END:VALARM
END:VEVENT
BEGIN:VEVENT
UID:crpd-64715658-20241125T183000@quickscores.com
DTSTAMP:20260421T070400Z
DTSTART;TZID=America/Los_Angeles:20241125T183000
DURATION:PT1H0M0S
SUMMARY:The Boyz vs. Flashes
DESCRIPTION:Monday D - Conejo Recreation and Park District
LOCATION:Thousand Oaks Community Center
CATEGORIES:QuickScores, Basketball - Adult Game
TRANSP:OPAQUE
BEGIN:VALARM
TRIGGER:-PT2H
ACTION:DISPLAY
DESCRIPTION:The Boyz vs. Flashes
END:VALARM
END:VEVENT
BEGIN:VEVENT
UID:crpd-64715659-20241125T193000@quickscores.com
DTSTAMP:20260421T070400Z
DTSTART;TZID=America/Los_Angeles:20241125T193000
DURATION:PT1H0M0S
SUMMARY:OP Homies vs. TO Soft
DESCRIPTION:Monday D - Conejo Recreation and Park District
LOCATION:Thousand Oaks Community Center
CATEGORIES:QuickScores, Basketball - Adult Game
TRANSP:OPAQUE
BEGIN:VALARM
TRIGGER:-PT2H
ACTION:DISPLAY
DESCRIPTION:OP Homies vs. TO Soft
END:VALARM
END:VEVENT
END:VCALENDAR
