BEGIN:VCALENDAR
VERSION:2.0
PRODID:-//QuickScores.com//BQ Dynamic iCal Creator//EN
METHOD:PUBLISH
X-WR-CALNAME:Youth Soccer Practices - 7th/8th Grade Coed - Fall 2024
X-WR-CALDESC:QuickScores game calendar
X-PUBLISHED-TTL:PT24H
REFRESH-INTERVAL;VALUE=DURATION:PT24H
CALSCALE:GREGORIAN
BEGIN:VTIMEZONE
TZID:America/Chicago
X-LIC-LOCATION:America/Chicago
BEGIN:DAYLIGHT
TZNAME:CDT
TZOFFSETFROM:-0600
TZOFFSETTO:-0500
DTSTART:19700308T020000
RRULE:FREQ=YEARLY;BYMONTH=3;BYDAY=2SU
END:DAYLIGHT
BEGIN:STANDARD
TZNAME:CST
TZOFFSETFROM:-0500
TZOFFSETTO:-0600
DTSTART:19701101T020000
RRULE:FREQ=YEARLY;BYMONTH=11;BYDAY=1SU
END:STANDARD
END:VTIMEZONE
BEGIN:VEVENT
UID:csparks-64283862-20240731T180000@quickscores.com
DTSTAMP:20260425T100500Z
DTSTART;TZID=America/Chicago:20240731T180000
DURATION:PT1H30M0S
SUMMARY:Narofsky vs. Narofsky
DESCRIPTION:Youth Soccer Practices - 7th/8th Grade Coed - Carol Stream Park District
LOCATION:Glenbard North - Turf Field - South
CATEGORIES:QuickScores, Facilities Game
TRANSP:OPAQUE
BEGIN:VALARM
TRIGGER:-PT2H
ACTION:DISPLAY
DESCRIPTION:Narofsky vs. Narofsky
END:VALARM
END:VEVENT
BEGIN:VEVENT
UID:csparks-64283872-20240801T183000@quickscores.com
DTSTAMP:20260425T100500Z
DTSTART;TZID=America/Chicago:20240801T183000
DURATION:PT1H30M0S
SUMMARY:Tuhchiev vs. Tuhchiev
DESCRIPTION:Youth Soccer Practices - 7th/8th Grade Coed - Carol Stream Park District
LOCATION:Glenbard North - Turf Field
CATEGORIES:QuickScores, Facilities Game
TRANSP:OPAQUE
BEGIN:VALARM
TRIGGER:-PT2H
ACTION:DISPLAY
DESCRIPTION:Tuhchiev vs. Tuhchiev
END:VALARM
END:VEVENT
BEGIN:VEVENT
UID:csparks-64283817-20240802T173000@quickscores.com
DTSTAMP:20260425T100500Z
DTSTART;TZID=America/Chicago:20240802T173000
DURATION:PT1H0M0S
SUMMARY:Narofsky vs. Narofsky
DESCRIPTION:Youth Soccer Practices - 7th/8th Grade Coed - Carol Stream Park District
LOCATION:Hampe 4 - Lower Soccer
CATEGORIES:QuickScores, Facilities Game
TRANSP:OPAQUE
BEGIN:VALARM
TRIGGER:-PT2H
ACTION:DISPLAY
DESCRIPTION:Narofsky vs. Narofsky
END:VALARM
END:VEVENT
BEGIN:VEVENT
UID:csparks-64283755-20240803T110000@quickscores.com
DTSTAMP:20260425T100500Z
DTSTART;TZID=America/Chicago:20240803T110000
DURATION:PT1H0M0S
SUMMARY:Narofsky vs. Narofsky
DESCRIPTION:Youth Soccer Practices - 7th/8th Grade Coed - Carol Stream Park District
LOCATION:Glenbard North - Turf Field
CATEGORIES:QuickScores, Facilities Game
TRANSP:OPAQUE
BEGIN:VALARM
TRIGGER:-PT2H
ACTION:DISPLAY
DESCRIPTION:Narofsky vs. Narofsky
END:VALARM
END:VEVENT
BEGIN:VEVENT
UID:csparks-64283758-20240803T120000@quickscores.com
DTSTAMP:20260425T100500Z
DTSTART;TZID=America/Chicago:20240803T120000
DURATION:PT1H0M0S
SUMMARY:Tuhchiev vs. Tuhchiev
DESCRIPTION:Youth Soccer Practices - 7th/8th Grade Coed - Carol Stream Park District
LOCATION:Glenbard North - Turf Field
CATEGORIES:QuickScores, Facilities Game
TRANSP:OPAQUE
BEGIN:VALARM
TRIGGER:-PT2H
ACTION:DISPLAY
DESCRIPTION:Tuhchiev vs. Tuhchiev
END:VALARM
END:VEVENT
BEGIN:VEVENT
UID:csparks-64283863-20240807T173000@quickscores.com
DTSTAMP:20260425T100500Z
DTSTART;TZID=America/Chicago:20240807T173000
DURATION:PT1H30M0S
SUMMARY:Narofsky vs. Narofsky
DESCRIPTION:Youth Soccer Practices - 7th/8th Grade Coed - Carol Stream Park District
LOCATION:Red Hawk 3
CATEGORIES:QuickScores, Facilities Game
TRANSP:OPAQUE
BEGIN:VALARM
TRIGGER:-PT2H
ACTION:DISPLAY
DESCRIPTION:Narofsky vs. Narofsky
END:VALARM
END:VEVENT
BEGIN:VEVENT
UID:csparks-64283873-20240808T173000@quickscores.com
DTSTAMP:20260425T100500Z
DTSTART;TZID=America/Chicago:20240808T173000
DURATION:PT1H30M0S
SUMMARY:Tuhchiev vs. Tuhchiev
DESCRIPTION:Youth Soccer Practices - 7th/8th Grade Coed - Carol Stream Park District
LOCATION:Red Hawk 3
CATEGORIES:QuickScores, Facilities Game
TRANSP:OPAQUE
BEGIN:VALARM
TRIGGER:-PT2H
ACTION:DISPLAY
DESCRIPTION:Tuhchiev vs. Tuhchiev
END:VALARM
END:VEVENT
BEGIN:VEVENT
UID:csparks-64283818-20240809T173000@quickscores.com
DTSTAMP:20260425T100500Z
DTSTART;TZID=America/Chicago:20240809T173000
DURATION:PT1H0M0S
SUMMARY:Narofsky vs. Narofsky
DESCRIPTION:Youth Soccer Practices - 7th/8th Grade Coed - Carol Stream Park District
LOCATION:Hampe 4 - Lower Soccer
CATEGORIES:QuickScores, Facilities Game
TRANSP:OPAQUE
BEGIN:VALARM
TRIGGER:-PT2H
ACTION:DISPLAY
DESCRIPTION:Narofsky vs. Narofsky
END:VALARM
END:VEVENT
BEGIN:VEVENT
UID:csparks-64283756-20240810T110000@quickscores.com
DTSTAMP:20260425T100500Z
DTSTART;TZID=America/Chicago:20240810T110000
DURATION:PT1H0M0S
SUMMARY:Narofsky vs. Narofsky
DESCRIPTION:Youth Soccer Practices - 7th/8th Grade Coed - Carol Stream Park District
LOCATION:Glenbard North - Turf Field
CATEGORIES:QuickScores, Facilities Game
TRANSP:OPAQUE
BEGIN:VALARM
TRIGGER:-PT2H
ACTION:DISPLAY
DESCRIPTION:Narofsky vs. Narofsky
END:VALARM
END:VEVENT
BEGIN:VEVENT
UID:csparks-64283757-20240810T120000@quickscores.com
DTSTAMP:20260425T100500Z
DTSTART;TZID=America/Chicago:20240810T120000
DURATION:PT1H0M0S
SUMMARY:Tuhchiev vs. Tuhchiev
DESCRIPTION:Youth Soccer Practices - 7th/8th Grade Coed - Carol Stream Park District
LOCATION:Glenbard North - Turf Field
CATEGORIES:QuickScores, Facilities Game
TRANSP:OPAQUE
BEGIN:VALARM
TRIGGER:-PT2H
ACTION:DISPLAY
DESCRIPTION:Tuhchiev vs. Tuhchiev
END:VALARM
END:VEVENT
BEGIN:VEVENT
UID:csparks-64283864-20240814T180000@quickscores.com
DTSTAMP:20260425T100500Z
DTSTART;TZID=America/Chicago:20240814T180000
DURATION:PT1H30M0S
SUMMARY:Narofsky vs. Narofsky
DESCRIPTION:Youth Soccer Practices - 7th/8th Grade Coed - Carol Stream Park District
LOCATION:Glenbard North - Turf Field - South
CATEGORIES:QuickScores, Facilities Game
TRANSP:OPAQUE
BEGIN:VALARM
TRIGGER:-PT2H
ACTION:DISPLAY
DESCRIPTION:Narofsky vs. Narofsky
END:VALARM
END:VEVENT
BEGIN:VEVENT
UID:csparks-64283874-20240815T173000@quickscores.com
DTSTAMP:20260425T100500Z
DTSTART;TZID=America/Chicago:20240815T173000
DURATION:PT1H30M0S
SUMMARY:Tuhchiev vs. Tuhchiev
DESCRIPTION:Youth Soccer Practices - 7th/8th Grade Coed - Carol Stream Park District
LOCATION:Red Hawk 3
CATEGORIES:QuickScores, Facilities Game
TRANSP:OPAQUE
BEGIN:VALARM
TRIGGER:-PT2H
ACTION:DISPLAY
DESCRIPTION:Tuhchiev vs. Tuhchiev
END:VALARM
END:VEVENT
BEGIN:VEVENT
UID:csparks-64283819-20240816T173000@quickscores.com
DTSTAMP:20260425T100500Z
DTSTART;TZID=America/Chicago:20240816T173000
DURATION:PT1H0M0S
SUMMARY:Narofsky vs. Narofsky
DESCRIPTION:Youth Soccer Practices - 7th/8th Grade Coed - Carol Stream Park District
LOCATION:Hampe 4 - Lower Soccer
CATEGORIES:QuickScores, Facilities Game
TRANSP:OPAQUE
BEGIN:VALARM
TRIGGER:-PT2H
ACTION:DISPLAY
DESCRIPTION:Narofsky vs. Narofsky
END:VALARM
END:VEVENT
BEGIN:VEVENT
UID:csparks-64283865-20240821T180000@quickscores.com
DTSTAMP:20260425T100500Z
DTSTART;TZID=America/Chicago:20240821T180000
DURATION:PT1H30M0S
SUMMARY:Narofsky vs. Narofsky
DESCRIPTION:Youth Soccer Practices - 7th/8th Grade Coed - Carol Stream Park District
LOCATION:Glenbard North - Turf Field - South
CATEGORIES:QuickScores, Facilities Game
TRANSP:OPAQUE
BEGIN:VALARM
TRIGGER:-PT2H
ACTION:DISPLAY
DESCRIPTION:Narofsky vs. Narofsky
END:VALARM
END:VEVENT
BEGIN:VEVENT
UID:csparks-64283875-20240822T173000@quickscores.com
DTSTAMP:20260425T100500Z
DTSTART;TZID=America/Chicago:20240822T173000
DURATION:PT1H30M0S
SUMMARY:Tuhchiev vs. Tuhchiev
DESCRIPTION:Youth Soccer Practices - 7th/8th Grade Coed - Carol Stream Park District
LOCATION:Red Hawk 3
CATEGORIES:QuickScores, Facilities Game
TRANSP:OPAQUE
BEGIN:VALARM
TRIGGER:-PT2H
ACTION:DISPLAY
DESCRIPTION:Tuhchiev vs. Tuhchiev
END:VALARM
END:VEVENT
BEGIN:VEVENT
UID:csparks-64283820-20240823T173000@quickscores.com
DTSTAMP:20260425T100500Z
DTSTART;TZID=America/Chicago:20240823T173000
DURATION:PT1H0M0S
SUMMARY:Narofsky vs. Narofsky
DESCRIPTION:Youth Soccer Practices - 7th/8th Grade Coed - Carol Stream Park District
LOCATION:Hampe 4 - Lower Soccer
CATEGORIES:QuickScores, Facilities Game
TRANSP:OPAQUE
BEGIN:VALARM
TRIGGER:-PT2H
ACTION:DISPLAY
DESCRIPTION:Narofsky vs. Narofsky
END:VALARM
END:VEVENT
BEGIN:VEVENT
UID:csparks-64283866-20240828T183000@quickscores.com
DTSTAMP:20260425T100500Z
DTSTART;TZID=America/Chicago:20240828T183000
DURATION:PT1H30M0S
SUMMARY:Narofsky vs. Narofsky
DESCRIPTION:Youth Soccer Practices - 7th/8th Grade Coed - Carol Stream Park District
LOCATION:Hampe 4 - Lower Soccer
CATEGORIES:QuickScores, Facilities Game
TRANSP:OPAQUE
BEGIN:VALARM
TRIGGER:-PT2H
ACTION:DISPLAY
DESCRIPTION:Narofsky vs. Narofsky
END:VALARM
END:VEVENT
BEGIN:VEVENT
UID:csparks-64283876-20240829T173000@quickscores.com
DTSTAMP:20260425T100500Z
DTSTART;TZID=America/Chicago:20240829T173000
DURATION:PT1H30M0S
SUMMARY:Tuhchiev vs. Tuhchiev
DESCRIPTION:Youth Soccer Practices - 7th/8th Grade Coed - Carol Stream Park District
LOCATION:Red Hawk 3
CATEGORIES:QuickScores, Facilities Game
TRANSP:OPAQUE
BEGIN:VALARM
TRIGGER:-PT2H
ACTION:DISPLAY
DESCRIPTION:Tuhchiev vs. Tuhchiev
END:VALARM
END:VEVENT
BEGIN:VEVENT
UID:csparks-64283821-20240830T173000@quickscores.com
DTSTAMP:20260425T100500Z
DTSTART;TZID=America/Chicago:20240830T173000
DURATION:PT1H0M0S
SUMMARY:Narofsky vs. Narofsky
DESCRIPTION:Youth Soccer Practices - 7th/8th Grade Coed - Carol Stream Park District
LOCATION:Hampe 4 - Lower Soccer
CATEGORIES:QuickScores, Facilities Game
TRANSP:OPAQUE
BEGIN:VALARM
TRIGGER:-PT2H
ACTION:DISPLAY
DESCRIPTION:Narofsky vs. Narofsky
END:VALARM
END:VEVENT
BEGIN:VEVENT
UID:csparks-64283867-20240904T173000@quickscores.com
DTSTAMP:20260425T100500Z
DTSTART;TZID=America/Chicago:20240904T173000
DURATION:PT1H30M0S
SUMMARY:Narofsky vs. Narofsky
DESCRIPTION:Youth Soccer Practices - 7th/8th Grade Coed - Carol Stream Park District
LOCATION:Red Hawk 3
CATEGORIES:QuickScores, Facilities Game
TRANSP:OPAQUE
BEGIN:VALARM
TRIGGER:-PT2H
ACTION:DISPLAY
DESCRIPTION:Narofsky vs. Narofsky
END:VALARM
END:VEVENT
BEGIN:VEVENT
UID:csparks-64283877-20240905T173000@quickscores.com
DTSTAMP:20260425T100500Z
DTSTART;TZID=America/Chicago:20240905T173000
DURATION:PT1H30M0S
SUMMARY:Tuhchiev vs. Tuhchiev
DESCRIPTION:Youth Soccer Practices - 7th/8th Grade Coed - Carol Stream Park District
LOCATION:Red Hawk 3
CATEGORIES:QuickScores, Facilities Game
TRANSP:OPAQUE
BEGIN:VALARM
TRIGGER:-PT2H
ACTION:DISPLAY
DESCRIPTION:Tuhchiev vs. Tuhchiev
END:VALARM
END:VEVENT
BEGIN:VEVENT
UID:csparks-64283822-20240906T173000@quickscores.com
DTSTAMP:20260425T100500Z
DTSTART;TZID=America/Chicago:20240906T173000
DURATION:PT1H0M0S
SUMMARY:Narofsky vs. Narofsky
DESCRIPTION:Youth Soccer Practices - 7th/8th Grade Coed - Carol Stream Park District
LOCATION:Hampe 4 - Lower Soccer
CATEGORIES:QuickScores, Facilities Game
TRANSP:OPAQUE
BEGIN:VALARM
TRIGGER:-PT2H
ACTION:DISPLAY
DESCRIPTION:Narofsky vs. Narofsky
END:VALARM
END:VEVENT
BEGIN:VEVENT
UID:csparks-64283868-20240911T180000@quickscores.com
DTSTAMP:20260425T100500Z
DTSTART;TZID=America/Chicago:20240911T180000
DURATION:PT1H30M0S
SUMMARY:Narofsky vs. Narofsky
DESCRIPTION:Youth Soccer Practices - 7th/8th Grade Coed - Carol Stream Park District
LOCATION:Glenbard North - Turf Field - South
CATEGORIES:QuickScores, Facilities Game
TRANSP:OPAQUE
BEGIN:VALARM
TRIGGER:-PT2H
ACTION:DISPLAY
DESCRIPTION:Narofsky vs. Narofsky
END:VALARM
END:VEVENT
BEGIN:VEVENT
UID:csparks-64283878-20240912T173000@quickscores.com
DTSTAMP:20260425T100500Z
DTSTART;TZID=America/Chicago:20240912T173000
DURATION:PT1H30M0S
SUMMARY:Tuhchiev vs. Tuhchiev
DESCRIPTION:Youth Soccer Practices - 7th/8th Grade Coed - Carol Stream Park District
LOCATION:Red Hawk 3
CATEGORIES:QuickScores, Facilities Game
TRANSP:OPAQUE
BEGIN:VALARM
TRIGGER:-PT2H
ACTION:DISPLAY
DESCRIPTION:Tuhchiev vs. Tuhchiev
END:VALARM
END:VEVENT
BEGIN:VEVENT
UID:csparks-64283823-20240913T173000@quickscores.com
DTSTAMP:20260425T100500Z
DTSTART;TZID=America/Chicago:20240913T173000
DURATION:PT1H0M0S
SUMMARY:Narofsky vs. Narofsky
DESCRIPTION:Youth Soccer Practices - 7th/8th Grade Coed - Carol Stream Park District
LOCATION:Hampe 4 - Lower Soccer
CATEGORIES:QuickScores, Facilities Game
TRANSP:OPAQUE
BEGIN:VALARM
TRIGGER:-PT2H
ACTION:DISPLAY
DESCRIPTION:Narofsky vs. Narofsky
END:VALARM
END:VEVENT
BEGIN:VEVENT
UID:csparks-64283869-20240918T183000@quickscores.com
DTSTAMP:20260425T100500Z
DTSTART;TZID=America/Chicago:20240918T183000
DURATION:PT1H30M0S
SUMMARY:Narofsky vs. Narofsky
DESCRIPTION:Youth Soccer Practices - 7th/8th Grade Coed - Carol Stream Park District
LOCATION:Glenbard North - Turf Field - South
CATEGORIES:QuickScores, Facilities Game
TRANSP:OPAQUE
BEGIN:VALARM
TRIGGER:-PT2H
ACTION:DISPLAY
DESCRIPTION:Narofsky vs. Narofsky
END:VALARM
END:VEVENT
BEGIN:VEVENT
UID:csparks-64283879-20240919T173000@quickscores.com
DTSTAMP:20260425T100500Z
DTSTART;TZID=America/Chicago:20240919T173000
DURATION:PT1H30M0S
SUMMARY:Tuhchiev vs. Tuhchiev
DESCRIPTION:Youth Soccer Practices - 7th/8th Grade Coed - Carol Stream Park District
LOCATION:Red Hawk 3
CATEGORIES:QuickScores, Facilities Game
TRANSP:OPAQUE
BEGIN:VALARM
TRIGGER:-PT2H
ACTION:DISPLAY
DESCRIPTION:Tuhchiev vs. Tuhchiev
END:VALARM
END:VEVENT
BEGIN:VEVENT
UID:csparks-64283824-20240920T173000@quickscores.com
DTSTAMP:20260425T100500Z
DTSTART;TZID=America/Chicago:20240920T173000
DURATION:PT1H0M0S
SUMMARY:Narofsky vs. Narofsky
DESCRIPTION:Youth Soccer Practices - 7th/8th Grade Coed - Carol Stream Park District
LOCATION:Hampe 4 - Lower Soccer
CATEGORIES:QuickScores, Facilities Game
TRANSP:OPAQUE
BEGIN:VALARM
TRIGGER:-PT2H
ACTION:DISPLAY
DESCRIPTION:Narofsky vs. Narofsky
END:VALARM
END:VEVENT
BEGIN:VEVENT
UID:csparks-64283870-20240925T173000@quickscores.com
DTSTAMP:20260425T100500Z
DTSTART;TZID=America/Chicago:20240925T173000
DURATION:PT1H30M0S
SUMMARY:Narofsky vs. Narofsky
DESCRIPTION:Youth Soccer Practices - 7th/8th Grade Coed - Carol Stream Park District
LOCATION:Red Hawk 2
CATEGORIES:QuickScores, Facilities Game
TRANSP:OPAQUE
BEGIN:VALARM
TRIGGER:-PT2H
ACTION:DISPLAY
DESCRIPTION:Narofsky vs. Narofsky
END:VALARM
END:VEVENT
BEGIN:VEVENT
UID:csparks-64283880-20240926T173000@quickscores.com
DTSTAMP:20260425T100500Z
DTSTART;TZID=America/Chicago:20240926T173000
DURATION:PT1H30M0S
SUMMARY:Tuhchiev vs. Tuhchiev
DESCRIPTION:Youth Soccer Practices - 7th/8th Grade Coed - Carol Stream Park District
LOCATION:Red Hawk 3
CATEGORIES:QuickScores, Facilities Game
TRANSP:OPAQUE
BEGIN:VALARM
TRIGGER:-PT2H
ACTION:DISPLAY
DESCRIPTION:Tuhchiev vs. Tuhchiev
END:VALARM
END:VEVENT
BEGIN:VEVENT
UID:csparks-64283825-20240927T181500@quickscores.com
DTSTAMP:20260425T100500Z
DTSTART;TZID=America/Chicago:20240927T181500
DURATION:PT1H30M0S
SUMMARY:Narofsky vs. Narofsky
DESCRIPTION:Youth Soccer Practices - 7th/8th Grade Coed - Carol Stream Park District
LOCATION:Glenbard North - Turf Field
CATEGORIES:QuickScores, Facilities Game
TRANSP:OPAQUE
BEGIN:VALARM
TRIGGER:-PT2H
ACTION:DISPLAY
DESCRIPTION:Narofsky vs. Narofsky
END:VALARM
END:VEVENT
BEGIN:VEVENT
UID:csparks-64283871-20241002T173000@quickscores.com
DTSTAMP:20260425T100500Z
DTSTART;TZID=America/Chicago:20241002T173000
DURATION:PT1H30M0S
SUMMARY:Narofsky vs. Narofsky
DESCRIPTION:Youth Soccer Practices - 7th/8th Grade Coed - Carol Stream Park District
LOCATION:Red Hawk 2
CATEGORIES:QuickScores, Facilities Game
TRANSP:OPAQUE
BEGIN:VALARM
TRIGGER:-PT2H
ACTION:DISPLAY
DESCRIPTION:Narofsky vs. Narofsky
END:VALARM
END:VEVENT
BEGIN:VEVENT
UID:csparks-64283881-20241003T173000@quickscores.com
DTSTAMP:20260425T100500Z
DTSTART;TZID=America/Chicago:20241003T173000
DURATION:PT1H30M0S
SUMMARY:Tuhchiev vs. Tuhchiev
DESCRIPTION:Youth Soccer Practices - 7th/8th Grade Coed - Carol Stream Park District
LOCATION:Red Hawk 3
CATEGORIES:QuickScores, Facilities Game
TRANSP:OPAQUE
BEGIN:VALARM
TRIGGER:-PT2H
ACTION:DISPLAY
DESCRIPTION:Tuhchiev vs. Tuhchiev
END:VALARM
END:VEVENT
BEGIN:VEVENT
UID:csparks-64283826-20241004T190000@quickscores.com
DTSTAMP:20260425T100500Z
DTSTART;TZID=America/Chicago:20241004T190000
DURATION:PT1H30M0S
SUMMARY:Narofsky vs. Narofsky
DESCRIPTION:Youth Soccer Practices - 7th/8th Grade Coed - Carol Stream Park District
LOCATION:Glenbard North - Turf Field
CATEGORIES:QuickScores, Facilities Game
TRANSP:OPAQUE
BEGIN:VALARM
TRIGGER:-PT2H
ACTION:DISPLAY
DESCRIPTION:Narofsky vs. Narofsky
END:VALARM
END:VEVENT
BEGIN:VEVENT
UID:csparks-65451652-20241009T183000@quickscores.com
DTSTAMP:20260425T100500Z
DTSTART;TZID=America/Chicago:20241009T183000
DURATION:PT1H0M0S
SUMMARY:Narofsky vs. Narofsky
DESCRIPTION:One Hour Practice --- Youth Soccer Practices - 7th/8th Grade Coed - Carol Stream Park District
LOCATION:Glenbard North - Turf Field
CATEGORIES:QuickScores, Facilities Game
TRANSP:OPAQUE
BEGIN:VALARM
TRIGGER:-PT2H
ACTION:DISPLAY
DESCRIPTION:Narofsky vs. Narofsky
END:VALARM
END:VEVENT
BEGIN:VEVENT
UID:csparks-65451653-20241010T173000@quickscores.com
DTSTAMP:20260425T100500Z
DTSTART;TZID=America/Chicago:20241010T173000
DURATION:PT1H30M0S
SUMMARY:Tuhchiev vs. Tuhchiev
DESCRIPTION:Youth Soccer Practices - 7th/8th Grade Coed - Carol Stream Park District
LOCATION:Red Hawk 3
CATEGORIES:QuickScores, Facilities Game
TRANSP:OPAQUE
BEGIN:VALARM
TRIGGER:-PT2H
ACTION:DISPLAY
DESCRIPTION:Tuhchiev vs. Tuhchiev
END:VALARM
END:VEVENT
BEGIN:VEVENT
UID:csparks-65451655-20241011T173000@quickscores.com
DTSTAMP:20260425T100500Z
DTSTART;TZID=America/Chicago:20241011T173000
DURATION:PT1H30M0S
SUMMARY:Narofsky vs. Narofsky
DESCRIPTION:Youth Soccer Practices - 7th/8th Grade Coed - Carol Stream Park District
LOCATION:Hampe 4 - Lower Soccer
CATEGORIES:QuickScores, Facilities Game
TRANSP:OPAQUE
BEGIN:VALARM
TRIGGER:-PT2H
ACTION:DISPLAY
DESCRIPTION:Narofsky vs. Narofsky
END:VALARM
END:VEVENT
BEGIN:VEVENT
UID:csparks-65451654-20241011T173000@quickscores.com
DTSTAMP:20260425T100500Z
DTSTART;TZID=America/Chicago:20241011T173000
DURATION:PT1H30M0S
SUMMARY:Tuhchiev vs. Tuhchiev
DESCRIPTION:Youth Soccer Practices - 7th/8th Grade Coed - Carol Stream Park District
LOCATION:Red Hawk 3
CATEGORIES:QuickScores, Facilities Game
TRANSP:OPAQUE
BEGIN:VALARM
TRIGGER:-PT2H
ACTION:DISPLAY
DESCRIPTION:Tuhchiev vs. Tuhchiev
END:VALARM
END:VEVENT
BEGIN:VEVENT
UID:csparks-65453495-20241016T190000@quickscores.com
DTSTAMP:20260425T100500Z
DTSTART;TZID=America/Chicago:20241016T190000
DURATION:PT1H0M0S
SUMMARY:Narofsky vs. Narofsky
DESCRIPTION:Updated time --- Youth Soccer Practices - 7th/8th Grade Coed - Carol Stream Park District
LOCATION:Glenbard North - Turf Field
CATEGORIES:QuickScores, Facilities Game
TRANSP:OPAQUE
BEGIN:VALARM
TRIGGER:-PT2H
ACTION:DISPLAY
DESCRIPTION:Narofsky vs. Narofsky
END:VALARM
END:VEVENT
BEGIN:VEVENT
UID:csparks-65453496-20241017T173000@quickscores.com
DTSTAMP:20260425T100500Z
DTSTART;TZID=America/Chicago:20241017T173000
DURATION:PT1H30M0S
SUMMARY:Tuhchiev vs. Tuhchiev
DESCRIPTION:Youth Soccer Practices - 7th/8th Grade Coed - Carol Stream Park District
LOCATION:Red Hawk 3
CATEGORIES:QuickScores, Facilities Game
TRANSP:OPAQUE
BEGIN:VALARM
TRIGGER:-PT2H
ACTION:DISPLAY
DESCRIPTION:Tuhchiev vs. Tuhchiev
END:VALARM
END:VEVENT
BEGIN:VEVENT
UID:csparks-65453497-20241018T173000@quickscores.com
DTSTAMP:20260425T100500Z
DTSTART;TZID=America/Chicago:20241018T173000
DURATION:PT1H30M0S
SUMMARY:Narofsky vs. Narofsky
DESCRIPTION:Youth Soccer Practices - 7th/8th Grade Coed - Carol Stream Park District
LOCATION:Hampe 4 - Lower Soccer
CATEGORIES:QuickScores, Facilities Game
TRANSP:OPAQUE
BEGIN:VALARM
TRIGGER:-PT2H
ACTION:DISPLAY
DESCRIPTION:Narofsky vs. Narofsky
END:VALARM
END:VEVENT
BEGIN:VEVENT
UID:csparks-65453498-20241018T173000@quickscores.com
DTSTAMP:20260425T100500Z
DTSTART;TZID=America/Chicago:20241018T173000
DURATION:PT1H30M0S
SUMMARY:Tuhchiev vs. Tuhchiev
DESCRIPTION:Youth Soccer Practices - 7th/8th Grade Coed - Carol Stream Park District
LOCATION:Red Hawk 3
CATEGORIES:QuickScores, Facilities Game
TRANSP:OPAQUE
BEGIN:VALARM
TRIGGER:-PT2H
ACTION:DISPLAY
DESCRIPTION:Tuhchiev vs. Tuhchiev
END:VALARM
END:VEVENT
END:VCALENDAR
