BEGIN:VCALENDAR
VERSION:2.0
PRODID:-//QuickScores.com//BQ Dynamic iCal Creator//EN
METHOD:PUBLISH
X-WR-CALNAME:Pupc Tuesday High Intermediate - Late Summer 24 - Completed Leagues 2023/24
X-WR-CALDESC:QuickScores game calendar
X-PUBLISHED-TTL:PT24H
REFRESH-INTERVAL;VALUE=DURATION:PT24H
CALSCALE:GREGORIAN
BEGIN:VTIMEZONE
TZID:America/Chicago
X-LIC-LOCATION:America/Chicago
BEGIN:DAYLIGHT
TZNAME:CDT
TZOFFSETFROM:-0600
TZOFFSETTO:-0500
DTSTART:19700308T020000
RRULE:FREQ=YEARLY;BYMONTH=3;BYDAY=2SU
END:DAYLIGHT
BEGIN:STANDARD
TZNAME:CST
TZOFFSETFROM:-0500
TZOFFSETTO:-0600
DTSTART:19701101T020000
RRULE:FREQ=YEARLY;BYMONTH=11;BYDAY=1SU
END:STANDARD
END:VTIMEZONE
BEGIN:VEVENT
UID:pupc-64129883-20240723T180000@quickscores.com
DTSTAMP:20260424T105600Z
DTSTART;TZID=America/Chicago:20240723T180000
DURATION:PT0H40M0S
SUMMARY:Merrifield/Slattery vs. Sims/Sigman
DESCRIPTION:Pupc Tuesday High Intermediate - Late Summer 24 - Paddle Up Pickleball Club
LOCATION:Court 2
CATEGORIES:QuickScores, Pickleball Game
TRANSP:OPAQUE
BEGIN:VALARM
TRIGGER:-PT2H
ACTION:DISPLAY
DESCRIPTION:Merrifield/Slattery vs. Sims/Sigman
END:VALARM
END:VEVENT
BEGIN:VEVENT
UID:pupc-64129884-20240723T184000@quickscores.com
DTSTAMP:20260424T105600Z
DTSTART;TZID=America/Chicago:20240723T184000
DURATION:PT0H40M0S
SUMMARY:Bischof/Bodmer vs. Merrifield/Slattery
DESCRIPTION:Pupc Tuesday High Intermediate - Late Summer 24 - Paddle Up Pickleball Club
LOCATION:Court 2
CATEGORIES:QuickScores, Pickleball Game
TRANSP:OPAQUE
BEGIN:VALARM
TRIGGER:-PT2H
ACTION:DISPLAY
DESCRIPTION:Bischof/Bodmer vs. Merrifield/Slattery
END:VALARM
END:VEVENT
BEGIN:VEVENT
UID:pupc-64129879-20240723T192000@quickscores.com
DTSTAMP:20260424T105600Z
DTSTART;TZID=America/Chicago:20240723T192000
DURATION:PT0H40M0S
SUMMARY:Bischof/Bodmer vs. Gibson/Gibson
DESCRIPTION:Pupc Tuesday High Intermediate - Late Summer 24 - Paddle Up Pickleball Club
LOCATION:Court 2
CATEGORIES:QuickScores, Pickleball Game
TRANSP:OPAQUE
BEGIN:VALARM
TRIGGER:-PT2H
ACTION:DISPLAY
DESCRIPTION:Bischof/Bodmer vs. Gibson/Gibson
END:VALARM
END:VEVENT
BEGIN:VEVENT
UID:pupc-64129882-20240723T192000@quickscores.com
DTSTAMP:20260424T105600Z
DTSTART;TZID=America/Chicago:20240723T192000
DURATION:PT0H40M0S
SUMMARY:Luke/Newman vs. Sims/Sigman
DESCRIPTION:Pupc Tuesday High Intermediate - Late Summer 24 - Paddle Up Pickleball Club
LOCATION:Court 4
CATEGORIES:QuickScores, Pickleball Game
TRANSP:OPAQUE
BEGIN:VALARM
TRIGGER:-PT2H
ACTION:DISPLAY
DESCRIPTION:Luke/Newman vs. Sims/Sigman
END:VALARM
END:VEVENT
BEGIN:VEVENT
UID:pupc-64176976-20240723T200000@quickscores.com
DTSTAMP:20260424T105600Z
DTSTART;TZID=America/Chicago:20240723T200000
DURATION:PT0H40M0S
SUMMARY:Donovan/Snell vs. Gibson/Gibson
DESCRIPTION:Pupc Tuesday High Intermediate - Late Summer 24 - Paddle Up Pickleball Club
LOCATION:Court 1
CATEGORIES:QuickScores, Pickleball Game
TRANSP:OPAQUE
BEGIN:VALARM
TRIGGER:-PT2H
ACTION:DISPLAY
DESCRIPTION:Donovan/Snell vs. Gibson/Gibson
END:VALARM
END:VEVENT
BEGIN:VEVENT
UID:pupc-64129880-20240723T200000@quickscores.com
DTSTAMP:20260424T105600Z
DTSTART;TZID=America/Chicago:20240723T200000
DURATION:PT0H40M0S
SUMMARY:Turnbeaugh/Murphy vs. Luke/Newman
DESCRIPTION:Pupc Tuesday High Intermediate - Late Summer 24 - Paddle Up Pickleball Club
LOCATION:Court 2
CATEGORIES:QuickScores, Pickleball Game
TRANSP:OPAQUE
BEGIN:VALARM
TRIGGER:-PT2H
ACTION:DISPLAY
DESCRIPTION:Turnbeaugh/Murphy vs. Luke/Newman
END:VALARM
END:VEVENT
BEGIN:VEVENT
UID:pupc-64129881-20240723T204000@quickscores.com
DTSTAMP:20260424T105600Z
DTSTART;TZID=America/Chicago:20240723T204000
DURATION:PT0H40M0S
SUMMARY:Turnbeaugh/Murphy vs. Donovan/Snell
DESCRIPTION:Pupc Tuesday High Intermediate - Late Summer 24 - Paddle Up Pickleball Club
LOCATION:Court 2
CATEGORIES:QuickScores, Pickleball Game
TRANSP:OPAQUE
BEGIN:VALARM
TRIGGER:-PT2H
ACTION:DISPLAY
DESCRIPTION:Turnbeaugh/Murphy vs. Donovan/Snell
END:VALARM
END:VEVENT
BEGIN:VEVENT
UID:pupc-64129887-20240730T180000@quickscores.com
DTSTAMP:20260424T105600Z
DTSTART;TZID=America/Chicago:20240730T180000
DURATION:PT0H40M0S
SUMMARY:Gibson/Gibson vs. Luke/Newman
DESCRIPTION:Pupc Tuesday High Intermediate - Late Summer 24 - Paddle Up Pickleball Club
LOCATION:Court 2
CATEGORIES:QuickScores, Pickleball Game
TRANSP:OPAQUE
BEGIN:VALARM
TRIGGER:-PT2H
ACTION:DISPLAY
DESCRIPTION:Gibson/Gibson vs. Luke/Newman
END:VALARM
END:VEVENT
BEGIN:VEVENT
UID:pupc-64176977-20240730T180000@quickscores.com
DTSTAMP:20260424T105600Z
DTSTART;TZID=America/Chicago:20240730T180000
DURATION:PT0H40M0S
SUMMARY:Donovan/Snell vs. Merrifield/Slattery
DESCRIPTION:Pupc Tuesday High Intermediate - Late Summer 24 - Paddle Up Pickleball Club
LOCATION:Court 8
CATEGORIES:QuickScores, Pickleball Game
TRANSP:OPAQUE
BEGIN:VALARM
TRIGGER:-PT2H
ACTION:DISPLAY
DESCRIPTION:Donovan/Snell vs. Merrifield/Slattery
END:VALARM
END:VEVENT
BEGIN:VEVENT
UID:pupc-64129888-20240730T184000@quickscores.com
DTSTAMP:20260424T105600Z
DTSTART;TZID=America/Chicago:20240730T184000
DURATION:PT0H40M0S
SUMMARY:Luke/Newman vs. Donovan/Snell
DESCRIPTION:Pupc Tuesday High Intermediate - Late Summer 24 - Paddle Up Pickleball Club
LOCATION:Court 2
CATEGORIES:QuickScores, Pickleball Game
TRANSP:OPAQUE
BEGIN:VALARM
TRIGGER:-PT2H
ACTION:DISPLAY
DESCRIPTION:Luke/Newman vs. Donovan/Snell
END:VALARM
END:VEVENT
BEGIN:VEVENT
UID:pupc-64129886-20240730T192000@quickscores.com
DTSTAMP:20260424T105600Z
DTSTART;TZID=America/Chicago:20240730T192000
DURATION:PT0H40M0S
SUMMARY:Sims/Sigman vs. Gibson/Gibson
DESCRIPTION:Pupc Tuesday High Intermediate - Late Summer 24 - Paddle Up Pickleball Club
LOCATION:Court 4
CATEGORIES:QuickScores, Pickleball Game
TRANSP:OPAQUE
BEGIN:VALARM
TRIGGER:-PT2H
ACTION:DISPLAY
DESCRIPTION:Sims/Sigman vs. Gibson/Gibson
END:VALARM
END:VEVENT
BEGIN:VEVENT
UID:pupc-64129889-20240730T192000@quickscores.com
DTSTAMP:20260424T105600Z
DTSTART;TZID=America/Chicago:20240730T192000
DURATION:PT0H40M0S
SUMMARY:Merrifield/Slattery vs. Turnbeaugh/Murphy
DESCRIPTION:Pupc Tuesday High Intermediate - Late Summer 24 - Paddle Up Pickleball Club
LOCATION:Court 2
CATEGORIES:QuickScores, Pickleball Game
TRANSP:OPAQUE
BEGIN:VALARM
TRIGGER:-PT2H
ACTION:DISPLAY
DESCRIPTION:Merrifield/Slattery vs. Turnbeaugh/Murphy
END:VALARM
END:VEVENT
BEGIN:VEVENT
UID:pupc-64129890-20240730T200000@quickscores.com
DTSTAMP:20260424T105600Z
DTSTART;TZID=America/Chicago:20240730T200000
DURATION:PT0H40M0S
SUMMARY:Bischof/Bodmer vs. Turnbeaugh/Murphy
DESCRIPTION:Pupc Tuesday High Intermediate - Late Summer 24 - Paddle Up Pickleball Club
LOCATION:Court 2
CATEGORIES:QuickScores, Pickleball Game
TRANSP:OPAQUE
BEGIN:VALARM
TRIGGER:-PT2H
ACTION:DISPLAY
DESCRIPTION:Bischof/Bodmer vs. Turnbeaugh/Murphy
END:VALARM
END:VEVENT
BEGIN:VEVENT
UID:pupc-64129885-20240730T204000@quickscores.com
DTSTAMP:20260424T105600Z
DTSTART;TZID=America/Chicago:20240730T204000
DURATION:PT0H40M0S
SUMMARY:Bischof/Bodmer vs. Sims/Sigman
DESCRIPTION:Pupc Tuesday High Intermediate - Late Summer 24 - Paddle Up Pickleball Club
LOCATION:Court 2
CATEGORIES:QuickScores, Pickleball Game
TRANSP:OPAQUE
BEGIN:VALARM
TRIGGER:-PT2H
ACTION:DISPLAY
DESCRIPTION:Bischof/Bodmer vs. Sims/Sigman
END:VALARM
END:VEVENT
BEGIN:VEVENT
UID:pupc-64129892-20240806T180000@quickscores.com
DTSTAMP:20260424T105600Z
DTSTART;TZID=America/Chicago:20240806T180000
DURATION:PT0H40M0S
SUMMARY:Luke/Newman vs. Turnbeaugh/Murphy
DESCRIPTION:Pupc Tuesday High Intermediate - Late Summer 24 - Paddle Up Pickleball Club
LOCATION:Court 2
CATEGORIES:QuickScores, Pickleball Game
TRANSP:OPAQUE
BEGIN:VALARM
TRIGGER:-PT2H
ACTION:DISPLAY
DESCRIPTION:Luke/Newman vs. Turnbeaugh/Murphy
END:VALARM
END:VEVENT
BEGIN:VEVENT
UID:pupc-64129895-20240806T184000@quickscores.com
DTSTAMP:20260424T105600Z
DTSTART;TZID=America/Chicago:20240806T184000
DURATION:PT0H40M0S
SUMMARY:Sims/Sigman vs. Luke/Newman
DESCRIPTION:Pupc Tuesday High Intermediate - Late Summer 24 - Paddle Up Pickleball Club
LOCATION:Court 2
CATEGORIES:QuickScores, Pickleball Game
TRANSP:OPAQUE
BEGIN:VALARM
TRIGGER:-PT2H
ACTION:DISPLAY
DESCRIPTION:Sims/Sigman vs. Luke/Newman
END:VALARM
END:VEVENT
BEGIN:VEVENT
UID:pupc-64129894-20240806T192000@quickscores.com
DTSTAMP:20260424T105600Z
DTSTART;TZID=America/Chicago:20240806T192000
DURATION:PT0H40M0S
SUMMARY:Bischof/Bodmer vs. Turnbeaugh/Murphy
DESCRIPTION:Pupc Tuesday High Intermediate - Late Summer 24 - Paddle Up Pickleball Club
LOCATION:Court 4
CATEGORIES:QuickScores, Pickleball Game
TRANSP:OPAQUE
BEGIN:VALARM
TRIGGER:-PT2H
ACTION:DISPLAY
DESCRIPTION:Bischof/Bodmer vs. Turnbeaugh/Murphy
END:VALARM
END:VEVENT
BEGIN:VEVENT
UID:pupc-64129893-20240806T192000@quickscores.com
DTSTAMP:20260424T105600Z
DTSTART;TZID=America/Chicago:20240806T192000
DURATION:PT0H40M0S
SUMMARY:Sims/Sigman vs. Merrifield/Slattery
DESCRIPTION:Pupc Tuesday High Intermediate - Late Summer 24 - Paddle Up Pickleball Club
LOCATION:Court 2
CATEGORIES:QuickScores, Pickleball Game
TRANSP:OPAQUE
BEGIN:VALARM
TRIGGER:-PT2H
ACTION:DISPLAY
DESCRIPTION:Sims/Sigman vs. Merrifield/Slattery
END:VALARM
END:VEVENT
BEGIN:VEVENT
UID:pupc-64129896-20240806T200000@quickscores.com
DTSTAMP:20260424T105600Z
DTSTART;TZID=America/Chicago:20240806T200000
DURATION:PT0H40M0S
SUMMARY:Gibson/Gibson vs. Merrifield/Slattery
DESCRIPTION:Pupc Tuesday High Intermediate - Late Summer 24 - Paddle Up Pickleball Club
LOCATION:Court 2
CATEGORIES:QuickScores, Pickleball Game
TRANSP:OPAQUE
BEGIN:VALARM
TRIGGER:-PT2H
ACTION:DISPLAY
DESCRIPTION:Gibson/Gibson vs. Merrifield/Slattery
END:VALARM
END:VEVENT
BEGIN:VEVENT
UID:pupc-64176978-20240806T200000@quickscores.com
DTSTAMP:20260424T105600Z
DTSTART;TZID=America/Chicago:20240806T200000
DURATION:PT0H40M0S
SUMMARY:Donovan/Snell vs. Bischof/Bodmer
DESCRIPTION:Pupc Tuesday High Intermediate - Late Summer 24 - Paddle Up Pickleball Club
LOCATION:Court 8
CATEGORIES:QuickScores, Pickleball Game
TRANSP:OPAQUE
BEGIN:VALARM
TRIGGER:-PT2H
ACTION:DISPLAY
DESCRIPTION:Donovan/Snell vs. Bischof/Bodmer
END:VALARM
END:VEVENT
BEGIN:VEVENT
UID:pupc-64129891-20240806T204000@quickscores.com
DTSTAMP:20260424T105600Z
DTSTART;TZID=America/Chicago:20240806T204000
DURATION:PT0H40M0S
SUMMARY:Gibson/Gibson vs. Donovan/Snell
DESCRIPTION:Pupc Tuesday High Intermediate - Late Summer 24 - Paddle Up Pickleball Club
LOCATION:Court 2
CATEGORIES:QuickScores, Pickleball Game
TRANSP:OPAQUE
BEGIN:VALARM
TRIGGER:-PT2H
ACTION:DISPLAY
DESCRIPTION:Gibson/Gibson vs. Donovan/Snell
END:VALARM
END:VEVENT
BEGIN:VEVENT
UID:pupc-64129897-20240813T180000@quickscores.com
DTSTAMP:20260424T105600Z
DTSTART;TZID=America/Chicago:20240813T180000
DURATION:PT0H40M0S
SUMMARY:Gibson/Gibson vs. Turnbeaugh/Murphy
DESCRIPTION:Pupc Tuesday High Intermediate - Late Summer 24 - Paddle Up Pickleball Club
LOCATION:Court 2
CATEGORIES:QuickScores, Pickleball Game
TRANSP:OPAQUE
BEGIN:VALARM
TRIGGER:-PT2H
ACTION:DISPLAY
DESCRIPTION:Gibson/Gibson vs. Turnbeaugh/Murphy
END:VALARM
END:VEVENT
BEGIN:VEVENT
UID:pupc-64129901-20240813T184000@quickscores.com
DTSTAMP:20260424T105600Z
DTSTART;TZID=America/Chicago:20240813T184000
DURATION:PT0H40M0S
SUMMARY:Luke/Newman vs. Donovan/Snell
DESCRIPTION:Pupc Tuesday High Intermediate - Late Summer 24 - Paddle Up Pickleball Club
LOCATION:Court 2
CATEGORIES:QuickScores, Pickleball Game
TRANSP:OPAQUE
BEGIN:VALARM
TRIGGER:-PT2H
ACTION:DISPLAY
DESCRIPTION:Luke/Newman vs. Donovan/Snell
END:VALARM
END:VEVENT
BEGIN:VEVENT
UID:pupc-64129902-20240813T192000@quickscores.com
DTSTAMP:20260424T105600Z
DTSTART;TZID=America/Chicago:20240813T192000
DURATION:PT0H40M0S
SUMMARY:Turnbeaugh/Murphy vs. Sims/Sigman
DESCRIPTION:Pupc Tuesday High Intermediate - Late Summer 24 - Paddle Up Pickleball Club
LOCATION:Court 4
CATEGORIES:QuickScores, Pickleball Game
TRANSP:OPAQUE
BEGIN:VALARM
TRIGGER:-PT2H
ACTION:DISPLAY
DESCRIPTION:Turnbeaugh/Murphy vs. Sims/Sigman
END:VALARM
END:VEVENT
BEGIN:VEVENT
UID:pupc-64129898-20240813T192000@quickscores.com
DTSTAMP:20260424T105600Z
DTSTART;TZID=America/Chicago:20240813T192000
DURATION:PT0H40M0S
SUMMARY:Gibson/Gibson vs. Luke/Newman
DESCRIPTION:Pupc Tuesday High Intermediate - Late Summer 24 - Paddle Up Pickleball Club
LOCATION:Court 2
CATEGORIES:QuickScores, Pickleball Game
TRANSP:OPAQUE
BEGIN:VALARM
TRIGGER:-PT2H
ACTION:DISPLAY
DESCRIPTION:Gibson/Gibson vs. Luke/Newman
END:VALARM
END:VEVENT
BEGIN:VEVENT
UID:pupc-64129900-20240813T200000@quickscores.com
DTSTAMP:20260424T105600Z
DTSTART;TZID=America/Chicago:20240813T200000
DURATION:PT0H40M0S
SUMMARY:Bischof/Bodmer vs. Sims/Sigman
DESCRIPTION:Pupc Tuesday High Intermediate - Late Summer 24 - Paddle Up Pickleball Club
LOCATION:Court 2
CATEGORIES:QuickScores, Pickleball Game
TRANSP:OPAQUE
BEGIN:VALARM
TRIGGER:-PT2H
ACTION:DISPLAY
DESCRIPTION:Bischof/Bodmer vs. Sims/Sigman
END:VALARM
END:VEVENT
BEGIN:VEVENT
UID:pupc-64176979-20240813T200000@quickscores.com
DTSTAMP:20260424T105600Z
DTSTART;TZID=America/Chicago:20240813T200000
DURATION:PT0H40M0S
SUMMARY:Donovan/Snell vs. Merrifield/Slattery
DESCRIPTION:Pupc Tuesday High Intermediate - Late Summer 24 - Paddle Up Pickleball Club
LOCATION:Court 1
CATEGORIES:QuickScores, Pickleball Game
TRANSP:OPAQUE
BEGIN:VALARM
TRIGGER:-PT2H
ACTION:DISPLAY
DESCRIPTION:Donovan/Snell vs. Merrifield/Slattery
END:VALARM
END:VEVENT
BEGIN:VEVENT
UID:pupc-64129899-20240813T204000@quickscores.com
DTSTAMP:20260424T105600Z
DTSTART;TZID=America/Chicago:20240813T204000
DURATION:PT0H40M0S
SUMMARY:Merrifield/Slattery vs. Bischof/Bodmer
DESCRIPTION:Pupc Tuesday High Intermediate - Late Summer 24 - Paddle Up Pickleball Club
LOCATION:Court 2
CATEGORIES:QuickScores, Pickleball Game
TRANSP:OPAQUE
BEGIN:VALARM
TRIGGER:-PT2H
ACTION:DISPLAY
DESCRIPTION:Merrifield/Slattery vs. Bischof/Bodmer
END:VALARM
END:VEVENT
BEGIN:VEVENT
UID:pupc-64129904-20240820T180000@quickscores.com
DTSTAMP:20260424T105600Z
DTSTART;TZID=America/Chicago:20240820T180000
DURATION:PT0H40M0S
SUMMARY:Merrifield/Slattery vs. Luke/Newman
DESCRIPTION:Pupc Tuesday High Intermediate - Late Summer 24 - Paddle Up Pickleball Club
LOCATION:Court 2
CATEGORIES:QuickScores, Pickleball Game
TRANSP:OPAQUE
BEGIN:VALARM
TRIGGER:-PT2H
ACTION:DISPLAY
DESCRIPTION:Merrifield/Slattery vs. Luke/Newman
END:VALARM
END:VEVENT
BEGIN:VEVENT
UID:pupc-64176980-20240820T180000@quickscores.com
DTSTAMP:20260424T105600Z
DTSTART;TZID=America/Chicago:20240820T180000
DURATION:PT0H40M0S
SUMMARY:Bischof/Bodmer vs. Donovan/Snell
DESCRIPTION:Pupc Tuesday High Intermediate - Late Summer 24 - Paddle Up Pickleball Club
LOCATION:Court 7
CATEGORIES:QuickScores, Pickleball Game
TRANSP:OPAQUE
BEGIN:VALARM
TRIGGER:-PT2H
ACTION:DISPLAY
DESCRIPTION:Bischof/Bodmer vs. Donovan/Snell
END:VALARM
END:VEVENT
BEGIN:VEVENT
UID:pupc-64129906-20240820T184000@quickscores.com
DTSTAMP:20260424T105600Z
DTSTART;TZID=America/Chicago:20240820T184000
DURATION:PT0H40M0S
SUMMARY:Luke/Newman vs. Bischof/Bodmer
DESCRIPTION:Pupc Tuesday High Intermediate - Late Summer 24 - Paddle Up Pickleball Club
LOCATION:Court 2
CATEGORIES:QuickScores, Pickleball Game
TRANSP:OPAQUE
BEGIN:VALARM
TRIGGER:-PT2H
ACTION:DISPLAY
DESCRIPTION:Luke/Newman vs. Bischof/Bodmer
END:VALARM
END:VEVENT
BEGIN:VEVENT
UID:pupc-64129908-20240820T192000@quickscores.com
DTSTAMP:20260424T105600Z
DTSTART;TZID=America/Chicago:20240820T192000
DURATION:PT0H40M0S
SUMMARY:Gibson/Gibson vs. Donovan/Snell
DESCRIPTION:Pupc Tuesday High Intermediate - Late Summer 24 - Paddle Up Pickleball Club
LOCATION:Court 4
CATEGORIES:QuickScores, Pickleball Game
TRANSP:OPAQUE
BEGIN:VALARM
TRIGGER:-PT2H
ACTION:DISPLAY
DESCRIPTION:Gibson/Gibson vs. Donovan/Snell
END:VALARM
END:VEVENT
BEGIN:VEVENT
UID:pupc-64129905-20240820T192000@quickscores.com
DTSTAMP:20260424T105600Z
DTSTART;TZID=America/Chicago:20240820T192000
DURATION:PT0H40M0S
SUMMARY:Turnbeaugh/Murphy vs. Merrifield/Slattery
DESCRIPTION:Pupc Tuesday High Intermediate - Late Summer 24 - Paddle Up Pickleball Club
LOCATION:Court 2
CATEGORIES:QuickScores, Pickleball Game
TRANSP:OPAQUE
BEGIN:VALARM
TRIGGER:-PT2H
ACTION:DISPLAY
DESCRIPTION:Turnbeaugh/Murphy vs. Merrifield/Slattery
END:VALARM
END:VEVENT
BEGIN:VEVENT
UID:pupc-64129907-20240820T200000@quickscores.com
DTSTAMP:20260424T105600Z
DTSTART;TZID=America/Chicago:20240820T200000
DURATION:PT0H40M0S
SUMMARY:Turnbeaugh/Murphy vs. Sims/Sigman
DESCRIPTION:Pupc Tuesday High Intermediate - Late Summer 24 - Paddle Up Pickleball Club
LOCATION:Court 2
CATEGORIES:QuickScores, Pickleball Game
TRANSP:OPAQUE
BEGIN:VALARM
TRIGGER:-PT2H
ACTION:DISPLAY
DESCRIPTION:Turnbeaugh/Murphy vs. Sims/Sigman
END:VALARM
END:VEVENT
BEGIN:VEVENT
UID:pupc-64129903-20240820T204000@quickscores.com
DTSTAMP:20260424T105600Z
DTSTART;TZID=America/Chicago:20240820T204000
DURATION:PT0H40M0S
SUMMARY:Gibson/Gibson vs. Sims/Sigman
DESCRIPTION:Pupc Tuesday High Intermediate - Late Summer 24 - Paddle Up Pickleball Club
LOCATION:Court 2
CATEGORIES:QuickScores, Pickleball Game
TRANSP:OPAQUE
BEGIN:VALARM
TRIGGER:-PT2H
ACTION:DISPLAY
DESCRIPTION:Gibson/Gibson vs. Sims/Sigman
END:VALARM
END:VEVENT
BEGIN:VEVENT
UID:pupc-64129914-20240827T180000@quickscores.com
DTSTAMP:20260424T105600Z
DTSTART;TZID=America/Chicago:20240827T180000
DURATION:PT0H40M0S
SUMMARY:Bischof/Bodmer vs. Merrifield/Slattery
DESCRIPTION:Pupc Tuesday High Intermediate - Late Summer 24 - Paddle Up Pickleball Club
LOCATION:Court 2
CATEGORIES:QuickScores, Pickleball Game
TRANSP:OPAQUE
BEGIN:VALARM
TRIGGER:-PT2H
ACTION:DISPLAY
DESCRIPTION:Bischof/Bodmer vs. Merrifield/Slattery
END:VALARM
END:VEVENT
BEGIN:VEVENT
UID:pupc-64129909-20240827T184000@quickscores.com
DTSTAMP:20260424T105600Z
DTSTART;TZID=America/Chicago:20240827T184000
DURATION:PT0H40M0S
SUMMARY:Gibson/Gibson vs. Bischof/Bodmer
DESCRIPTION:Pupc Tuesday High Intermediate - Late Summer 24 - Paddle Up Pickleball Club
LOCATION:Court 2
CATEGORIES:QuickScores, Pickleball Game
TRANSP:OPAQUE
BEGIN:VALARM
TRIGGER:-PT2H
ACTION:DISPLAY
DESCRIPTION:Gibson/Gibson vs. Bischof/Bodmer
END:VALARM
END:VEVENT
BEGIN:VEVENT
UID:pupc-64129910-20240827T192000@quickscores.com
DTSTAMP:20260424T105600Z
DTSTART;TZID=America/Chicago:20240827T192000
DURATION:PT0H40M0S
SUMMARY:Donovan/Snell vs. Sims/Sigman
DESCRIPTION:Pupc Tuesday High Intermediate - Late Summer 24 - Paddle Up Pickleball Club
LOCATION:Court 2
CATEGORIES:QuickScores, Pickleball Game
TRANSP:OPAQUE
BEGIN:VALARM
TRIGGER:-PT2H
ACTION:DISPLAY
DESCRIPTION:Donovan/Snell vs. Sims/Sigman
END:VALARM
END:VEVENT
BEGIN:VEVENT
UID:pupc-64129913-20240827T192000@quickscores.com
DTSTAMP:20260424T105600Z
DTSTART;TZID=America/Chicago:20240827T192000
DURATION:PT0H40M0S
SUMMARY:Merrifield/Slattery vs. Gibson/Gibson
DESCRIPTION:Pupc Tuesday High Intermediate - Late Summer 24 - Paddle Up Pickleball Club
LOCATION:Court 4
CATEGORIES:QuickScores, Pickleball Game
TRANSP:OPAQUE
BEGIN:VALARM
TRIGGER:-PT2H
ACTION:DISPLAY
DESCRIPTION:Merrifield/Slattery vs. Gibson/Gibson
END:VALARM
END:VEVENT
BEGIN:VEVENT
UID:pupc-64129911-20240827T200000@quickscores.com
DTSTAMP:20260424T105600Z
DTSTART;TZID=America/Chicago:20240827T200000
DURATION:PT0H40M0S
SUMMARY:Luke/Newman vs. Donovan/Snell
DESCRIPTION:Pupc Tuesday High Intermediate - Late Summer 24 - Paddle Up Pickleball Club
LOCATION:Court 2
CATEGORIES:QuickScores, Pickleball Game
TRANSP:OPAQUE
BEGIN:VALARM
TRIGGER:-PT2H
ACTION:DISPLAY
DESCRIPTION:Luke/Newman vs. Donovan/Snell
END:VALARM
END:VEVENT
BEGIN:VEVENT
UID:pupc-64129912-20240827T204000@quickscores.com
DTSTAMP:20260424T105600Z
DTSTART;TZID=America/Chicago:20240827T204000
DURATION:PT0H40M0S
SUMMARY:Sims/Sigman vs. Luke/Newman
DESCRIPTION:Pupc Tuesday High Intermediate - Late Summer 24 - Paddle Up Pickleball Club
LOCATION:Court 2
CATEGORIES:QuickScores, Pickleball Game
TRANSP:OPAQUE
BEGIN:VALARM
TRIGGER:-PT2H
ACTION:DISPLAY
DESCRIPTION:Sims/Sigman vs. Luke/Newman
END:VALARM
END:VEVENT
BEGIN:VEVENT
UID:pupc-64176982-20240903T180000@quickscores.com
DTSTAMP:20260424T105600Z
DTSTART;TZID=America/Chicago:20240903T180000
DURATION:PT0H40M0S
SUMMARY:Sims/Sigman vs. Donovan/Snell
DESCRIPTION:Pupc Tuesday High Intermediate - Late Summer 24 - Paddle Up Pickleball Club
LOCATION:Court 9
CATEGORIES:QuickScores, Pickleball Game
TRANSP:OPAQUE
BEGIN:VALARM
TRIGGER:-PT2H
ACTION:DISPLAY
DESCRIPTION:Sims/Sigman vs. Donovan/Snell
END:VALARM
END:VEVENT
BEGIN:VEVENT
UID:pupc-64129915-20240903T180000@quickscores.com
DTSTAMP:20260424T105600Z
DTSTART;TZID=America/Chicago:20240903T180000
DURATION:PT0H40M0S
SUMMARY:Bischof/Bodmer vs. Gibson/Gibson
DESCRIPTION:Pupc Tuesday High Intermediate - Late Summer 24 - Paddle Up Pickleball Club
LOCATION:Court 2
CATEGORIES:QuickScores, Pickleball Game
TRANSP:OPAQUE
BEGIN:VALARM
TRIGGER:-PT2H
ACTION:DISPLAY
DESCRIPTION:Bischof/Bodmer vs. Gibson/Gibson
END:VALARM
END:VEVENT
BEGIN:VEVENT
UID:pupc-64129916-20240903T184000@quickscores.com
DTSTAMP:20260424T105600Z
DTSTART;TZID=America/Chicago:20240903T184000
DURATION:PT0H40M0S
SUMMARY:Sims/Sigman vs. Gibson/Gibson
DESCRIPTION:Pupc Tuesday High Intermediate - Late Summer 24 - Paddle Up Pickleball Club
LOCATION:Court 2
CATEGORIES:QuickScores, Pickleball Game
TRANSP:OPAQUE
BEGIN:VALARM
TRIGGER:-PT2H
ACTION:DISPLAY
DESCRIPTION:Sims/Sigman vs. Gibson/Gibson
END:VALARM
END:VEVENT
BEGIN:VEVENT
UID:pupc-64129920-20240903T192000@quickscores.com
DTSTAMP:20260424T105600Z
DTSTART;TZID=America/Chicago:20240903T192000
DURATION:PT0H40M0S
SUMMARY:Luke/Newman vs. Bischof/Bodmer
DESCRIPTION:Pupc Tuesday High Intermediate - Late Summer 24 - Paddle Up Pickleball Club
LOCATION:Court 4
CATEGORIES:QuickScores, Pickleball Game
TRANSP:OPAQUE
BEGIN:VALARM
TRIGGER:-PT2H
ACTION:DISPLAY
DESCRIPTION:Luke/Newman vs. Bischof/Bodmer
END:VALARM
END:VEVENT
BEGIN:VEVENT
UID:pupc-64129917-20240903T192000@quickscores.com
DTSTAMP:20260424T105600Z
DTSTART;TZID=America/Chicago:20240903T192000
DURATION:PT0H40M0S
SUMMARY:Donovan/Snell vs. Merrifield/Slattery
DESCRIPTION:Pupc Tuesday High Intermediate - Late Summer 24 - Paddle Up Pickleball Club
LOCATION:Court 2
CATEGORIES:QuickScores, Pickleball Game
TRANSP:OPAQUE
BEGIN:VALARM
TRIGGER:-PT2H
ACTION:DISPLAY
DESCRIPTION:Donovan/Snell vs. Merrifield/Slattery
END:VALARM
END:VEVENT
BEGIN:VEVENT
UID:pupc-64129918-20240903T200000@quickscores.com
DTSTAMP:20260424T105600Z
DTSTART;TZID=America/Chicago:20240903T200000
DURATION:PT0H40M0S
SUMMARY:Luke/Newman vs. Merrifield/Slattery
DESCRIPTION:Pupc Tuesday High Intermediate - Late Summer 24 - Paddle Up Pickleball Club
LOCATION:Court 2
CATEGORIES:QuickScores, Pickleball Game
TRANSP:OPAQUE
BEGIN:VALARM
TRIGGER:-PT2H
ACTION:DISPLAY
DESCRIPTION:Luke/Newman vs. Merrifield/Slattery
END:VALARM
END:VEVENT
BEGIN:VEVENT
UID:pupc-65104680-20240910T180000@quickscores.com
DTSTAMP:20260424T105600Z
DTSTART;TZID=America/Chicago:20240910T180000
DURATION:PT0H30M0S
SUMMARY:#3 Bischof/Bodmer vs. #6 Luke/Newman
DESCRIPTION:Pupc Tuesday High Intermediate - Late Summer 24 - Paddle Up Pickleball Club
LOCATION:Court 2
CATEGORIES:QuickScores, Pickleball Game
TRANSP:OPAQUE
BEGIN:VALARM
TRIGGER:-PT2H
ACTION:DISPLAY
DESCRIPTION:#3 Bischof/Bodmer vs. #6 Luke/Newman
END:VALARM
END:VEVENT
BEGIN:VEVENT
UID:pupc-65104678-20240910T183000@quickscores.com
DTSTAMP:20260424T105600Z
DTSTART;TZID=America/Chicago:20240910T183000
DURATION:PT0H30M0S
SUMMARY:#4 Donovan/Snell vs. #5 Gibson/Gibson
DESCRIPTION:Pupc Tuesday High Intermediate - Late Summer 24 - Paddle Up Pickleball Club
LOCATION:Court 4
CATEGORIES:QuickScores, Pickleball Game
TRANSP:OPAQUE
BEGIN:VALARM
TRIGGER:-PT2H
ACTION:DISPLAY
DESCRIPTION:#4 Donovan/Snell vs. #5 Gibson/Gibson
END:VALARM
END:VEVENT
BEGIN:VEVENT
UID:pupc-65104679-20240910T183000@quickscores.com
DTSTAMP:20260424T105600Z
DTSTART;TZID=America/Chicago:20240910T183000
DURATION:PT0H30M0S
SUMMARY:#2 Turnbeaugh/Murphy vs. #7 Sims/Sigman
DESCRIPTION:Pupc Tuesday High Intermediate - Late Summer 24 - Paddle Up Pickleball Club
LOCATION:Court 2
CATEGORIES:QuickScores, Pickleball Game
TRANSP:OPAQUE
BEGIN:VALARM
TRIGGER:-PT2H
ACTION:DISPLAY
DESCRIPTION:#2 Turnbeaugh/Murphy vs. #7 Sims/Sigman
END:VALARM
END:VEVENT
BEGIN:VEVENT
UID:pupc-65104681-20240910T190000@quickscores.com
DTSTAMP:20260424T105600Z
DTSTART;TZID=America/Chicago:20240910T190000
DURATION:PT0H30M0S
SUMMARY:#1 Merrifield/Slattery vs. Winner of Game 1
DESCRIPTION:Pupc Tuesday High Intermediate - Late Summer 24 - Paddle Up Pickleball Club
LOCATION:Court 4
CATEGORIES:QuickScores, Pickleball Game
TRANSP:OPAQUE
BEGIN:VALARM
TRIGGER:-PT2H
ACTION:DISPLAY
DESCRIPTION:#1 Merrifield/Slattery vs. Winner of Game 1
END:VALARM
END:VEVENT
BEGIN:VEVENT
UID:pupc-65104682-20240910T190000@quickscores.com
DTSTAMP:20260424T105600Z
DTSTART;TZID=America/Chicago:20240910T190000
DURATION:PT0H30M0S
SUMMARY:Winner of Game 2 vs. Winner of Game 3
DESCRIPTION:Pupc Tuesday High Intermediate - Late Summer 24 - Paddle Up Pickleball Club
LOCATION:Court 2
CATEGORIES:QuickScores, Pickleball Game
TRANSP:OPAQUE
BEGIN:VALARM
TRIGGER:-PT2H
ACTION:DISPLAY
DESCRIPTION:Winner of Game 2 vs. Winner of Game 3
END:VALARM
END:VEVENT
BEGIN:VEVENT
UID:pupc-65104683-20240910T193000@quickscores.com
DTSTAMP:20260424T105600Z
DTSTART;TZID=America/Chicago:20240910T193000
DURATION:PT0H30M0S
SUMMARY:Winner of Game 4 vs. Winner of Game 5
DESCRIPTION:Pupc Tuesday High Intermediate - Late Summer 24 - Paddle Up Pickleball Club
LOCATION:Court 2
CATEGORIES:QuickScores, Pickleball Game
TRANSP:OPAQUE
BEGIN:VALARM
TRIGGER:-PT2H
ACTION:DISPLAY
DESCRIPTION:Winner of Game 4 vs. Winner of Game 5
END:VALARM
END:VEVENT
END:VCALENDAR
