BEGIN:VCALENDAR
VERSION:2.0
PRODID:-//QuickScores.com//BQ Dynamic iCal Creator//EN
METHOD:PUBLISH
X-WR-CALNAME:50 Major/55 Major Gold - 2024 USA Softball Senior Nationals
X-WR-CALDESC:QuickScores game calendar
X-PUBLISHED-TTL:PT24H
REFRESH-INTERVAL;VALUE=DURATION:PT24H
CALSCALE:GREGORIAN
BEGIN:VTIMEZONE
TZID:America/New_York
X-LIC-LOCATION:America/New_York
BEGIN:DAYLIGHT
TZNAME:EDT
TZOFFSETFROM:-0500
TZOFFSETTO:-0400
DTSTART:19700308T020000
RRULE:FREQ=YEARLY;BYMONTH=3;BYDAY=2SU
END:DAYLIGHT
BEGIN:STANDARD
TZNAME:EST
TZOFFSETFROM:-0400
TZOFFSETTO:-0500
DTSTART:19701101T020000
RRULE:FREQ=YEARLY;BYMONTH=11;BYDAY=1SU
END:STANDARD
END:VTIMEZONE
BEGIN:VEVENT
UID:issa-63960085-20240720T160000@quickscores.com
DTSTAMP:20260422T061400Z
DTSTART;TZID=America/New_York:20240720T160000
DURATION:PT1H30M0S
SUMMARY:[B #1] Half Century vs. [A #2] Bad Boyz
DESCRIPTION:50 Major/55 Major Gold - International Senior Softball Association<br>ISSA
LOCATION:CP 2
CATEGORIES:QuickScores, Softball Game
TRANSP:OPAQUE
BEGIN:VALARM
TRIGGER:-PT2H
ACTION:DISPLAY
DESCRIPTION:[B #1] Half Century vs. [A #2] Bad Boyz
END:VALARM
END:VEVENT
BEGIN:VEVENT
UID:issa-63960086-20240721T083000@quickscores.com
DTSTAMP:20260422T061400Z
DTSTART;TZID=America/New_York:20240721T083000
DURATION:PT1H30M0S
SUMMARY:[A #1] Excel Masonry vs. [B #1] Half Century
DESCRIPTION:50 Major/55 Major Gold - International Senior Softball Association<br>ISSA
LOCATION:SW 1
CATEGORIES:QuickScores, Softball Game
TRANSP:OPAQUE
BEGIN:VALARM
TRIGGER:-PT2H
ACTION:DISPLAY
DESCRIPTION:[A #1] Excel Masonry vs. [B #1] Half Century
END:VALARM
END:VEVENT
BEGIN:VEVENT
UID:issa-63960088-20240721T100000@quickscores.com
DTSTAMP:20260422T061400Z
DTSTART;TZID=America/New_York:20240721T100000
DURATION:PT1H30M0S
SUMMARY:[A #1] Excel Masonry vs. [A #2] Bad Boyz
DESCRIPTION:50 Major/55 Major Gold - International Senior Softball Association<br>ISSA
LOCATION:SW 1
CATEGORIES:QuickScores, Softball Game
TRANSP:OPAQUE
BEGIN:VALARM
TRIGGER:-PT2H
ACTION:DISPLAY
DESCRIPTION:[A #1] Excel Masonry vs. [A #2] Bad Boyz
END:VALARM
END:VEVENT
BEGIN:VEVENT
UID:issa-63960089-20240721T113000@quickscores.com
DTSTAMP:20260422T061400Z
DTSTART;TZID=America/New_York:20240721T113000
DURATION:PT1H30M0S
SUMMARY:[B #1] Half Century vs. [A #1] Excel Masonry
DESCRIPTION:50 Major/55 Major Gold - International Senior Softball Association<br>ISSA
LOCATION:SW 1
CATEGORIES:QuickScores, Softball Game
TRANSP:OPAQUE
BEGIN:VALARM
TRIGGER:-PT2H
ACTION:DISPLAY
DESCRIPTION:[B #1] Half Century vs. [A #1] Excel Masonry
END:VALARM
END:VEVENT
BEGIN:VEVENT
UID:issa-63960090-20240721T130000@quickscores.com
DTSTAMP:20260422T061400Z
DTSTART;TZID=America/New_York:20240721T130000
DURATION:PT1H30M0S
SUMMARY:Winner of Game 4 vs. Loser of Game 4
DESCRIPTION:50 Major/55 Major Gold - International Senior Softball Association<br>ISSA
LOCATION:SW 1
CATEGORIES:QuickScores, Softball Game
TRANSP:OPAQUE
BEGIN:VALARM
TRIGGER:-PT2H
ACTION:DISPLAY
DESCRIPTION:Winner of Game 4 vs. Loser of Game 4
END:VALARM
END:VEVENT
END:VCALENDAR
