BEGIN:VCALENDAR
VERSION:2.0
PRODID:-//QuickScores.com//BQ Dynamic iCal Creator//EN
METHOD:PUBLISH
X-WR-CALNAME:Summer Kitchen Classic Pickleball Tournament - Competitive - Summer 2024
X-WR-CALDESC:QuickScores game calendar
X-PUBLISHED-TTL:PT24H
REFRESH-INTERVAL;VALUE=DURATION:PT24H
CALSCALE:GREGORIAN
BEGIN:VTIMEZONE
TZID:America/Chicago
X-LIC-LOCATION:America/Chicago
BEGIN:DAYLIGHT
TZNAME:CDT
TZOFFSETFROM:-0600
TZOFFSETTO:-0500
DTSTART:19700308T020000
RRULE:FREQ=YEARLY;BYMONTH=3;BYDAY=2SU
END:DAYLIGHT
BEGIN:STANDARD
TZNAME:CST
TZOFFSETFROM:-0500
TZOFFSETTO:-0600
DTSTART:19701101T020000
RRULE:FREQ=YEARLY;BYMONTH=11;BYDAY=1SU
END:STANDARD
END:VTIMEZONE
BEGIN:VEVENT
UID:csparks-63815546-20240615T090000@quickscores.com
DTSTAMP:20260424T092800Z
DTSTART;TZID=America/Chicago:20240615T090000
DURATION:PT0H15M0S
SUMMARY:Chamoy Pickle vs. Two Old Guys
DESCRIPTION:Summer Kitchen Classic Pickleball Tournament - Competitive - Carol Stream Park District
LOCATION:Armstrong Pickleball - Court 2
CATEGORIES:QuickScores, Pickleball Game
TRANSP:OPAQUE
BEGIN:VALARM
TRIGGER:-PT2H
ACTION:DISPLAY
DESCRIPTION:Chamoy Pickle vs. Two Old Guys
END:VALARM
END:VEVENT
BEGIN:VEVENT
UID:csparks-63815547-20240615T090000@quickscores.com
DTSTAMP:20260424T092800Z
DTSTART;TZID=America/Chicago:20240615T090000
DURATION:PT0H15M0S
SUMMARY:Baby Got Back (Hand) vs. The Cunninghams
DESCRIPTION:Summer Kitchen Classic Pickleball Tournament - Competitive - Carol Stream Park District
LOCATION:Armstrong Pickleball - Court 3
CATEGORIES:QuickScores, Pickleball Game
TRANSP:OPAQUE
BEGIN:VALARM
TRIGGER:-PT2H
ACTION:DISPLAY
DESCRIPTION:Baby Got Back (Hand) vs. The Cunninghams
END:VALARM
END:VEVENT
BEGIN:VEVENT
UID:csparks-63815548-20240615T090000@quickscores.com
DTSTAMP:20260424T092800Z
DTSTART;TZID=America/Chicago:20240615T090000
DURATION:PT0H15M0S
SUMMARY:Team Fountain View vs. Illini Huskies
DESCRIPTION:Summer Kitchen Classic Pickleball Tournament - Competitive - Carol Stream Park District
LOCATION:Armstrong Pickleball - Court 1
CATEGORIES:QuickScores, Pickleball Game
TRANSP:OPAQUE
BEGIN:VALARM
TRIGGER:-PT2H
ACTION:DISPLAY
DESCRIPTION:Team Fountain View vs. Illini Huskies
END:VALARM
END:VEVENT
BEGIN:VEVENT
UID:csparks-63815549-20240615T091500@quickscores.com
DTSTAMP:20260424T092800Z
DTSTART;TZID=America/Chicago:20240615T091500
DURATION:PT0H15M0S
SUMMARY:The Cunninghams vs. Two Old Guys
DESCRIPTION:Summer Kitchen Classic Pickleball Tournament - Competitive - Carol Stream Park District
LOCATION:Armstrong Pickleball - Court 3
CATEGORIES:QuickScores, Pickleball Game
TRANSP:OPAQUE
BEGIN:VALARM
TRIGGER:-PT2H
ACTION:DISPLAY
DESCRIPTION:The Cunninghams vs. Two Old Guys
END:VALARM
END:VEVENT
BEGIN:VEVENT
UID:csparks-63815550-20240615T091500@quickscores.com
DTSTAMP:20260424T092800Z
DTSTART;TZID=America/Chicago:20240615T091500
DURATION:PT0H15M0S
SUMMARY:Chamoy Pickle vs. Team Fountain View
DESCRIPTION:Summer Kitchen Classic Pickleball Tournament - Competitive - Carol Stream Park District
LOCATION:Armstrong Pickleball - Court 1
CATEGORIES:QuickScores, Pickleball Game
TRANSP:OPAQUE
BEGIN:VALARM
TRIGGER:-PT2H
ACTION:DISPLAY
DESCRIPTION:Chamoy Pickle vs. Team Fountain View
END:VALARM
END:VEVENT
BEGIN:VEVENT
UID:csparks-63815551-20240615T091500@quickscores.com
DTSTAMP:20260424T092800Z
DTSTART;TZID=America/Chicago:20240615T091500
DURATION:PT0H15M0S
SUMMARY:Illini Huskies vs. Baby Got Back (Hand)
DESCRIPTION:Summer Kitchen Classic Pickleball Tournament - Competitive - Carol Stream Park District
LOCATION:Armstrong Pickleball - Court 2
CATEGORIES:QuickScores, Pickleball Game
TRANSP:OPAQUE
BEGIN:VALARM
TRIGGER:-PT2H
ACTION:DISPLAY
DESCRIPTION:Illini Huskies vs. Baby Got Back (Hand)
END:VALARM
END:VEVENT
BEGIN:VEVENT
UID:csparks-63815554-20240615T093000@quickscores.com
DTSTAMP:20260424T092800Z
DTSTART;TZID=America/Chicago:20240615T093000
DURATION:PT0H15M0S
SUMMARY:The Cunninghams vs. Team Fountain View
DESCRIPTION:Summer Kitchen Classic Pickleball Tournament - Competitive - Carol Stream Park District
LOCATION:Armstrong Pickleball - Court 1
CATEGORIES:QuickScores, Pickleball Game
TRANSP:OPAQUE
BEGIN:VALARM
TRIGGER:-PT2H
ACTION:DISPLAY
DESCRIPTION:The Cunninghams vs. Team Fountain View
END:VALARM
END:VEVENT
BEGIN:VEVENT
UID:csparks-63815553-20240615T093000@quickscores.com
DTSTAMP:20260424T092800Z
DTSTART;TZID=America/Chicago:20240615T093000
DURATION:PT0H15M0S
SUMMARY:Illini Huskies vs. Chamoy Pickle
DESCRIPTION:Summer Kitchen Classic Pickleball Tournament - Competitive - Carol Stream Park District
LOCATION:Armstrong Pickleball - Court 2
CATEGORIES:QuickScores, Pickleball Game
TRANSP:OPAQUE
BEGIN:VALARM
TRIGGER:-PT2H
ACTION:DISPLAY
DESCRIPTION:Illini Huskies vs. Chamoy Pickle
END:VALARM
END:VEVENT
BEGIN:VEVENT
UID:csparks-63815552-20240615T093000@quickscores.com
DTSTAMP:20260424T092800Z
DTSTART;TZID=America/Chicago:20240615T093000
DURATION:PT0H15M0S
SUMMARY:Baby Got Back (Hand) vs. Two Old Guys
DESCRIPTION:Summer Kitchen Classic Pickleball Tournament - Competitive - Carol Stream Park District
LOCATION:Armstrong Pickleball - Court 3
CATEGORIES:QuickScores, Pickleball Game
TRANSP:OPAQUE
BEGIN:VALARM
TRIGGER:-PT2H
ACTION:DISPLAY
DESCRIPTION:Baby Got Back (Hand) vs. Two Old Guys
END:VALARM
END:VEVENT
BEGIN:VEVENT
UID:csparks-63815555-20240615T094500@quickscores.com
DTSTAMP:20260424T092800Z
DTSTART;TZID=America/Chicago:20240615T094500
DURATION:PT0H15M0S
SUMMARY:Two Old Guys vs. Team Fountain View
DESCRIPTION:Summer Kitchen Classic Pickleball Tournament - Competitive - Carol Stream Park District
LOCATION:Armstrong Pickleball - Court 3
CATEGORIES:QuickScores, Pickleball Game
TRANSP:OPAQUE
BEGIN:VALARM
TRIGGER:-PT2H
ACTION:DISPLAY
DESCRIPTION:Two Old Guys vs. Team Fountain View
END:VALARM
END:VEVENT
BEGIN:VEVENT
UID:csparks-63815556-20240615T094500@quickscores.com
DTSTAMP:20260424T092800Z
DTSTART;TZID=America/Chicago:20240615T094500
DURATION:PT0H15M0S
SUMMARY:The Cunninghams vs. Illini Huskies
DESCRIPTION:Summer Kitchen Classic Pickleball Tournament - Competitive - Carol Stream Park District
LOCATION:Armstrong Pickleball - Court 1
CATEGORIES:QuickScores, Pickleball Game
TRANSP:OPAQUE
BEGIN:VALARM
TRIGGER:-PT2H
ACTION:DISPLAY
DESCRIPTION:The Cunninghams vs. Illini Huskies
END:VALARM
END:VEVENT
BEGIN:VEVENT
UID:csparks-63815557-20240615T094500@quickscores.com
DTSTAMP:20260424T092800Z
DTSTART;TZID=America/Chicago:20240615T094500
DURATION:PT0H15M0S
SUMMARY:Baby Got Back (Hand) vs. Chamoy Pickle
DESCRIPTION:Summer Kitchen Classic Pickleball Tournament - Competitive - Carol Stream Park District
LOCATION:Armstrong Pickleball - Court 2
CATEGORIES:QuickScores, Pickleball Game
TRANSP:OPAQUE
BEGIN:VALARM
TRIGGER:-PT2H
ACTION:DISPLAY
DESCRIPTION:Baby Got Back (Hand) vs. Chamoy Pickle
END:VALARM
END:VEVENT
BEGIN:VEVENT
UID:csparks-63815560-20240615T100000@quickscores.com
DTSTAMP:20260424T092800Z
DTSTART;TZID=America/Chicago:20240615T100000
DURATION:PT0H15M0S
SUMMARY:Chamoy Pickle vs. The Cunninghams
DESCRIPTION:Summer Kitchen Classic Pickleball Tournament - Competitive - Carol Stream Park District
LOCATION:Armstrong Pickleball - Court 1
CATEGORIES:QuickScores, Pickleball Game
TRANSP:OPAQUE
BEGIN:VALARM
TRIGGER:-PT2H
ACTION:DISPLAY
DESCRIPTION:Chamoy Pickle vs. The Cunninghams
END:VALARM
END:VEVENT
BEGIN:VEVENT
UID:csparks-63815559-20240615T100000@quickscores.com
DTSTAMP:20260424T092800Z
DTSTART;TZID=America/Chicago:20240615T100000
DURATION:PT0H15M0S
SUMMARY:Team Fountain View vs. Baby Got Back (Hand)
DESCRIPTION:Summer Kitchen Classic Pickleball Tournament - Competitive - Carol Stream Park District
LOCATION:Armstrong Pickleball - Court 3
CATEGORIES:QuickScores, Pickleball Game
TRANSP:OPAQUE
BEGIN:VALARM
TRIGGER:-PT2H
ACTION:DISPLAY
DESCRIPTION:Team Fountain View vs. Baby Got Back (Hand)
END:VALARM
END:VEVENT
BEGIN:VEVENT
UID:csparks-63815558-20240615T100000@quickscores.com
DTSTAMP:20260424T092800Z
DTSTART;TZID=America/Chicago:20240615T100000
DURATION:PT0H15M0S
SUMMARY:Two Old Guys vs. Illini Huskies
DESCRIPTION:Summer Kitchen Classic Pickleball Tournament - Competitive - Carol Stream Park District
LOCATION:Armstrong Pickleball - Court 2
CATEGORIES:QuickScores, Pickleball Game
TRANSP:OPAQUE
BEGIN:VALARM
TRIGGER:-PT2H
ACTION:DISPLAY
DESCRIPTION:Two Old Guys vs. Illini Huskies
END:VALARM
END:VEVENT
BEGIN:VEVENT
UID:csparks-63815562-20240615T103000@quickscores.com
DTSTAMP:20260424T092800Z
DTSTART;TZID=America/Chicago:20240615T103000
DURATION:PT0H30M0S
SUMMARY:[ 4 ] Team Fountain View vs. [ 5 ] Baby Got Back (Hand)
DESCRIPTION:Summer Kitchen Classic Pickleball Tournament - Competitive - Carol Stream Park District
LOCATION:Armstrong Pickleball - Court 1
CATEGORIES:QuickScores, Pickleball Game
TRANSP:OPAQUE
BEGIN:VALARM
TRIGGER:-PT2H
ACTION:DISPLAY
DESCRIPTION:[ 4 ] Team Fountain View vs. [ 5 ] Baby Got Back (Hand)
END:VALARM
END:VEVENT
BEGIN:VEVENT
UID:csparks-63815564-20240615T103000@quickscores.com
DTSTAMP:20260424T092800Z
DTSTART;TZID=America/Chicago:20240615T103000
DURATION:PT0H30M0S
SUMMARY:[ 3 ] Chamoy Pickle vs. [ 6 ] The Cunninghams
DESCRIPTION:Summer Kitchen Classic Pickleball Tournament - Competitive - Carol Stream Park District
LOCATION:Armstrong Pickleball - Court 2
CATEGORIES:QuickScores, Pickleball Game
TRANSP:OPAQUE
BEGIN:VALARM
TRIGGER:-PT2H
ACTION:DISPLAY
DESCRIPTION:[ 3 ] Chamoy Pickle vs. [ 6 ] The Cunninghams
END:VALARM
END:VEVENT
BEGIN:VEVENT
UID:csparks-63815565-20240615T110000@quickscores.com
DTSTAMP:20260424T092800Z
DTSTART;TZID=America/Chicago:20240615T110000
DURATION:PT0H30M0S
SUMMARY:[ 1 ] Illini Huskies vs. [ 4 ] Team Fountain View
DESCRIPTION:Summer Kitchen Classic Pickleball Tournament - Competitive - Carol Stream Park District
LOCATION:Armstrong Pickleball - Court 1
CATEGORIES:QuickScores, Pickleball Game
TRANSP:OPAQUE
BEGIN:VALARM
TRIGGER:-PT2H
ACTION:DISPLAY
DESCRIPTION:[ 1 ] Illini Huskies vs. [ 4 ] Team Fountain View
END:VALARM
END:VEVENT
BEGIN:VEVENT
UID:csparks-63815566-20240615T110000@quickscores.com
DTSTAMP:20260424T092800Z
DTSTART;TZID=America/Chicago:20240615T110000
DURATION:PT0H30M0S
SUMMARY:[ 2 ] Two Old Guys vs. [ 3 ] Chamoy Pickle
DESCRIPTION:Summer Kitchen Classic Pickleball Tournament - Competitive - Carol Stream Park District
LOCATION:Armstrong Pickleball - Court 2
CATEGORIES:QuickScores, Pickleball Game
TRANSP:OPAQUE
BEGIN:VALARM
TRIGGER:-PT2H
ACTION:DISPLAY
DESCRIPTION:[ 2 ] Two Old Guys vs. [ 3 ] Chamoy Pickle
END:VALARM
END:VEVENT
BEGIN:VEVENT
UID:csparks-63815570-20240615T113000@quickscores.com
DTSTAMP:20260424T092800Z
DTSTART;TZID=America/Chicago:20240615T113000
DURATION:PT0H30M0S
SUMMARY:[ 4 ] Team Fountain View vs. [ 6 ] The Cunninghams
DESCRIPTION:Summer Kitchen Classic Pickleball Tournament - Competitive - Carol Stream Park District
LOCATION:Armstrong Pickleball - Court 3
CATEGORIES:QuickScores, Pickleball Game
TRANSP:OPAQUE
BEGIN:VALARM
TRIGGER:-PT2H
ACTION:DISPLAY
DESCRIPTION:[ 4 ] Team Fountain View vs. [ 6 ] The Cunninghams
END:VALARM
END:VEVENT
BEGIN:VEVENT
UID:csparks-63815569-20240615T113000@quickscores.com
DTSTAMP:20260424T092800Z
DTSTART;TZID=America/Chicago:20240615T113000
DURATION:PT0H30M0S
SUMMARY:[ 3 ] Chamoy Pickle vs. [ 5 ] Baby Got Back (Hand)
DESCRIPTION:Summer Kitchen Classic Pickleball Tournament - Competitive - Carol Stream Park District
LOCATION:Armstrong Pickleball - Court 2
CATEGORIES:QuickScores, Pickleball Game
TRANSP:OPAQUE
BEGIN:VALARM
TRIGGER:-PT2H
ACTION:DISPLAY
DESCRIPTION:[ 3 ] Chamoy Pickle vs. [ 5 ] Baby Got Back (Hand)
END:VALARM
END:VEVENT
BEGIN:VEVENT
UID:csparks-63815571-20240615T120000@quickscores.com
DTSTAMP:20260424T092800Z
DTSTART;TZID=America/Chicago:20240615T120000
DURATION:PT0H30M0S
SUMMARY:[ 1 ] Illini Huskies vs. [ 2 ] Two Old Guys
DESCRIPTION:Summer Kitchen Classic Pickleball Tournament - Competitive - Carol Stream Park District
LOCATION:Armstrong Pickleball - Court 1
CATEGORIES:QuickScores, Pickleball Game
TRANSP:OPAQUE
BEGIN:VALARM
TRIGGER:-PT2H
ACTION:DISPLAY
DESCRIPTION:[ 1 ] Illini Huskies vs. [ 2 ] Two Old Guys
END:VALARM
END:VEVENT
BEGIN:VEVENT
UID:csparks-63815572-20240615T120000@quickscores.com
DTSTAMP:20260424T092800Z
DTSTART;TZID=America/Chicago:20240615T120000
DURATION:PT0H30M0S
SUMMARY:[ 3 ] Chamoy Pickle vs. [ 4 ] Team Fountain View
DESCRIPTION:Summer Kitchen Classic Pickleball Tournament - Competitive - Carol Stream Park District
LOCATION:Armstrong Pickleball - Court 2
CATEGORIES:QuickScores, Pickleball Game
TRANSP:OPAQUE
BEGIN:VALARM
TRIGGER:-PT2H
ACTION:DISPLAY
DESCRIPTION:[ 3 ] Chamoy Pickle vs. [ 4 ] Team Fountain View
END:VALARM
END:VEVENT
BEGIN:VEVENT
UID:csparks-63815573-20240615T123000@quickscores.com
DTSTAMP:20260424T092800Z
DTSTART;TZID=America/Chicago:20240615T123000
DURATION:PT0H30M0S
SUMMARY:[ 2 ] Two Old Guys vs. [ 3 ] Chamoy Pickle
DESCRIPTION:Summer Kitchen Classic Pickleball Tournament - Competitive - Carol Stream Park District
LOCATION:Armstrong Pickleball - Court 2
CATEGORIES:QuickScores, Pickleball Game
TRANSP:OPAQUE
BEGIN:VALARM
TRIGGER:-PT2H
ACTION:DISPLAY
DESCRIPTION:[ 2 ] Two Old Guys vs. [ 3 ] Chamoy Pickle
END:VALARM
END:VEVENT
BEGIN:VEVENT
UID:csparks-63815574-20240615T130000@quickscores.com
DTSTAMP:20260424T092800Z
DTSTART;TZID=America/Chicago:20240615T130000
DURATION:PT0H30M0S
SUMMARY:[ 1 ] Illini Huskies vs. [ 3 ] Chamoy Pickle
DESCRIPTION:Summer Kitchen Classic Pickleball Tournament - Competitive - Carol Stream Park District
LOCATION:Armstrong Pickleball - Court 1
CATEGORIES:QuickScores, Pickleball Game
TRANSP:OPAQUE
BEGIN:VALARM
TRIGGER:-PT2H
ACTION:DISPLAY
DESCRIPTION:[ 1 ] Illini Huskies vs. [ 3 ] Chamoy Pickle
END:VALARM
END:VEVENT
END:VCALENDAR
