BEGIN:VCALENDAR
VERSION:2.0
PRODID:-//QuickScores.com//BQ Dynamic iCal Creator//EN
METHOD:PUBLISH
X-WR-CALNAME:Men 70 Major/major Gold - 2024 WBSC Senior World Cup
X-WR-CALDESC:QuickScores game calendar
X-PUBLISHED-TTL:PT24H
REFRESH-INTERVAL;VALUE=DURATION:PT24H
CALSCALE:GREGORIAN
BEGIN:VTIMEZONE
TZID:America/New_York
X-LIC-LOCATION:America/New_York
BEGIN:DAYLIGHT
TZNAME:EDT
TZOFFSETFROM:-0500
TZOFFSETTO:-0400
DTSTART:19700308T020000
RRULE:FREQ=YEARLY;BYMONTH=3;BYDAY=2SU
END:DAYLIGHT
BEGIN:STANDARD
TZNAME:EST
TZOFFSETFROM:-0400
TZOFFSETTO:-0500
DTSTART:19701101T020000
RRULE:FREQ=YEARLY;BYMONTH=11;BYDAY=1SU
END:STANDARD
END:VTIMEZONE
BEGIN:VEVENT
UID:issa-63779248-20240618T120000@quickscores.com
DTSTAMP:20260421T180100Z
DTSTART;TZID=America/New_York:20240618T120000
DURATION:PT1H30M0S
SUMMARY:Northern Virginia Force 70s vs. High Street Hitmen
DESCRIPTION:Men 70 Major/major Gold - International Senior Softball Association<br>ISSA
LOCATION:BSC 3
CATEGORIES:QuickScores, Softball Game
TRANSP:OPAQUE
BEGIN:VALARM
TRIGGER:-PT2H
ACTION:DISPLAY
DESCRIPTION:Northern Virginia Force 70s vs. High Street Hitmen
END:VALARM
END:VEVENT
BEGIN:VEVENT
UID:issa-63779245-20240618T133000@quickscores.com
DTSTAMP:20260421T180100Z
DTSTART;TZID=America/New_York:20240618T133000
DURATION:PT1H30M0S
SUMMARY:Walk On's vs. Northern Virginia Force 70s
DESCRIPTION:Men 70 Major/major Gold - International Senior Softball Association<br>ISSA
LOCATION:BSC 3
CATEGORIES:QuickScores, Softball Game
TRANSP:OPAQUE
BEGIN:VALARM
TRIGGER:-PT2H
ACTION:DISPLAY
DESCRIPTION:Walk On's vs. Northern Virginia Force 70s
END:VALARM
END:VEVENT
BEGIN:VEVENT
UID:issa-63779246-20240618T133000@quickscores.com
DTSTAMP:20260421T180100Z
DTSTART;TZID=America/New_York:20240618T133000
DURATION:PT1H30M0S
SUMMARY:High Street Hitmen vs. Pill and Pill 70s
DESCRIPTION:Men 70 Major/major Gold - International Senior Softball Association<br>ISSA
LOCATION:BSC 1
CATEGORIES:QuickScores, Softball Game
TRANSP:OPAQUE
BEGIN:VALARM
TRIGGER:-PT2H
ACTION:DISPLAY
DESCRIPTION:High Street Hitmen vs. Pill and Pill 70s
END:VALARM
END:VEVENT
BEGIN:VEVENT
UID:issa-63779247-20240618T133000@quickscores.com
DTSTAMP:20260421T180100Z
DTSTART;TZID=America/New_York:20240618T133000
DURATION:PT1H30M0S
SUMMARY:SDA vs. Pittsburgh 70s
DESCRIPTION:Men 70 Major/major Gold - International Senior Softball Association<br>ISSA
LOCATION:BSC 4
CATEGORIES:QuickScores, Softball Game
TRANSP:OPAQUE
BEGIN:VALARM
TRIGGER:-PT2H
ACTION:DISPLAY
DESCRIPTION:SDA vs. Pittsburgh 70s
END:VALARM
END:VEVENT
BEGIN:VEVENT
UID:issa-63779249-20240618T150000@quickscores.com
DTSTAMP:20260421T180100Z
DTSTART;TZID=America/New_York:20240618T150000
DURATION:PT1H30M0S
SUMMARY:Pill and Pill 70s vs. Walk On's
DESCRIPTION:Men 70 Major/major Gold - International Senior Softball Association<br>ISSA
LOCATION:BSC 4
CATEGORIES:QuickScores, Softball Game
TRANSP:OPAQUE
BEGIN:VALARM
TRIGGER:-PT2H
ACTION:DISPLAY
DESCRIPTION:Pill and Pill 70s vs. Walk On's
END:VALARM
END:VEVENT
BEGIN:VEVENT
UID:issa-63779250-20240618T150000@quickscores.com
DTSTAMP:20260421T180100Z
DTSTART;TZID=America/New_York:20240618T150000
DURATION:PT1H30M0S
SUMMARY:Pittsburgh 70s vs. Old Skool/Extra Innings/James River
DESCRIPTION:Men 70 Major/major Gold - International Senior Softball Association<br>ISSA
LOCATION:BSC 3
CATEGORIES:QuickScores, Softball Game
TRANSP:OPAQUE
BEGIN:VALARM
TRIGGER:-PT2H
ACTION:DISPLAY
DESCRIPTION:Pittsburgh 70s vs. Old Skool/Extra Innings/James River
END:VALARM
END:VEVENT
BEGIN:VEVENT
UID:issa-63779244-20240618T163000@quickscores.com
DTSTAMP:20260421T180100Z
DTSTART;TZID=America/New_York:20240618T163000
DURATION:PT1H30M0S
SUMMARY:Old Skool/Extra Innings/James River vs. SDA
DESCRIPTION:Men 70 Major/major Gold - International Senior Softball Association<br>ISSA
LOCATION:BSC 4
CATEGORIES:QuickScores, Softball Game
TRANSP:OPAQUE
BEGIN:VALARM
TRIGGER:-PT2H
ACTION:DISPLAY
DESCRIPTION:Old Skool/Extra Innings/James River vs. SDA
END:VALARM
END:VEVENT
END:VCALENDAR
