BEGIN:VCALENDAR
VERSION:2.0
PRODID:-//QuickScores.com//BQ Dynamic iCal Creator//EN
METHOD:PUBLISH
X-WR-CALNAME:85 - Thee Buckeye Classic - 2024
X-WR-CALDESC:QuickScores game calendar
X-PUBLISHED-TTL:PT24H
REFRESH-INTERVAL;VALUE=DURATION:PT24H
CALSCALE:GREGORIAN
BEGIN:VTIMEZONE
TZID:America/New_York
X-LIC-LOCATION:America/New_York
BEGIN:DAYLIGHT
TZNAME:EDT
TZOFFSETFROM:-0500
TZOFFSETTO:-0400
DTSTART:19700308T020000
RRULE:FREQ=YEARLY;BYMONTH=3;BYDAY=2SU
END:DAYLIGHT
BEGIN:STANDARD
TZNAME:EST
TZOFFSETFROM:-0400
TZOFFSETTO:-0500
DTSTART:19701101T020000
RRULE:FREQ=YEARLY;BYMONTH=11;BYDAY=1SU
END:STANDARD
END:VTIMEZONE
BEGIN:VEVENT
UID:thebuckeyeclassic-63752741-20240625T120000@quickscores.com
DTSTAMP:20260425T125900Z
DTSTART;TZID=America/New_York:20240625T120000
DURATION:PT1H30M0S
SUMMARY:#1 Main St Pub vs. #2 Center for Sight
DESCRIPTION:85 - <BR> <b> The Buckeye Classic
LOCATION:Field 4
CATEGORIES:QuickScores, Softball - Adult Game
TRANSP:OPAQUE
BEGIN:VALARM
TRIGGER:-PT2H
ACTION:DISPLAY
DESCRIPTION:#1 Main St Pub vs. #2 Center for Sight
END:VALARM
END:VEVENT
BEGIN:VEVENT
UID:thebuckeyeclassic-63752742-20240626T090000@quickscores.com
DTSTAMP:20260425T125900Z
DTSTART;TZID=America/New_York:20240626T090000
DURATION:PT1H30M0S
SUMMARY:#2 Center for Sight vs. #1 Main St Pub
DESCRIPTION:85 - <BR> <b> The Buckeye Classic
LOCATION:Field 3
CATEGORIES:QuickScores, Softball - Adult Game
TRANSP:OPAQUE
BEGIN:VALARM
TRIGGER:-PT2H
ACTION:DISPLAY
DESCRIPTION:#2 Center for Sight vs. #1 Main St Pub
END:VALARM
END:VEVENT
END:VCALENDAR
