BEGIN:VCALENDAR
VERSION:2.0
PRODID:-//QuickScores.com//BQ Dynamic iCal Creator//EN
METHOD:PUBLISH
X-WR-CALNAME:Fmg Thursday Inter. Lg. - Early Summer 24 - Completed Leagues 2023/24
X-WR-CALDESC:QuickScores game calendar
X-PUBLISHED-TTL:PT24H
REFRESH-INTERVAL;VALUE=DURATION:PT24H
CALSCALE:GREGORIAN
BEGIN:VTIMEZONE
TZID:America/Chicago
X-LIC-LOCATION:America/Chicago
BEGIN:DAYLIGHT
TZNAME:CDT
TZOFFSETFROM:-0600
TZOFFSETTO:-0500
DTSTART:19700308T020000
RRULE:FREQ=YEARLY;BYMONTH=3;BYDAY=2SU
END:DAYLIGHT
BEGIN:STANDARD
TZNAME:CST
TZOFFSETFROM:-0500
TZOFFSETTO:-0600
DTSTART:19701101T020000
RRULE:FREQ=YEARLY;BYMONTH=11;BYDAY=1SU
END:STANDARD
END:VTIMEZONE
BEGIN:VEVENT
UID:pupc-63516978-20240530T180000@quickscores.com
DTSTAMP:20260424T054500Z
DTSTART;TZID=America/Chicago:20240530T180000
DURATION:PT0H40M0S
SUMMARY:Gurgol/Burke vs. Sims/Sigman
DESCRIPTION:Fmg Thursday Inter. Lg. - Early Summer 24 - Paddle Up Pickleball Club
LOCATION:FMG Court 2
CATEGORIES:QuickScores, Pickleball Game
TRANSP:OPAQUE
BEGIN:VALARM
TRIGGER:-PT2H
ACTION:DISPLAY
DESCRIPTION:Gurgol/Burke vs. Sims/Sigman
END:VALARM
END:VEVENT
BEGIN:VEVENT
UID:pupc-63516977-20240530T180000@quickscores.com
DTSTAMP:20260424T054500Z
DTSTART;TZID=America/Chicago:20240530T180000
DURATION:PT0H40M0S
SUMMARY:Bodmer/Bischof vs. Reiter/Fishering
DESCRIPTION:Fmg Thursday Inter. Lg. - Early Summer 24 - Paddle Up Pickleball Club
LOCATION:FMG Court 1
CATEGORIES:QuickScores, Pickleball Game
TRANSP:OPAQUE
BEGIN:VALARM
TRIGGER:-PT2H
ACTION:DISPLAY
DESCRIPTION:Bodmer/Bischof vs. Reiter/Fishering
END:VALARM
END:VEVENT
BEGIN:VEVENT
UID:pupc-63516972-20240530T184000@quickscores.com
DTSTAMP:20260424T054500Z
DTSTART;TZID=America/Chicago:20240530T184000
DURATION:PT0H40M0S
SUMMARY:Bodmer/Bischof vs. Sims/Sigman
DESCRIPTION:Fmg Thursday Inter. Lg. - Early Summer 24 - Paddle Up Pickleball Club
LOCATION:FMG Court 1
CATEGORIES:QuickScores, Pickleball Game
TRANSP:OPAQUE
BEGIN:VALARM
TRIGGER:-PT2H
ACTION:DISPLAY
DESCRIPTION:Bodmer/Bischof vs. Sims/Sigman
END:VALARM
END:VEVENT
BEGIN:VEVENT
UID:pupc-63516973-20240530T184000@quickscores.com
DTSTAMP:20260424T054500Z
DTSTART;TZID=America/Chicago:20240530T184000
DURATION:PT0H40M0S
SUMMARY:Gurgol/Burke vs. Reiter/Fishering
DESCRIPTION:Fmg Thursday Inter. Lg. - Early Summer 24 - Paddle Up Pickleball Club
LOCATION:FMG Court 2
CATEGORIES:QuickScores, Pickleball Game
TRANSP:OPAQUE
BEGIN:VALARM
TRIGGER:-PT2H
ACTION:DISPLAY
DESCRIPTION:Gurgol/Burke vs. Reiter/Fishering
END:VALARM
END:VEVENT
BEGIN:VEVENT
UID:pupc-63516979-20240530T192000@quickscores.com
DTSTAMP:20260424T054500Z
DTSTART;TZID=America/Chicago:20240530T192000
DURATION:PT0H40M0S
SUMMARY:Gurgol/Heffern vs. DuBois/Shouse
DESCRIPTION:Fmg Thursday Inter. Lg. - Early Summer 24 - Paddle Up Pickleball Club
LOCATION:FMG Court 2
CATEGORIES:QuickScores, Pickleball Game
TRANSP:OPAQUE
BEGIN:VALARM
TRIGGER:-PT2H
ACTION:DISPLAY
DESCRIPTION:Gurgol/Heffern vs. DuBois/Shouse
END:VALARM
END:VEVENT
BEGIN:VEVENT
UID:pupc-63516974-20240530T192000@quickscores.com
DTSTAMP:20260424T054500Z
DTSTART;TZID=America/Chicago:20240530T192000
DURATION:PT0H40M0S
SUMMARY:Steinbeck/Steinbeck vs. VanSoelen/Fiala
DESCRIPTION:Fmg Thursday Inter. Lg. - Early Summer 24 - Paddle Up Pickleball Club
LOCATION:FMG Court 1
CATEGORIES:QuickScores, Pickleball Game
TRANSP:OPAQUE
BEGIN:VALARM
TRIGGER:-PT2H
ACTION:DISPLAY
DESCRIPTION:Steinbeck/Steinbeck vs. VanSoelen/Fiala
END:VALARM
END:VEVENT
BEGIN:VEVENT
UID:pupc-63516976-20240530T200000@quickscores.com
DTSTAMP:20260424T054500Z
DTSTART;TZID=America/Chicago:20240530T200000
DURATION:PT0H40M0S
SUMMARY:Gauding/Imboden vs. Gurgol/Heffern
DESCRIPTION:Fmg Thursday Inter. Lg. - Early Summer 24 - Paddle Up Pickleball Club
LOCATION:FMG Court 2
CATEGORIES:QuickScores, Pickleball Game
TRANSP:OPAQUE
BEGIN:VALARM
TRIGGER:-PT2H
ACTION:DISPLAY
DESCRIPTION:Gauding/Imboden vs. Gurgol/Heffern
END:VALARM
END:VEVENT
BEGIN:VEVENT
UID:pupc-63516980-20240530T204000@quickscores.com
DTSTAMP:20260424T054500Z
DTSTART;TZID=America/Chicago:20240530T204000
DURATION:PT0H40M0S
SUMMARY:DuBois/Shouse vs. Steinbeck/Steinbeck
DESCRIPTION:Fmg Thursday Inter. Lg. - Early Summer 24 - Paddle Up Pickleball Club
LOCATION:FMG Court 1
CATEGORIES:QuickScores, Pickleball Game
TRANSP:OPAQUE
BEGIN:VALARM
TRIGGER:-PT2H
ACTION:DISPLAY
DESCRIPTION:DuBois/Shouse vs. Steinbeck/Steinbeck
END:VALARM
END:VEVENT
BEGIN:VEVENT
UID:pupc-63516981-20240530T204000@quickscores.com
DTSTAMP:20260424T054500Z
DTSTART;TZID=America/Chicago:20240530T204000
DURATION:PT0H40M0S
SUMMARY:Gauding/Imboden vs. VanSoelen/Fiala
DESCRIPTION:Fmg Thursday Inter. Lg. - Early Summer 24 - Paddle Up Pickleball Club
LOCATION:FMG Court 2
CATEGORIES:QuickScores, Pickleball Game
TRANSP:OPAQUE
BEGIN:VALARM
TRIGGER:-PT2H
ACTION:DISPLAY
DESCRIPTION:Gauding/Imboden vs. VanSoelen/Fiala
END:VALARM
END:VEVENT
BEGIN:VEVENT
UID:pupc-63516982-20240606T180000@quickscores.com
DTSTAMP:20260424T054500Z
DTSTART;TZID=America/Chicago:20240606T180000
DURATION:PT0H40M0S
SUMMARY:Gurgol/Burke vs. Gauding/Imboden
DESCRIPTION:Fmg Thursday Inter. Lg. - Early Summer 24 - Paddle Up Pickleball Club
LOCATION:FMG Court 1
CATEGORIES:QuickScores, Pickleball Game
TRANSP:OPAQUE
BEGIN:VALARM
TRIGGER:-PT2H
ACTION:DISPLAY
DESCRIPTION:Gurgol/Burke vs. Gauding/Imboden
END:VALARM
END:VEVENT
BEGIN:VEVENT
UID:pupc-63516984-20240606T184000@quickscores.com
DTSTAMP:20260424T054500Z
DTSTART;TZID=America/Chicago:20240606T184000
DURATION:PT0H40M0S
SUMMARY:Mueller/Stuhlman vs. Bodmer/Bischof
DESCRIPTION:Fmg Thursday Inter. Lg. - Early Summer 24 - Paddle Up Pickleball Club
LOCATION:FMG Court 1
CATEGORIES:QuickScores, Pickleball Game
TRANSP:OPAQUE
BEGIN:VALARM
TRIGGER:-PT2H
ACTION:DISPLAY
DESCRIPTION:Mueller/Stuhlman vs. Bodmer/Bischof
END:VALARM
END:VEVENT
BEGIN:VEVENT
UID:pupc-63516985-20240606T184000@quickscores.com
DTSTAMP:20260424T054500Z
DTSTART;TZID=America/Chicago:20240606T184000
DURATION:PT0H40M0S
SUMMARY:VanSoelen/Fiala vs. Gurgol/Burke
DESCRIPTION:Fmg Thursday Inter. Lg. - Early Summer 24 - Paddle Up Pickleball Club
LOCATION:FMG Court 2
CATEGORIES:QuickScores, Pickleball Game
TRANSP:OPAQUE
BEGIN:VALARM
TRIGGER:-PT2H
ACTION:DISPLAY
DESCRIPTION:VanSoelen/Fiala vs. Gurgol/Burke
END:VALARM
END:VEVENT
BEGIN:VEVENT
UID:pupc-63516988-20240606T192000@quickscores.com
DTSTAMP:20260424T054500Z
DTSTART;TZID=America/Chicago:20240606T192000
DURATION:PT0H40M0S
SUMMARY:Gurgol/Heffern vs. VanSoelen/Fiala
DESCRIPTION:Fmg Thursday Inter. Lg. - Early Summer 24 - Paddle Up Pickleball Club
LOCATION:FMG Court 1
CATEGORIES:QuickScores, Pickleball Game
TRANSP:OPAQUE
BEGIN:VALARM
TRIGGER:-PT2H
ACTION:DISPLAY
DESCRIPTION:Gurgol/Heffern vs. VanSoelen/Fiala
END:VALARM
END:VEVENT
BEGIN:VEVENT
UID:pupc-63516987-20240606T192000@quickscores.com
DTSTAMP:20260424T054500Z
DTSTART;TZID=America/Chicago:20240606T192000
DURATION:PT0H40M0S
SUMMARY:Gauding/Imboden vs. Bodmer/Bischof
DESCRIPTION:Fmg Thursday Inter. Lg. - Early Summer 24 - Paddle Up Pickleball Club
LOCATION:FMG Court 2
CATEGORIES:QuickScores, Pickleball Game
TRANSP:OPAQUE
BEGIN:VALARM
TRIGGER:-PT2H
ACTION:DISPLAY
DESCRIPTION:Gauding/Imboden vs. Bodmer/Bischof
END:VALARM
END:VEVENT
BEGIN:VEVENT
UID:pupc-63516986-20240606T200000@quickscores.com
DTSTAMP:20260424T054500Z
DTSTART;TZID=America/Chicago:20240606T200000
DURATION:PT0H40M0S
SUMMARY:Steinbeck/Steinbeck vs. Mueller/Stuhlman
DESCRIPTION:Fmg Thursday Inter. Lg. - Early Summer 24 - Paddle Up Pickleball Club
LOCATION:FMG Court 1
CATEGORIES:QuickScores, Pickleball Game
TRANSP:OPAQUE
BEGIN:VALARM
TRIGGER:-PT2H
ACTION:DISPLAY
DESCRIPTION:Steinbeck/Steinbeck vs. Mueller/Stuhlman
END:VALARM
END:VEVENT
BEGIN:VEVENT
UID:pupc-63516989-20240606T200000@quickscores.com
DTSTAMP:20260424T054500Z
DTSTART;TZID=America/Chicago:20240606T200000
DURATION:PT0H40M0S
SUMMARY:Sims/Sigman vs. Gurgol/Heffern
DESCRIPTION:Fmg Thursday Inter. Lg. - Early Summer 24 - Paddle Up Pickleball Club
LOCATION:FMG Court 2
CATEGORIES:QuickScores, Pickleball Game
TRANSP:OPAQUE
BEGIN:VALARM
TRIGGER:-PT2H
ACTION:DISPLAY
DESCRIPTION:Sims/Sigman vs. Gurgol/Heffern
END:VALARM
END:VEVENT
BEGIN:VEVENT
UID:pupc-63516990-20240606T204000@quickscores.com
DTSTAMP:20260424T054500Z
DTSTART;TZID=America/Chicago:20240606T204000
DURATION:PT0H40M0S
SUMMARY:Steinbeck/Steinbeck vs. Sims/Sigman
DESCRIPTION:Fmg Thursday Inter. Lg. - Early Summer 24 - Paddle Up Pickleball Club
LOCATION:FMG Court 1
CATEGORIES:QuickScores, Pickleball Game
TRANSP:OPAQUE
BEGIN:VALARM
TRIGGER:-PT2H
ACTION:DISPLAY
DESCRIPTION:Steinbeck/Steinbeck vs. Sims/Sigman
END:VALARM
END:VEVENT
BEGIN:VEVENT
UID:pupc-63516992-20240613T180000@quickscores.com
DTSTAMP:20260424T054500Z
DTSTART;TZID=America/Chicago:20240613T180000
DURATION:PT0H40M0S
SUMMARY:Gauding/Imboden vs. Mueller/Stuhlman
DESCRIPTION:Fmg Thursday Inter. Lg. - Early Summer 24 - Paddle Up Pickleball Club
LOCATION:FMG Court 1
CATEGORIES:QuickScores, Pickleball Game
TRANSP:OPAQUE
BEGIN:VALARM
TRIGGER:-PT2H
ACTION:DISPLAY
DESCRIPTION:Gauding/Imboden vs. Mueller/Stuhlman
END:VALARM
END:VEVENT
BEGIN:VEVENT
UID:pupc-63516993-20240613T180000@quickscores.com
DTSTAMP:20260424T054500Z
DTSTART;TZID=America/Chicago:20240613T180000
DURATION:PT0H40M0S
SUMMARY:Gurgol/Burke vs. Steinbeck/Steinbeck
DESCRIPTION:Fmg Thursday Inter. Lg. - Early Summer 24 - Paddle Up Pickleball Club
LOCATION:FMG Court 2
CATEGORIES:QuickScores, Pickleball Game
TRANSP:OPAQUE
BEGIN:VALARM
TRIGGER:-PT2H
ACTION:DISPLAY
DESCRIPTION:Gurgol/Burke vs. Steinbeck/Steinbeck
END:VALARM
END:VEVENT
BEGIN:VEVENT
UID:pupc-63516995-20240613T184000@quickscores.com
DTSTAMP:20260424T054500Z
DTSTART;TZID=America/Chicago:20240613T184000
DURATION:PT0H40M0S
SUMMARY:Steinbeck/Steinbeck vs. Gauding/Imboden
DESCRIPTION:Fmg Thursday Inter. Lg. - Early Summer 24 - Paddle Up Pickleball Club
LOCATION:FMG Court 2
CATEGORIES:QuickScores, Pickleball Game
TRANSP:OPAQUE
BEGIN:VALARM
TRIGGER:-PT2H
ACTION:DISPLAY
DESCRIPTION:Steinbeck/Steinbeck vs. Gauding/Imboden
END:VALARM
END:VEVENT
BEGIN:VEVENT
UID:pupc-63516994-20240613T184000@quickscores.com
DTSTAMP:20260424T054500Z
DTSTART;TZID=America/Chicago:20240613T184000
DURATION:PT0H40M0S
SUMMARY:Mueller/Stuhlman vs. Gurgol/Burke
DESCRIPTION:Fmg Thursday Inter. Lg. - Early Summer 24 - Paddle Up Pickleball Club
LOCATION:FMG Court 1
CATEGORIES:QuickScores, Pickleball Game
TRANSP:OPAQUE
BEGIN:VALARM
TRIGGER:-PT2H
ACTION:DISPLAY
DESCRIPTION:Mueller/Stuhlman vs. Gurgol/Burke
END:VALARM
END:VEVENT
BEGIN:VEVENT
UID:pupc-63516996-20240613T192000@quickscores.com
DTSTAMP:20260424T054500Z
DTSTART;TZID=America/Chicago:20240613T192000
DURATION:PT0H40M0S
SUMMARY:Sims/Sigman vs. Reiter/Fishering
DESCRIPTION:Fmg Thursday Inter. Lg. - Early Summer 24 - Paddle Up Pickleball Club
LOCATION:FMG Court 1
CATEGORIES:QuickScores, Pickleball Game
TRANSP:OPAQUE
BEGIN:VALARM
TRIGGER:-PT2H
ACTION:DISPLAY
DESCRIPTION:Sims/Sigman vs. Reiter/Fishering
END:VALARM
END:VEVENT
BEGIN:VEVENT
UID:pupc-63516997-20240613T192000@quickscores.com
DTSTAMP:20260424T054500Z
DTSTART;TZID=America/Chicago:20240613T192000
DURATION:PT0H40M0S
SUMMARY:Bodmer/Bischof vs. Gurgol/Heffern
DESCRIPTION:Fmg Thursday Inter. Lg. - Early Summer 24 - Paddle Up Pickleball Club
LOCATION:FMG Court 2
CATEGORIES:QuickScores, Pickleball Game
TRANSP:OPAQUE
BEGIN:VALARM
TRIGGER:-PT2H
ACTION:DISPLAY
DESCRIPTION:Bodmer/Bischof vs. Gurgol/Heffern
END:VALARM
END:VEVENT
BEGIN:VEVENT
UID:pupc-63516998-20240613T200000@quickscores.com
DTSTAMP:20260424T054500Z
DTSTART;TZID=America/Chicago:20240613T200000
DURATION:PT0H40M0S
SUMMARY:VanSoelen/Fiala vs. Bodmer/Bischof
DESCRIPTION:Fmg Thursday Inter. Lg. - Early Summer 24 - Paddle Up Pickleball Club
LOCATION:FMG Court 1
CATEGORIES:QuickScores, Pickleball Game
TRANSP:OPAQUE
BEGIN:VALARM
TRIGGER:-PT2H
ACTION:DISPLAY
DESCRIPTION:VanSoelen/Fiala vs. Bodmer/Bischof
END:VALARM
END:VEVENT
BEGIN:VEVENT
UID:pupc-63516999-20240613T200000@quickscores.com
DTSTAMP:20260424T054500Z
DTSTART;TZID=America/Chicago:20240613T200000
DURATION:PT0H40M0S
SUMMARY:DuBois/Shouse vs. Gurgol/Heffern
DESCRIPTION:Fmg Thursday Inter. Lg. - Early Summer 24 - Paddle Up Pickleball Club
LOCATION:FMG Court 2
CATEGORIES:QuickScores, Pickleball Game
TRANSP:OPAQUE
BEGIN:VALARM
TRIGGER:-PT2H
ACTION:DISPLAY
DESCRIPTION:DuBois/Shouse vs. Gurgol/Heffern
END:VALARM
END:VEVENT
BEGIN:VEVENT
UID:pupc-63517001-20240613T204000@quickscores.com
DTSTAMP:20260424T054500Z
DTSTART;TZID=America/Chicago:20240613T204000
DURATION:PT0H40M0S
SUMMARY:Reiter/Fishering vs. DuBois/Shouse
DESCRIPTION:Fmg Thursday Inter. Lg. - Early Summer 24 - Paddle Up Pickleball Club
LOCATION:FMG Court 2
CATEGORIES:QuickScores, Pickleball Game
TRANSP:OPAQUE
BEGIN:VALARM
TRIGGER:-PT2H
ACTION:DISPLAY
DESCRIPTION:Reiter/Fishering vs. DuBois/Shouse
END:VALARM
END:VEVENT
BEGIN:VEVENT
UID:pupc-63517000-20240613T204000@quickscores.com
DTSTAMP:20260424T054500Z
DTSTART;TZID=America/Chicago:20240613T204000
DURATION:PT0H40M0S
SUMMARY:Sims/Sigman vs. VanSoelen/Fiala
DESCRIPTION:Fmg Thursday Inter. Lg. - Early Summer 24 - Paddle Up Pickleball Club
LOCATION:FMG Court 1
CATEGORIES:QuickScores, Pickleball Game
TRANSP:OPAQUE
BEGIN:VALARM
TRIGGER:-PT2H
ACTION:DISPLAY
DESCRIPTION:Sims/Sigman vs. VanSoelen/Fiala
END:VALARM
END:VEVENT
BEGIN:VEVENT
UID:pupc-63517003-20240620T180000@quickscores.com
DTSTAMP:20260424T054500Z
DTSTART;TZID=America/Chicago:20240620T180000
DURATION:PT0H40M0S
SUMMARY:Gurgol/Heffern vs. Reiter/Fishering
DESCRIPTION:Fmg Thursday Inter. Lg. - Early Summer 24 - Paddle Up Pickleball Club
LOCATION:FMG Court 2
CATEGORIES:QuickScores, Pickleball Game
TRANSP:OPAQUE
BEGIN:VALARM
TRIGGER:-PT2H
ACTION:DISPLAY
DESCRIPTION:Gurgol/Heffern vs. Reiter/Fishering
END:VALARM
END:VEVENT
BEGIN:VEVENT
UID:pupc-63517004-20240620T184000@quickscores.com
DTSTAMP:20260424T054500Z
DTSTART;TZID=America/Chicago:20240620T184000
DURATION:PT0H40M0S
SUMMARY:Gurgol/Heffern vs. Gurgol/Burke
DESCRIPTION:Fmg Thursday Inter. Lg. - Early Summer 24 - Paddle Up Pickleball Club
LOCATION:FMG Court 1
CATEGORIES:QuickScores, Pickleball Game
TRANSP:OPAQUE
BEGIN:VALARM
TRIGGER:-PT2H
ACTION:DISPLAY
DESCRIPTION:Gurgol/Heffern vs. Gurgol/Burke
END:VALARM
END:VEVENT
BEGIN:VEVENT
UID:pupc-63517005-20240620T184000@quickscores.com
DTSTAMP:20260424T054500Z
DTSTART;TZID=America/Chicago:20240620T184000
DURATION:PT0H40M0S
SUMMARY:Reiter/Fishering vs. Gauding/Imboden
DESCRIPTION:Fmg Thursday Inter. Lg. - Early Summer 24 - Paddle Up Pickleball Club
LOCATION:FMG Court 2
CATEGORIES:QuickScores, Pickleball Game
TRANSP:OPAQUE
BEGIN:VALARM
TRIGGER:-PT2H
ACTION:DISPLAY
DESCRIPTION:Reiter/Fishering vs. Gauding/Imboden
END:VALARM
END:VEVENT
BEGIN:VEVENT
UID:pupc-63517006-20240620T192000@quickscores.com
DTSTAMP:20260424T054500Z
DTSTART;TZID=America/Chicago:20240620T192000
DURATION:PT0H40M0S
SUMMARY:Gurgol/Burke vs. Sims/Sigman
DESCRIPTION:Fmg Thursday Inter. Lg. - Early Summer 24 - Paddle Up Pickleball Club
LOCATION:FMG Court 1
CATEGORIES:QuickScores, Pickleball Game
TRANSP:OPAQUE
BEGIN:VALARM
TRIGGER:-PT2H
ACTION:DISPLAY
DESCRIPTION:Gurgol/Burke vs. Sims/Sigman
END:VALARM
END:VEVENT
BEGIN:VEVENT
UID:pupc-63517007-20240620T192000@quickscores.com
DTSTAMP:20260424T054500Z
DTSTART;TZID=America/Chicago:20240620T192000
DURATION:PT0H40M0S
SUMMARY:Gauding/Imboden vs. Bodmer/Bischof
DESCRIPTION:Fmg Thursday Inter. Lg. - Early Summer 24 - Paddle Up Pickleball Club
LOCATION:FMG Court 2
CATEGORIES:QuickScores, Pickleball Game
TRANSP:OPAQUE
BEGIN:VALARM
TRIGGER:-PT2H
ACTION:DISPLAY
DESCRIPTION:Gauding/Imboden vs. Bodmer/Bischof
END:VALARM
END:VEVENT
BEGIN:VEVENT
UID:pupc-63517009-20240620T200000@quickscores.com
DTSTAMP:20260424T054500Z
DTSTART;TZID=America/Chicago:20240620T200000
DURATION:PT0H40M0S
SUMMARY:Sims/Sigman vs. Mueller/Stuhlman
DESCRIPTION:Fmg Thursday Inter. Lg. - Early Summer 24 - Paddle Up Pickleball Club
LOCATION:FMG Court 2
CATEGORIES:QuickScores, Pickleball Game
TRANSP:OPAQUE
BEGIN:VALARM
TRIGGER:-PT2H
ACTION:DISPLAY
DESCRIPTION:Sims/Sigman vs. Mueller/Stuhlman
END:VALARM
END:VEVENT
BEGIN:VEVENT
UID:pupc-63517008-20240620T200000@quickscores.com
DTSTAMP:20260424T054500Z
DTSTART;TZID=America/Chicago:20240620T200000
DURATION:PT0H40M0S
SUMMARY:Steinbeck/Steinbeck vs. Bodmer/Bischof
DESCRIPTION:Fmg Thursday Inter. Lg. - Early Summer 24 - Paddle Up Pickleball Club
LOCATION:FMG Court 1
CATEGORIES:QuickScores, Pickleball Game
TRANSP:OPAQUE
BEGIN:VALARM
TRIGGER:-PT2H
ACTION:DISPLAY
DESCRIPTION:Steinbeck/Steinbeck vs. Bodmer/Bischof
END:VALARM
END:VEVENT
BEGIN:VEVENT
UID:pupc-63517010-20240620T204000@quickscores.com
DTSTAMP:20260424T054500Z
DTSTART;TZID=America/Chicago:20240620T204000
DURATION:PT0H40M0S
SUMMARY:Mueller/Stuhlman vs. Steinbeck/Steinbeck
DESCRIPTION:Fmg Thursday Inter. Lg. - Early Summer 24 - Paddle Up Pickleball Club
LOCATION:FMG Court 1
CATEGORIES:QuickScores, Pickleball Game
TRANSP:OPAQUE
BEGIN:VALARM
TRIGGER:-PT2H
ACTION:DISPLAY
DESCRIPTION:Mueller/Stuhlman vs. Steinbeck/Steinbeck
END:VALARM
END:VEVENT
BEGIN:VEVENT
UID:pupc-63517012-20240627T180000@quickscores.com
DTSTAMP:20260424T054500Z
DTSTART;TZID=America/Chicago:20240627T180000
DURATION:PT0H40M0S
SUMMARY:Steinbeck/Steinbeck vs. Gurgol/Heffern
DESCRIPTION:Fmg Thursday Inter. Lg. - Early Summer 24 - Paddle Up Pickleball Club
LOCATION:FMG Court 1
CATEGORIES:QuickScores, Pickleball Game
TRANSP:OPAQUE
BEGIN:VALARM
TRIGGER:-PT2H
ACTION:DISPLAY
DESCRIPTION:Steinbeck/Steinbeck vs. Gurgol/Heffern
END:VALARM
END:VEVENT
BEGIN:VEVENT
UID:pupc-63517021-20240627T184000@quickscores.com
DTSTAMP:20260424T054500Z
DTSTART;TZID=America/Chicago:20240627T184000
DURATION:PT0H40M0S
SUMMARY:Gurgol/Heffern vs. Gauding/Imboden
DESCRIPTION:Fmg Thursday Inter. Lg. - Early Summer 24 - Paddle Up Pickleball Club
LOCATION:FMG Court 2
CATEGORIES:QuickScores, Pickleball Game
TRANSP:OPAQUE
BEGIN:VALARM
TRIGGER:-PT2H
ACTION:DISPLAY
DESCRIPTION:Gurgol/Heffern vs. Gauding/Imboden
END:VALARM
END:VEVENT
BEGIN:VEVENT
UID:pupc-63517020-20240627T184000@quickscores.com
DTSTAMP:20260424T054500Z
DTSTART;TZID=America/Chicago:20240627T184000
DURATION:PT0H40M0S
SUMMARY:Steinbeck/Steinbeck vs. VanSoelen/Fiala
DESCRIPTION:Fmg Thursday Inter. Lg. - Early Summer 24 - Paddle Up Pickleball Club
LOCATION:FMG Court 1
CATEGORIES:QuickScores, Pickleball Game
TRANSP:OPAQUE
BEGIN:VALARM
TRIGGER:-PT2H
ACTION:DISPLAY
DESCRIPTION:Steinbeck/Steinbeck vs. VanSoelen/Fiala
END:VALARM
END:VEVENT
BEGIN:VEVENT
UID:pupc-63517014-20240627T192000@quickscores.com
DTSTAMP:20260424T054500Z
DTSTART;TZID=America/Chicago:20240627T192000
DURATION:PT0H40M0S
SUMMARY:Sims/Sigman vs. Gauding/Imboden
DESCRIPTION:Fmg Thursday Inter. Lg. - Early Summer 24 - Paddle Up Pickleball Club
LOCATION:FMG Court 1
CATEGORIES:QuickScores, Pickleball Game
TRANSP:OPAQUE
BEGIN:VALARM
TRIGGER:-PT2H
ACTION:DISPLAY
DESCRIPTION:Sims/Sigman vs. Gauding/Imboden
END:VALARM
END:VEVENT
BEGIN:VEVENT
UID:pupc-63517019-20240627T192000@quickscores.com
DTSTAMP:20260424T054500Z
DTSTART;TZID=America/Chicago:20240627T192000
DURATION:PT0H40M0S
SUMMARY:Reiter/Fishering vs. VanSoelen/Fiala
DESCRIPTION:Fmg Thursday Inter. Lg. - Early Summer 24 - Paddle Up Pickleball Club
LOCATION:FMG Court 2
CATEGORIES:QuickScores, Pickleball Game
TRANSP:OPAQUE
BEGIN:VALARM
TRIGGER:-PT2H
ACTION:DISPLAY
DESCRIPTION:Reiter/Fishering vs. VanSoelen/Fiala
END:VALARM
END:VEVENT
BEGIN:VEVENT
UID:pupc-63517018-20240627T200000@quickscores.com
DTSTAMP:20260424T054500Z
DTSTART;TZID=America/Chicago:20240627T200000
DURATION:PT0H40M0S
SUMMARY:Reiter/Fishering vs. Gurgol/Burke
DESCRIPTION:Fmg Thursday Inter. Lg. - Early Summer 24 - Paddle Up Pickleball Club
LOCATION:FMG Court 2
CATEGORIES:QuickScores, Pickleball Game
TRANSP:OPAQUE
BEGIN:VALARM
TRIGGER:-PT2H
ACTION:DISPLAY
DESCRIPTION:Reiter/Fishering vs. Gurgol/Burke
END:VALARM
END:VEVENT
BEGIN:VEVENT
UID:pupc-63517017-20240627T200000@quickscores.com
DTSTAMP:20260424T054500Z
DTSTART;TZID=America/Chicago:20240627T200000
DURATION:PT0H40M0S
SUMMARY:Sims/Sigman vs. Bodmer/Bischof
DESCRIPTION:Fmg Thursday Inter. Lg. - Early Summer 24 - Paddle Up Pickleball Club
LOCATION:FMG Court 1
CATEGORIES:QuickScores, Pickleball Game
TRANSP:OPAQUE
BEGIN:VALARM
TRIGGER:-PT2H
ACTION:DISPLAY
DESCRIPTION:Sims/Sigman vs. Bodmer/Bischof
END:VALARM
END:VEVENT
BEGIN:VEVENT
UID:pupc-63517016-20240627T204000@quickscores.com
DTSTAMP:20260424T054500Z
DTSTART;TZID=America/Chicago:20240627T204000
DURATION:PT0H40M0S
SUMMARY:Bodmer/Bischof vs. Gurgol/Burke
DESCRIPTION:Fmg Thursday Inter. Lg. - Early Summer 24 - Paddle Up Pickleball Club
LOCATION:FMG Court 2
CATEGORIES:QuickScores, Pickleball Game
TRANSP:OPAQUE
BEGIN:VALARM
TRIGGER:-PT2H
ACTION:DISPLAY
DESCRIPTION:Bodmer/Bischof vs. Gurgol/Burke
END:VALARM
END:VEVENT
BEGIN:VEVENT
UID:pupc-63951759-20240711T180000@quickscores.com
DTSTAMP:20260424T054500Z
DTSTART;TZID=America/Chicago:20240711T180000
DURATION:PT0H30M0S
SUMMARY:[8] Gauding/Imboden vs. [9] Gurgol/Burke
DESCRIPTION:Fmg Thursday Inter. Lg. - Early Summer 24 - Paddle Up Pickleball Club
LOCATION:FMG Court 1
CATEGORIES:QuickScores, Pickleball Game
TRANSP:OPAQUE
BEGIN:VALARM
TRIGGER:-PT2H
ACTION:DISPLAY
DESCRIPTION:[8] Gauding/Imboden vs. [9] Gurgol/Burke
END:VALARM
END:VEVENT
BEGIN:VEVENT
UID:pupc-63951766-20240711T183000@quickscores.com
DTSTAMP:20260424T054500Z
DTSTART;TZID=America/Chicago:20240711T183000
DURATION:PT0H30M0S
SUMMARY:[1] Gurgol/Heffern vs. Winner of Game 1
DESCRIPTION:Fmg Thursday Inter. Lg. - Early Summer 24 - Paddle Up Pickleball Club
LOCATION:FMG Court 1
CATEGORIES:QuickScores, Pickleball Game
TRANSP:OPAQUE
BEGIN:VALARM
TRIGGER:-PT2H
ACTION:DISPLAY
DESCRIPTION:[1] Gurgol/Heffern vs. Winner of Game 1
END:VALARM
END:VEVENT
BEGIN:VEVENT
UID:pupc-63951768-20240711T183000@quickscores.com
DTSTAMP:20260424T054500Z
DTSTART;TZID=America/Chicago:20240711T183000
DURATION:PT0H30M0S
SUMMARY:[2] Bodmer/Bischof vs. [7] Mueller/Stuhlman
DESCRIPTION:Fmg Thursday Inter. Lg. - Early Summer 24 - Paddle Up Pickleball Club
LOCATION:FMG Court 5
CATEGORIES:QuickScores, Pickleball Game
TRANSP:OPAQUE
BEGIN:VALARM
TRIGGER:-PT2H
ACTION:DISPLAY
DESCRIPTION:[2] Bodmer/Bischof vs. [7] Mueller/Stuhlman
END:VALARM
END:VEVENT
BEGIN:VEVENT
UID:pupc-63951769-20240711T190000@quickscores.com
DTSTAMP:20260424T054500Z
DTSTART;TZID=America/Chicago:20240711T190000
DURATION:PT0H30M0S
SUMMARY:[3] Steinbeck/Steinbeck vs. [6] VanSoelen/Fiala
DESCRIPTION:Fmg Thursday Inter. Lg. - Early Summer 24 - Paddle Up Pickleball Club
LOCATION:FMG Court 5
CATEGORIES:QuickScores, Pickleball Game
TRANSP:OPAQUE
BEGIN:VALARM
TRIGGER:-PT2H
ACTION:DISPLAY
DESCRIPTION:[3] Steinbeck/Steinbeck vs. [6] VanSoelen/Fiala
END:VALARM
END:VEVENT
BEGIN:VEVENT
UID:pupc-63951767-20240711T190000@quickscores.com
DTSTAMP:20260424T054500Z
DTSTART;TZID=America/Chicago:20240711T190000
DURATION:PT0H30M0S
SUMMARY:[4] Reiter/Fishering vs. [5] Sims/Sigman
DESCRIPTION:Fmg Thursday Inter. Lg. - Early Summer 24 - Paddle Up Pickleball Club
LOCATION:FMG Court 1
CATEGORIES:QuickScores, Pickleball Game
TRANSP:OPAQUE
BEGIN:VALARM
TRIGGER:-PT2H
ACTION:DISPLAY
DESCRIPTION:[4] Reiter/Fishering vs. [5] Sims/Sigman
END:VALARM
END:VEVENT
BEGIN:VEVENT
UID:pupc-63951770-20240711T193000@quickscores.com
DTSTAMP:20260424T054500Z
DTSTART;TZID=America/Chicago:20240711T193000
DURATION:PT0H30M0S
SUMMARY:Winner of Game 5 vs. Winner of Game 2
DESCRIPTION:Fmg Thursday Inter. Lg. - Early Summer 24 - Paddle Up Pickleball Club
LOCATION:FMG Court 1
CATEGORIES:QuickScores, Pickleball Game
TRANSP:OPAQUE
BEGIN:VALARM
TRIGGER:-PT2H
ACTION:DISPLAY
DESCRIPTION:Winner of Game 5 vs. Winner of Game 2
END:VALARM
END:VEVENT
BEGIN:VEVENT
UID:pupc-63951771-20240711T193000@quickscores.com
DTSTAMP:20260424T054500Z
DTSTART;TZID=America/Chicago:20240711T193000
DURATION:PT0H30M0S
SUMMARY:Winner of Game 3 vs. Winner of Game 4
DESCRIPTION:Fmg Thursday Inter. Lg. - Early Summer 24 - Paddle Up Pickleball Club
LOCATION:FMG Court 5
CATEGORIES:QuickScores, Pickleball Game
TRANSP:OPAQUE
BEGIN:VALARM
TRIGGER:-PT2H
ACTION:DISPLAY
DESCRIPTION:Winner of Game 3 vs. Winner of Game 4
END:VALARM
END:VEVENT
BEGIN:VEVENT
UID:pupc-63951772-20240711T200000@quickscores.com
DTSTAMP:20260424T054500Z
DTSTART;TZID=America/Chicago:20240711T200000
DURATION:PT0H30M0S
SUMMARY:Winner of Game 6 vs. Winner of Game 7
DESCRIPTION:Fmg Thursday Inter. Lg. - Early Summer 24 - Paddle Up Pickleball Club
LOCATION:FMG Court 1
CATEGORIES:QuickScores, Pickleball Game
TRANSP:OPAQUE
BEGIN:VALARM
TRIGGER:-PT2H
ACTION:DISPLAY
DESCRIPTION:Winner of Game 6 vs. Winner of Game 7
END:VALARM
END:VEVENT
END:VCALENDAR
