BEGIN:VCALENDAR
VERSION:2.0
PRODID:-//QuickScores.com//BQ Dynamic iCal Creator//EN
METHOD:PUBLISH
X-WR-CALNAME:Youth Basketball -  3rd/4th Grade Boys Sunday (intervillage) - Summer 2024
X-WR-CALDESC:QuickScores game calendar
X-PUBLISHED-TTL:PT24H
REFRESH-INTERVAL;VALUE=DURATION:PT24H
CALSCALE:GREGORIAN
BEGIN:VTIMEZONE
TZID:America/Chicago
X-LIC-LOCATION:America/Chicago
BEGIN:DAYLIGHT
TZNAME:CDT
TZOFFSETFROM:-0600
TZOFFSETTO:-0500
DTSTART:19700308T020000
RRULE:FREQ=YEARLY;BYMONTH=3;BYDAY=2SU
END:DAYLIGHT
BEGIN:STANDARD
TZNAME:CST
TZOFFSETFROM:-0500
TZOFFSETTO:-0600
DTSTART:19701101T020000
RRULE:FREQ=YEARLY;BYMONTH=11;BYDAY=1SU
END:STANDARD
END:VTIMEZONE
BEGIN:VEVENT
UID:csparks-63483282-20240602T100000@quickscores.com
DTSTAMP:20260421T185400Z
DTSTART;TZID=America/Chicago:20240602T100000
DURATION:PT1H0M0S
SUMMARY:DBA - 2 J. Dorhauer vs. Glendale Heights (Jarvis)
DESCRIPTION:Youth Basketball -  3rd/4th Grade Boys Sunday (intervillage) - Carol Stream Park District
LOCATION:Army Trail School - East Gym
CATEGORIES:QuickScores, Basketball - Youth Game
TRANSP:OPAQUE
BEGIN:VALARM
TRIGGER:-PT2H
ACTION:DISPLAY
DESCRIPTION:DBA - 2 J. Dorhauer vs. Glendale Heights (Jarvis)
END:VALARM
END:VEVENT
BEGIN:VEVENT
UID:csparks-63483281-20240602T110000@quickscores.com
DTSTAMP:20260421T185400Z
DTSTART;TZID=America/Chicago:20240602T110000
DURATION:PT1H0M0S
SUMMARY:DBA - 3 R. Tarsitano vs. DBA - 1 A. Hernandez
DESCRIPTION:Youth Basketball -  3rd/4th Grade Boys Sunday (intervillage) - Carol Stream Park District
LOCATION:Army Trail School - West Gym
CATEGORIES:QuickScores, Basketball - Youth Game
TRANSP:OPAQUE
BEGIN:VALARM
TRIGGER:-PT2H
ACTION:DISPLAY
DESCRIPTION:DBA - 3 R. Tarsitano vs. DBA - 1 A. Hernandez
END:VALARM
END:VEVENT
BEGIN:VEVENT
UID:csparks-63483285-20240609T100000@quickscores.com
DTSTAMP:20260421T185400Z
DTSTART;TZID=America/Chicago:20240609T100000
DURATION:PT1H0M0S
SUMMARY:DBA - 1 A. Hernandez vs. DBA - 2 J. Dorhauer
DESCRIPTION:Youth Basketball -  3rd/4th Grade Boys Sunday (intervillage) - Carol Stream Park District
LOCATION:Army Trail School - East Gym
CATEGORIES:QuickScores, Basketball - Youth Game
TRANSP:OPAQUE
BEGIN:VALARM
TRIGGER:-PT2H
ACTION:DISPLAY
DESCRIPTION:DBA - 1 A. Hernandez vs. DBA - 2 J. Dorhauer
END:VALARM
END:VEVENT
BEGIN:VEVENT
UID:csparks-63483284-20240609T110000@quickscores.com
DTSTAMP:20260421T185400Z
DTSTART;TZID=America/Chicago:20240609T110000
DURATION:PT1H0M0S
SUMMARY:DBA - 3 R. Tarsitano vs. Bville Bulls
DESCRIPTION:Youth Basketball -  3rd/4th Grade Boys Sunday (intervillage) - Carol Stream Park District
LOCATION:Army Trail School - West Gym
CATEGORIES:QuickScores, Basketball - Youth Game
TRANSP:OPAQUE
BEGIN:VALARM
TRIGGER:-PT2H
ACTION:DISPLAY
DESCRIPTION:DBA - 3 R. Tarsitano vs. Bville Bulls
END:VALARM
END:VEVENT
BEGIN:VEVENT
UID:csparks-63483289-20240621T193000@quickscores.com
DTSTAMP:20260421T185400Z
DTSTART;TZID=America/Chicago:20240621T193000
DURATION:PT1H0M0S
SUMMARY:Glendale Heights (Jarvis) vs. DBA - 3 R. Tarsitano
DESCRIPTION:Youth Basketball -  3rd/4th Grade Boys Sunday (intervillage) - Carol Stream Park District
LOCATION:Sports Hub - Court B
CATEGORIES:QuickScores, Basketball - Youth Game
TRANSP:OPAQUE
BEGIN:VALARM
TRIGGER:-PT2H
ACTION:DISPLAY
DESCRIPTION:Glendale Heights (Jarvis) vs. DBA - 3 R. Tarsitano
END:VALARM
END:VEVENT
BEGIN:VEVENT
UID:csparks-63483287-20240623T100000@quickscores.com
DTSTAMP:20260421T185400Z
DTSTART;TZID=America/Chicago:20240623T100000
DURATION:PT1H0M0S
SUMMARY:DBA - 2 J. Dorhauer vs. Bville Bulls
DESCRIPTION:Youth Basketball -  3rd/4th Grade Boys Sunday (intervillage) - Carol Stream Park District
LOCATION:Army Trail School - East Gym
CATEGORIES:QuickScores, Basketball - Youth Game
TRANSP:OPAQUE
BEGIN:VALARM
TRIGGER:-PT2H
ACTION:DISPLAY
DESCRIPTION:DBA - 2 J. Dorhauer vs. Bville Bulls
END:VALARM
END:VEVENT
BEGIN:VEVENT
UID:csparks-63483288-20240623T103000@quickscores.com
DTSTAMP:20260421T185400Z
DTSTART;TZID=America/Chicago:20240623T103000
DURATION:PT1H0M0S
SUMMARY:Glendale Heights (Jarvis) vs. DBA - 1 A. Hernandez
DESCRIPTION:Youth Basketball -  3rd/4th Grade Boys Sunday (intervillage) - Carol Stream Park District
LOCATION:Sports Hub - Court B
CATEGORIES:QuickScores, Basketball - Youth Game
TRANSP:OPAQUE
BEGIN:VALARM
TRIGGER:-PT2H
ACTION:DISPLAY
DESCRIPTION:Glendale Heights (Jarvis) vs. DBA - 1 A. Hernandez
END:VALARM
END:VEVENT
BEGIN:VEVENT
UID:csparks-63483291-20240630T090000@quickscores.com
DTSTAMP:20260421T185400Z
DTSTART;TZID=America/Chicago:20240630T090000
DURATION:PT1H0M0S
SUMMARY:DBA - 3 R. Tarsitano vs. DBA - 2 J. Dorhauer
DESCRIPTION:Youth Basketball -  3rd/4th Grade Boys Sunday (intervillage) - Carol Stream Park District
LOCATION:Army Trail School - West Gym
CATEGORIES:QuickScores, Basketball - Youth Game
TRANSP:OPAQUE
BEGIN:VALARM
TRIGGER:-PT2H
ACTION:DISPLAY
DESCRIPTION:DBA - 3 R. Tarsitano vs. DBA - 2 J. Dorhauer
END:VALARM
END:VEVENT
BEGIN:VEVENT
UID:csparks-63483290-20240630T120000@quickscores.com
DTSTAMP:20260421T185400Z
DTSTART;TZID=America/Chicago:20240630T120000
DURATION:PT1H0M0S
SUMMARY:Bville Bulls vs. Glendale Heights (Jarvis)
DESCRIPTION:Youth Basketball -  3rd/4th Grade Boys Sunday (intervillage) - Carol Stream Park District
LOCATION:Bensenville Park District
CATEGORIES:QuickScores, Basketball - Youth Game
TRANSP:OPAQUE
BEGIN:VALARM
TRIGGER:-PT2H
ACTION:DISPLAY
DESCRIPTION:Bville Bulls vs. Glendale Heights (Jarvis)
END:VALARM
END:VEVENT
BEGIN:VEVENT
UID:csparks-63483293-20240714T100000@quickscores.com
DTSTAMP:20260421T185400Z
DTSTART;TZID=America/Chicago:20240714T100000
DURATION:PT1H0M0S
SUMMARY:DBA - 1 A. Hernandez vs. DBA - 3 R. Tarsitano
DESCRIPTION:Youth Basketball -  3rd/4th Grade Boys Sunday (intervillage) - Carol Stream Park District
LOCATION:Army Trail School - East Gym
CATEGORIES:QuickScores, Basketball - Youth Game
TRANSP:OPAQUE
BEGIN:VALARM
TRIGGER:-PT2H
ACTION:DISPLAY
DESCRIPTION:DBA - 1 A. Hernandez vs. DBA - 3 R. Tarsitano
END:VALARM
END:VEVENT
BEGIN:VEVENT
UID:csparks-63483294-20240714T103000@quickscores.com
DTSTAMP:20260421T185400Z
DTSTART;TZID=America/Chicago:20240714T103000
DURATION:PT1H0M0S
SUMMARY:Glendale Heights (Jarvis) vs. DBA - 2 J. Dorhauer
DESCRIPTION:Youth Basketball -  3rd/4th Grade Boys Sunday (intervillage) - Carol Stream Park District
LOCATION:Sports Hub - Court B
CATEGORIES:QuickScores, Basketball - Youth Game
TRANSP:OPAQUE
BEGIN:VALARM
TRIGGER:-PT2H
ACTION:DISPLAY
DESCRIPTION:Glendale Heights (Jarvis) vs. DBA - 2 J. Dorhauer
END:VALARM
END:VEVENT
BEGIN:VEVENT
UID:csparks-63483297-20240721T100000@quickscores.com
DTSTAMP:20260421T185400Z
DTSTART;TZID=America/Chicago:20240721T100000
DURATION:PT1H0M0S
SUMMARY:DBA - 1 A. Hernandez vs. Bville Bulls
DESCRIPTION:Youth Basketball -  3rd/4th Grade Boys Sunday (intervillage) - Carol Stream Park District
LOCATION:Army Trail School - East Gym
CATEGORIES:QuickScores, Basketball - Youth Game
TRANSP:OPAQUE
BEGIN:VALARM
TRIGGER:-PT2H
ACTION:DISPLAY
DESCRIPTION:DBA - 1 A. Hernandez vs. Bville Bulls
END:VALARM
END:VEVENT
BEGIN:VEVENT
UID:csparks-63483296-20240721T110000@quickscores.com
DTSTAMP:20260421T185400Z
DTSTART;TZID=America/Chicago:20240721T110000
DURATION:PT1H0M0S
SUMMARY:DBA - 1 A. Hernandez vs. Glendale Heights (Jarvis)
DESCRIPTION:Youth Basketball -  3rd/4th Grade Boys Sunday (intervillage) - Carol Stream Park District
LOCATION:Army Trail School - West Gym
CATEGORIES:QuickScores, Basketball - Youth Game
TRANSP:OPAQUE
BEGIN:VALARM
TRIGGER:-PT2H
ACTION:DISPLAY
DESCRIPTION:DBA - 1 A. Hernandez vs. Glendale Heights (Jarvis)
END:VALARM
END:VEVENT
BEGIN:VEVENT
UID:csparks-63483283-20240721T110000@quickscores.com
DTSTAMP:20260421T185400Z
DTSTART;TZID=America/Chicago:20240721T110000
DURATION:PT1H0M0S
SUMMARY:Bville Bulls vs. DBA - 3 R. Tarsitano
DESCRIPTION:GAME TO BE RESCHEDULED - NO GAME ON 7/21 --- Youth Basketball -  3rd/4th Grade Boys Sunday (intervillage) - Carol Stream Park District
LOCATION:Army Trail School - East Gym
CATEGORIES:QuickScores, Basketball - Youth Game
TRANSP:OPAQUE
BEGIN:VALARM
TRIGGER:-PT2H
ACTION:DISPLAY
DESCRIPTION:Bville Bulls vs. DBA - 3 R. Tarsitano
END:VALARM
END:VEVENT
BEGIN:VEVENT
UID:csparks-63483302-20240728T110000@quickscores.com
DTSTAMP:20260421T185400Z
DTSTART;TZID=America/Chicago:20240728T110000
DURATION:PT1H0M0S
SUMMARY:DBA - 2 J. Dorhauer vs. DBA - 3 R. Tarsitano
DESCRIPTION:Youth Basketball -  3rd/4th Grade Boys Sunday (intervillage) - Carol Stream Park District
LOCATION:Centennial Gym
CATEGORIES:QuickScores, Basketball - Youth Game
TRANSP:OPAQUE
BEGIN:VALARM
TRIGGER:-PT2H
ACTION:DISPLAY
DESCRIPTION:DBA - 2 J. Dorhauer vs. DBA - 3 R. Tarsitano
END:VALARM
END:VEVENT
BEGIN:VEVENT
UID:csparks-63483300-20240728T120000@quickscores.com
DTSTAMP:20260421T185400Z
DTSTART;TZID=America/Chicago:20240728T120000
DURATION:PT1H0M0S
SUMMARY:DBA - 2 J. Dorhauer vs. DBA - 1 A. Hernandez
DESCRIPTION:Youth Basketball -  3rd/4th Grade Boys Sunday (intervillage) - Carol Stream Park District
LOCATION:Centennial Gym
CATEGORIES:QuickScores, Basketball - Youth Game
TRANSP:OPAQUE
BEGIN:VALARM
TRIGGER:-PT2H
ACTION:DISPLAY
DESCRIPTION:DBA - 2 J. Dorhauer vs. DBA - 1 A. Hernandez
END:VALARM
END:VEVENT
BEGIN:VEVENT
UID:csparks-63483301-20240728T123000@quickscores.com
DTSTAMP:20260421T185400Z
DTSTART;TZID=America/Chicago:20240728T123000
DURATION:PT1H0M0S
SUMMARY:Glendale Heights (Jarvis) vs. Bville Bulls
DESCRIPTION:Youth Basketball -  3rd/4th Grade Boys Sunday (intervillage) - Carol Stream Park District
LOCATION:Sports Hub - Court B
CATEGORIES:QuickScores, Basketball - Youth Game
TRANSP:OPAQUE
BEGIN:VALARM
TRIGGER:-PT2H
ACTION:DISPLAY
DESCRIPTION:Glendale Heights (Jarvis) vs. Bville Bulls
END:VALARM
END:VEVENT
BEGIN:VEVENT
UID:csparks-63483304-20240804T100000@quickscores.com
DTSTAMP:20260421T185400Z
DTSTART;TZID=America/Chicago:20240804T100000
DURATION:PT1H0M0S
SUMMARY:DBA - 3 R. Tarsitano vs. Glendale Heights (Jarvis)
DESCRIPTION:Youth Basketball -  3rd/4th Grade Boys Sunday (intervillage) - Carol Stream Park District
LOCATION:Centennial Gym
CATEGORIES:QuickScores, Basketball - Youth Game
TRANSP:OPAQUE
BEGIN:VALARM
TRIGGER:-PT2H
ACTION:DISPLAY
DESCRIPTION:DBA - 3 R. Tarsitano vs. Glendale Heights (Jarvis)
END:VALARM
END:VEVENT
BEGIN:VEVENT
UID:csparks-63483303-20240804T120000@quickscores.com
DTSTAMP:20260421T185400Z
DTSTART;TZID=America/Chicago:20240804T120000
DURATION:PT1H0M0S
SUMMARY:Bville Bulls vs. DBA - 2 J. Dorhauer
DESCRIPTION:Youth Basketball -  3rd/4th Grade Boys Sunday (intervillage) - Carol Stream Park District
LOCATION:Bensenville Park District
CATEGORIES:QuickScores, Basketball - Youth Game
TRANSP:OPAQUE
BEGIN:VALARM
TRIGGER:-PT2H
ACTION:DISPLAY
DESCRIPTION:Bville Bulls vs. DBA - 2 J. Dorhauer
END:VALARM
END:VEVENT
BEGIN:VEVENT
UID:csparks-63483305-20240804T130000@quickscores.com
DTSTAMP:20260421T185400Z
DTSTART;TZID=America/Chicago:20240804T130000
DURATION:PT1H0M0S
SUMMARY:Bville Bulls vs. DBA - 1 A. Hernandez
DESCRIPTION:Youth Basketball -  3rd/4th Grade Boys Sunday (intervillage) - Carol Stream Park District
LOCATION:Bensenville Park District
CATEGORIES:QuickScores, Basketball - Youth Game
TRANSP:OPAQUE
BEGIN:VALARM
TRIGGER:-PT2H
ACTION:DISPLAY
DESCRIPTION:Bville Bulls vs. DBA - 1 A. Hernandez
END:VALARM
END:VEVENT
END:VCALENDAR
