BEGIN:VCALENDAR
VERSION:2.0
PRODID:-//QuickScores.com//BQ Dynamic iCal Creator//EN
METHOD:PUBLISH
X-WR-CALNAME:Lauren Murphy Open - Women&#039;s 3pm 5/18 - Completed Tournaments 2023/24
X-WR-CALDESC:QuickScores game calendar
X-PUBLISHED-TTL:PT24H
REFRESH-INTERVAL;VALUE=DURATION:PT24H
CALSCALE:GREGORIAN
BEGIN:VTIMEZONE
TZID:America/Chicago
X-LIC-LOCATION:America/Chicago
BEGIN:DAYLIGHT
TZNAME:CDT
TZOFFSETFROM:-0600
TZOFFSETTO:-0500
DTSTART:19700308T020000
RRULE:FREQ=YEARLY;BYMONTH=3;BYDAY=2SU
END:DAYLIGHT
BEGIN:STANDARD
TZNAME:CST
TZOFFSETFROM:-0500
TZOFFSETTO:-0600
DTSTART:19701101T020000
RRULE:FREQ=YEARLY;BYMONTH=11;BYDAY=1SU
END:STANDARD
END:VTIMEZONE
BEGIN:VEVENT
UID:pupc-63462101-20240518T153000@quickscores.com
DTSTAMP:20260425T153500Z
DTSTART;TZID=America/Chicago:20240518T153000
DURATION:PT0H20M0S
SUMMARY:Tracy/Schrimpf vs. Merz/Monroe
DESCRIPTION:Lauren Murphy Open - Women's 3pm 5/18 - Paddle Up Pickleball Club
LOCATION:Court 4
CATEGORIES:QuickScores, Pickleball Game
TRANSP:OPAQUE
BEGIN:VALARM
TRIGGER:-PT2H
ACTION:DISPLAY
DESCRIPTION:Tracy/Schrimpf vs. Merz/Monroe
END:VALARM
END:VEVENT
BEGIN:VEVENT
UID:pupc-63462102-20240518T153000@quickscores.com
DTSTAMP:20260425T153500Z
DTSTART;TZID=America/Chicago:20240518T153000
DURATION:PT0H20M0S
SUMMARY:Link/Smith vs. Wilhelm/Berra
DESCRIPTION:Lauren Murphy Open - Women's 3pm 5/18 - Paddle Up Pickleball Club
LOCATION:Court 1
CATEGORIES:QuickScores, Pickleball Game
TRANSP:OPAQUE
BEGIN:VALARM
TRIGGER:-PT2H
ACTION:DISPLAY
DESCRIPTION:Link/Smith vs. Wilhelm/Berra
END:VALARM
END:VEVENT
BEGIN:VEVENT
UID:pupc-63462103-20240518T153000@quickscores.com
DTSTAMP:20260425T153500Z
DTSTART;TZID=America/Chicago:20240518T153000
DURATION:PT0H20M0S
SUMMARY:Bhagat/Quick vs. Westphal/Klump
DESCRIPTION:Lauren Murphy Open - Women's 3pm 5/18 - Paddle Up Pickleball Club
LOCATION:Court 7
CATEGORIES:QuickScores, Pickleball Game
TRANSP:OPAQUE
BEGIN:VALARM
TRIGGER:-PT2H
ACTION:DISPLAY
DESCRIPTION:Bhagat/Quick vs. Westphal/Klump
END:VALARM
END:VEVENT
BEGIN:VEVENT
UID:pupc-63462104-20240518T153000@quickscores.com
DTSTAMP:20260425T153500Z
DTSTART;TZID=America/Chicago:20240518T153000
DURATION:PT0H20M0S
SUMMARY:Southerland/Southerland vs. Burke/Siebert
DESCRIPTION:Lauren Murphy Open - Women's 3pm 5/18 - Paddle Up Pickleball Club
LOCATION:Court 3
CATEGORIES:QuickScores, Pickleball Game
TRANSP:OPAQUE
BEGIN:VALARM
TRIGGER:-PT2H
ACTION:DISPLAY
DESCRIPTION:Southerland/Southerland vs. Burke/Siebert
END:VALARM
END:VEVENT
BEGIN:VEVENT
UID:pupc-63462140-20240518T153000@quickscores.com
DTSTAMP:20260425T153500Z
DTSTART;TZID=America/Chicago:20240518T153000
DURATION:PT0H20M0S
SUMMARY:Goldkam/Doerr vs. Langdon/Stark
DESCRIPTION:Lauren Murphy Open - Women's 3pm 5/18 - Paddle Up Pickleball Club
LOCATION:Court 2
CATEGORIES:QuickScores, Pickleball Game
TRANSP:OPAQUE
BEGIN:VALARM
TRIGGER:-PT2H
ACTION:DISPLAY
DESCRIPTION:Goldkam/Doerr vs. Langdon/Stark
END:VALARM
END:VEVENT
BEGIN:VEVENT
UID:pupc-63462143-20240518T153000@quickscores.com
DTSTAMP:20260425T153500Z
DTSTART;TZID=America/Chicago:20240518T153000
DURATION:PT0H20M0S
SUMMARY:Miller/Vandertuig vs. Murphy/Lampe
DESCRIPTION:Lauren Murphy Open - Women's 3pm 5/18 - Paddle Up Pickleball Club
LOCATION:Court 5
CATEGORIES:QuickScores, Pickleball Game
TRANSP:OPAQUE
BEGIN:VALARM
TRIGGER:-PT2H
ACTION:DISPLAY
DESCRIPTION:Miller/Vandertuig vs. Murphy/Lampe
END:VALARM
END:VEVENT
BEGIN:VEVENT
UID:pupc-63462144-20240518T153000@quickscores.com
DTSTAMP:20260425T153500Z
DTSTART;TZID=America/Chicago:20240518T153000
DURATION:PT0H20M0S
SUMMARY:Antoine/Thompson vs. DiRaimondo/Murphy
DESCRIPTION:Lauren Murphy Open - Women's 3pm 5/18 - Paddle Up Pickleball Club
LOCATION:Court 6
CATEGORIES:QuickScores, Pickleball Game
TRANSP:OPAQUE
BEGIN:VALARM
TRIGGER:-PT2H
ACTION:DISPLAY
DESCRIPTION:Antoine/Thompson vs. DiRaimondo/Murphy
END:VALARM
END:VEVENT
BEGIN:VEVENT
UID:pupc-63462111-20240518T155000@quickscores.com
DTSTAMP:20260425T153500Z
DTSTART;TZID=America/Chicago:20240518T155000
DURATION:PT0H20M0S
SUMMARY:DiRaimondo/Murphy vs. Miller/Vandertuig
DESCRIPTION:Lauren Murphy Open - Women's 3pm 5/18 - Paddle Up Pickleball Club
LOCATION:Court 5
CATEGORIES:QuickScores, Pickleball Game
TRANSP:OPAQUE
BEGIN:VALARM
TRIGGER:-PT2H
ACTION:DISPLAY
DESCRIPTION:DiRaimondo/Murphy vs. Miller/Vandertuig
END:VALARM
END:VEVENT
BEGIN:VEVENT
UID:pupc-63462110-20240518T155000@quickscores.com
DTSTAMP:20260425T153500Z
DTSTART;TZID=America/Chicago:20240518T155000
DURATION:PT0H20M0S
SUMMARY:Antoine/Thompson vs. Langdon/Stark
DESCRIPTION:Lauren Murphy Open - Women's 3pm 5/18 - Paddle Up Pickleball Club
LOCATION:Court 7
CATEGORIES:QuickScores, Pickleball Game
TRANSP:OPAQUE
BEGIN:VALARM
TRIGGER:-PT2H
ACTION:DISPLAY
DESCRIPTION:Antoine/Thompson vs. Langdon/Stark
END:VALARM
END:VEVENT
BEGIN:VEVENT
UID:pupc-63462109-20240518T155000@quickscores.com
DTSTAMP:20260425T153500Z
DTSTART;TZID=America/Chicago:20240518T155000
DURATION:PT0H20M0S
SUMMARY:Murphy/Lampe vs. Goldkam/Doerr
DESCRIPTION:Lauren Murphy Open - Women's 3pm 5/18 - Paddle Up Pickleball Club
LOCATION:Court 3
CATEGORIES:QuickScores, Pickleball Game
TRANSP:OPAQUE
BEGIN:VALARM
TRIGGER:-PT2H
ACTION:DISPLAY
DESCRIPTION:Murphy/Lampe vs. Goldkam/Doerr
END:VALARM
END:VEVENT
BEGIN:VEVENT
UID:pupc-63462108-20240518T155000@quickscores.com
DTSTAMP:20260425T153500Z
DTSTART;TZID=America/Chicago:20240518T155000
DURATION:PT0H20M0S
SUMMARY:Southerland/Southerland vs. Bhagat/Quick
DESCRIPTION:Lauren Murphy Open - Women's 3pm 5/18 - Paddle Up Pickleball Club
LOCATION:Court 1
CATEGORIES:QuickScores, Pickleball Game
TRANSP:OPAQUE
BEGIN:VALARM
TRIGGER:-PT2H
ACTION:DISPLAY
DESCRIPTION:Southerland/Southerland vs. Bhagat/Quick
END:VALARM
END:VEVENT
BEGIN:VEVENT
UID:pupc-63462106-20240518T155000@quickscores.com
DTSTAMP:20260425T153500Z
DTSTART;TZID=America/Chicago:20240518T155000
DURATION:PT0H20M0S
SUMMARY:Westphal/Klump vs. Merz/Monroe
DESCRIPTION:Lauren Murphy Open - Women's 3pm 5/18 - Paddle Up Pickleball Club
LOCATION:Court 6
CATEGORIES:QuickScores, Pickleball Game
TRANSP:OPAQUE
BEGIN:VALARM
TRIGGER:-PT2H
ACTION:DISPLAY
DESCRIPTION:Westphal/Klump vs. Merz/Monroe
END:VALARM
END:VEVENT
BEGIN:VEVENT
UID:pupc-63462105-20240518T155000@quickscores.com
DTSTAMP:20260425T153500Z
DTSTART;TZID=America/Chicago:20240518T155000
DURATION:PT0H20M0S
SUMMARY:Wilhelm/Berra vs. O'Mara/Perrone
DESCRIPTION:Lauren Murphy Open - Women's 3pm 5/18 - Paddle Up Pickleball Club
LOCATION:Court 2
CATEGORIES:QuickScores, Pickleball Game
TRANSP:OPAQUE
BEGIN:VALARM
TRIGGER:-PT2H
ACTION:DISPLAY
DESCRIPTION:Wilhelm/Berra vs. O'Mara/Perrone
END:VALARM
END:VEVENT
BEGIN:VEVENT
UID:pupc-63462128-20240518T155000@quickscores.com
DTSTAMP:20260425T153500Z
DTSTART;TZID=America/Chicago:20240518T155000
DURATION:PT0H20M0S
SUMMARY:Tracy/Schrimpf vs. Burke/Siebert
DESCRIPTION:Lauren Murphy Open - Women's 3pm 5/18 - Paddle Up Pickleball Club
LOCATION:Court 4
CATEGORIES:QuickScores, Pickleball Game
TRANSP:OPAQUE
BEGIN:VALARM
TRIGGER:-PT2H
ACTION:DISPLAY
DESCRIPTION:Tracy/Schrimpf vs. Burke/Siebert
END:VALARM
END:VEVENT
BEGIN:VEVENT
UID:pupc-63462138-20240518T161000@quickscores.com
DTSTAMP:20260425T153500Z
DTSTART;TZID=America/Chicago:20240518T161000
DURATION:PT0H20M0S
SUMMARY:Wilhelm/Berra vs. Merz/Monroe
DESCRIPTION:Lauren Murphy Open - Women's 3pm 5/18 - Paddle Up Pickleball Club
LOCATION:Court 2
CATEGORIES:QuickScores, Pickleball Game
TRANSP:OPAQUE
BEGIN:VALARM
TRIGGER:-PT2H
ACTION:DISPLAY
DESCRIPTION:Wilhelm/Berra vs. Merz/Monroe
END:VALARM
END:VEVENT
BEGIN:VEVENT
UID:pupc-63462118-20240518T161000@quickscores.com
DTSTAMP:20260425T153500Z
DTSTART;TZID=America/Chicago:20240518T161000
DURATION:PT0H20M0S
SUMMARY:Murphy/Lampe vs. Antoine/Thompson
DESCRIPTION:Lauren Murphy Open - Women's 3pm 5/18 - Paddle Up Pickleball Club
LOCATION:Court 3
CATEGORIES:QuickScores, Pickleball Game
TRANSP:OPAQUE
BEGIN:VALARM
TRIGGER:-PT2H
ACTION:DISPLAY
DESCRIPTION:Murphy/Lampe vs. Antoine/Thompson
END:VALARM
END:VEVENT
BEGIN:VEVENT
UID:pupc-63462117-20240518T161000@quickscores.com
DTSTAMP:20260425T153500Z
DTSTART;TZID=America/Chicago:20240518T161000
DURATION:PT0H20M0S
SUMMARY:Langdon/Stark vs. DiRaimondo/Murphy
DESCRIPTION:Lauren Murphy Open - Women's 3pm 5/18 - Paddle Up Pickleball Club
LOCATION:Court 4
CATEGORIES:QuickScores, Pickleball Game
TRANSP:OPAQUE
BEGIN:VALARM
TRIGGER:-PT2H
ACTION:DISPLAY
DESCRIPTION:Langdon/Stark vs. DiRaimondo/Murphy
END:VALARM
END:VEVENT
BEGIN:VEVENT
UID:pupc-63462116-20240518T161000@quickscores.com
DTSTAMP:20260425T153500Z
DTSTART;TZID=America/Chicago:20240518T161000
DURATION:PT0H20M0S
SUMMARY:Miller/Vandertuig vs. Goldkam/Doerr
DESCRIPTION:Lauren Murphy Open - Women's 3pm 5/18 - Paddle Up Pickleball Club
LOCATION:Court 1
CATEGORIES:QuickScores, Pickleball Game
TRANSP:OPAQUE
BEGIN:VALARM
TRIGGER:-PT2H
ACTION:DISPLAY
DESCRIPTION:Miller/Vandertuig vs. Goldkam/Doerr
END:VALARM
END:VEVENT
BEGIN:VEVENT
UID:pupc-63462113-20240518T161000@quickscores.com
DTSTAMP:20260425T153500Z
DTSTART;TZID=America/Chicago:20240518T161000
DURATION:PT0H20M0S
SUMMARY:Tracy/Schrimpf vs. Bhagat/Quick
DESCRIPTION:Lauren Murphy Open - Women's 3pm 5/18 - Paddle Up Pickleball Club
LOCATION:Court 7
CATEGORIES:QuickScores, Pickleball Game
TRANSP:OPAQUE
BEGIN:VALARM
TRIGGER:-PT2H
ACTION:DISPLAY
DESCRIPTION:Tracy/Schrimpf vs. Bhagat/Quick
END:VALARM
END:VEVENT
BEGIN:VEVENT
UID:pupc-63462112-20240518T161000@quickscores.com
DTSTAMP:20260425T153500Z
DTSTART;TZID=America/Chicago:20240518T161000
DURATION:PT0H20M0S
SUMMARY:Link/Smith vs. O'Mara/Perrone
DESCRIPTION:Lauren Murphy Open - Women's 3pm 5/18 - Paddle Up Pickleball Club
LOCATION:Court 5
CATEGORIES:QuickScores, Pickleball Game
TRANSP:OPAQUE
BEGIN:VALARM
TRIGGER:-PT2H
ACTION:DISPLAY
DESCRIPTION:Link/Smith vs. O'Mara/Perrone
END:VALARM
END:VEVENT
BEGIN:VEVENT
UID:pupc-63462115-20240518T161000@quickscores.com
DTSTAMP:20260425T153500Z
DTSTART;TZID=America/Chicago:20240518T161000
DURATION:PT0H20M0S
SUMMARY:Burke/Siebert vs. Westphal/Klump
DESCRIPTION:Lauren Murphy Open - Women's 3pm 5/18 - Paddle Up Pickleball Club
LOCATION:Court 6
CATEGORIES:QuickScores, Pickleball Game
TRANSP:OPAQUE
BEGIN:VALARM
TRIGGER:-PT2H
ACTION:DISPLAY
DESCRIPTION:Burke/Siebert vs. Westphal/Klump
END:VALARM
END:VEVENT
BEGIN:VEVENT
UID:pupc-63462129-20240518T163000@quickscores.com
DTSTAMP:20260425T153500Z
DTSTART;TZID=America/Chicago:20240518T163000
DURATION:PT0H20M0S
SUMMARY:Westphal/Klump vs. Wilhelm/Berra
DESCRIPTION:Lauren Murphy Open - Women's 3pm 5/18 - Paddle Up Pickleball Club
LOCATION:Court 2
CATEGORIES:QuickScores, Pickleball Game
TRANSP:OPAQUE
BEGIN:VALARM
TRIGGER:-PT2H
ACTION:DISPLAY
DESCRIPTION:Westphal/Klump vs. Wilhelm/Berra
END:VALARM
END:VEVENT
BEGIN:VEVENT
UID:pupc-63462123-20240518T163000@quickscores.com
DTSTAMP:20260425T153500Z
DTSTART;TZID=America/Chicago:20240518T163000
DURATION:PT0H20M0S
SUMMARY:Goldkam/Doerr vs. Antoine/Thompson
DESCRIPTION:Lauren Murphy Open - Women's 3pm 5/18 - Paddle Up Pickleball Club
LOCATION:Court 6
CATEGORIES:QuickScores, Pickleball Game
TRANSP:OPAQUE
BEGIN:VALARM
TRIGGER:-PT2H
ACTION:DISPLAY
DESCRIPTION:Goldkam/Doerr vs. Antoine/Thompson
END:VALARM
END:VEVENT
BEGIN:VEVENT
UID:pupc-63462125-20240518T163000@quickscores.com
DTSTAMP:20260425T153500Z
DTSTART;TZID=America/Chicago:20240518T163000
DURATION:PT0H20M0S
SUMMARY:Miller/Vandertuig vs. Langdon/Stark
DESCRIPTION:Lauren Murphy Open - Women's 3pm 5/18 - Paddle Up Pickleball Club
LOCATION:Court 4
CATEGORIES:QuickScores, Pickleball Game
TRANSP:OPAQUE
BEGIN:VALARM
TRIGGER:-PT2H
ACTION:DISPLAY
DESCRIPTION:Miller/Vandertuig vs. Langdon/Stark
END:VALARM
END:VEVENT
BEGIN:VEVENT
UID:pupc-63462124-20240518T163000@quickscores.com
DTSTAMP:20260425T153500Z
DTSTART;TZID=America/Chicago:20240518T163000
DURATION:PT0H20M0S
SUMMARY:DiRaimondo/Murphy vs. Murphy/Lampe
DESCRIPTION:Lauren Murphy Open - Women's 3pm 5/18 - Paddle Up Pickleball Club
LOCATION:Court 3
CATEGORIES:QuickScores, Pickleball Game
TRANSP:OPAQUE
BEGIN:VALARM
TRIGGER:-PT2H
ACTION:DISPLAY
DESCRIPTION:DiRaimondo/Murphy vs. Murphy/Lampe
END:VALARM
END:VEVENT
BEGIN:VEVENT
UID:pupc-63462122-20240518T163000@quickscores.com
DTSTAMP:20260425T153500Z
DTSTART;TZID=America/Chicago:20240518T163000
DURATION:PT0H20M0S
SUMMARY:Bhagat/Quick vs. Link/Smith
DESCRIPTION:Lauren Murphy Open - Women's 3pm 5/18 - Paddle Up Pickleball Club
LOCATION:Court 7
CATEGORIES:QuickScores, Pickleball Game
TRANSP:OPAQUE
BEGIN:VALARM
TRIGGER:-PT2H
ACTION:DISPLAY
DESCRIPTION:Bhagat/Quick vs. Link/Smith
END:VALARM
END:VEVENT
BEGIN:VEVENT
UID:pupc-63462121-20240518T163000@quickscores.com
DTSTAMP:20260425T153500Z
DTSTART;TZID=America/Chicago:20240518T163000
DURATION:PT0H20M0S
SUMMARY:Merz/Monroe vs. Southerland/Southerland
DESCRIPTION:Lauren Murphy Open - Women's 3pm 5/18 - Paddle Up Pickleball Club
LOCATION:Court 1
CATEGORIES:QuickScores, Pickleball Game
TRANSP:OPAQUE
BEGIN:VALARM
TRIGGER:-PT2H
ACTION:DISPLAY
DESCRIPTION:Merz/Monroe vs. Southerland/Southerland
END:VALARM
END:VEVENT
BEGIN:VEVENT
UID:pupc-63462120-20240518T163000@quickscores.com
DTSTAMP:20260425T153500Z
DTSTART;TZID=America/Chicago:20240518T163000
DURATION:PT0H20M0S
SUMMARY:O'Mara/Perrone vs. Burke/Siebert
DESCRIPTION:Lauren Murphy Open - Women's 3pm 5/18 - Paddle Up Pickleball Club
LOCATION:Court 5
CATEGORIES:QuickScores, Pickleball Game
TRANSP:OPAQUE
BEGIN:VALARM
TRIGGER:-PT2H
ACTION:DISPLAY
DESCRIPTION:O'Mara/Perrone vs. Burke/Siebert
END:VALARM
END:VEVENT
BEGIN:VEVENT
UID:pupc-63462107-20240518T165000@quickscores.com
DTSTAMP:20260425T153500Z
DTSTART;TZID=America/Chicago:20240518T165000
DURATION:PT0H20M0S
SUMMARY:Burke/Siebert vs. Link/Smith
DESCRIPTION:Lauren Murphy Open - Women's 3pm 5/18 - Paddle Up Pickleball Club
LOCATION:Court 7
CATEGORIES:QuickScores, Pickleball Game
TRANSP:OPAQUE
BEGIN:VALARM
TRIGGER:-PT2H
ACTION:DISPLAY
DESCRIPTION:Burke/Siebert vs. Link/Smith
END:VALARM
END:VEVENT
BEGIN:VEVENT
UID:pupc-63462132-20240518T165000@quickscores.com
DTSTAMP:20260425T153500Z
DTSTART;TZID=America/Chicago:20240518T165000
DURATION:PT0H20M0S
SUMMARY:Langdon/Stark vs. Murphy/Lampe
DESCRIPTION:Lauren Murphy Open - Women's 3pm 5/18 - Paddle Up Pickleball Club
LOCATION:Court 4
CATEGORIES:QuickScores, Pickleball Game
TRANSP:OPAQUE
BEGIN:VALARM
TRIGGER:-PT2H
ACTION:DISPLAY
DESCRIPTION:Langdon/Stark vs. Murphy/Lampe
END:VALARM
END:VEVENT
BEGIN:VEVENT
UID:pupc-63462131-20240518T165000@quickscores.com
DTSTAMP:20260425T153500Z
DTSTART;TZID=America/Chicago:20240518T165000
DURATION:PT0H20M0S
SUMMARY:Antoine/Thompson vs. Miller/Vandertuig
DESCRIPTION:Lauren Murphy Open - Women's 3pm 5/18 - Paddle Up Pickleball Club
LOCATION:Court 5
CATEGORIES:QuickScores, Pickleball Game
TRANSP:OPAQUE
BEGIN:VALARM
TRIGGER:-PT2H
ACTION:DISPLAY
DESCRIPTION:Antoine/Thompson vs. Miller/Vandertuig
END:VALARM
END:VEVENT
BEGIN:VEVENT
UID:pupc-63462130-20240518T165000@quickscores.com
DTSTAMP:20260425T153500Z
DTSTART;TZID=America/Chicago:20240518T165000
DURATION:PT0H20M0S
SUMMARY:Goldkam/Doerr vs. DiRaimondo/Murphy
DESCRIPTION:Lauren Murphy Open - Women's 3pm 5/18 - Paddle Up Pickleball Club
LOCATION:Court 3
CATEGORIES:QuickScores, Pickleball Game
TRANSP:OPAQUE
BEGIN:VALARM
TRIGGER:-PT2H
ACTION:DISPLAY
DESCRIPTION:Goldkam/Doerr vs. DiRaimondo/Murphy
END:VALARM
END:VEVENT
BEGIN:VEVENT
UID:pupc-63462119-20240518T165000@quickscores.com
DTSTAMP:20260425T153500Z
DTSTART;TZID=America/Chicago:20240518T165000
DURATION:PT0H20M0S
SUMMARY:Westphal/Klump vs. Tracy/Schrimpf
DESCRIPTION:Lauren Murphy Open - Women's 3pm 5/18 - Paddle Up Pickleball Club
LOCATION:Court 2
CATEGORIES:QuickScores, Pickleball Game
TRANSP:OPAQUE
BEGIN:VALARM
TRIGGER:-PT2H
ACTION:DISPLAY
DESCRIPTION:Westphal/Klump vs. Tracy/Schrimpf
END:VALARM
END:VEVENT
BEGIN:VEVENT
UID:pupc-63462126-20240518T165000@quickscores.com
DTSTAMP:20260425T153500Z
DTSTART;TZID=America/Chicago:20240518T165000
DURATION:PT0H20M0S
SUMMARY:Merz/Monroe vs. Bhagat/Quick
DESCRIPTION:Lauren Murphy Open - Women's 3pm 5/18 - Paddle Up Pickleball Club
LOCATION:Court 6
CATEGORIES:QuickScores, Pickleball Game
TRANSP:OPAQUE
BEGIN:VALARM
TRIGGER:-PT2H
ACTION:DISPLAY
DESCRIPTION:Merz/Monroe vs. Bhagat/Quick
END:VALARM
END:VEVENT
BEGIN:VEVENT
UID:pupc-63462127-20240518T165000@quickscores.com
DTSTAMP:20260425T153500Z
DTSTART;TZID=America/Chicago:20240518T165000
DURATION:PT0H20M0S
SUMMARY:O'Mara/Perrone vs. Southerland/Southerland
DESCRIPTION:Lauren Murphy Open - Women's 3pm 5/18 - Paddle Up Pickleball Club
LOCATION:Court 1
CATEGORIES:QuickScores, Pickleball Game
TRANSP:OPAQUE
BEGIN:VALARM
TRIGGER:-PT2H
ACTION:DISPLAY
DESCRIPTION:O'Mara/Perrone vs. Southerland/Southerland
END:VALARM
END:VEVENT
BEGIN:VEVENT
UID:pupc-63462142-20240518T171000@quickscores.com
DTSTAMP:20260425T153500Z
DTSTART;TZID=America/Chicago:20240518T171000
DURATION:PT0H20M0S
SUMMARY:Murphy/Lampe vs. Miller/Vandertuig
DESCRIPTION:Lauren Murphy Open - Women's 3pm 5/18 - Paddle Up Pickleball Club
LOCATION:Court 5
CATEGORIES:QuickScores, Pickleball Game
TRANSP:OPAQUE
BEGIN:VALARM
TRIGGER:-PT2H
ACTION:DISPLAY
DESCRIPTION:Murphy/Lampe vs. Miller/Vandertuig
END:VALARM
END:VEVENT
BEGIN:VEVENT
UID:pupc-63462141-20240518T171000@quickscores.com
DTSTAMP:20260425T153500Z
DTSTART;TZID=America/Chicago:20240518T171000
DURATION:PT0H20M0S
SUMMARY:Langdon/Stark vs. Goldkam/Doerr
DESCRIPTION:Lauren Murphy Open - Women's 3pm 5/18 - Paddle Up Pickleball Club
LOCATION:Court 1
CATEGORIES:QuickScores, Pickleball Game
TRANSP:OPAQUE
BEGIN:VALARM
TRIGGER:-PT2H
ACTION:DISPLAY
DESCRIPTION:Langdon/Stark vs. Goldkam/Doerr
END:VALARM
END:VEVENT
BEGIN:VEVENT
UID:pupc-63462135-20240518T171000@quickscores.com
DTSTAMP:20260425T153500Z
DTSTART;TZID=America/Chicago:20240518T171000
DURATION:PT0H20M0S
SUMMARY:Bhagat/Quick vs. O'Mara/Perrone
DESCRIPTION:Lauren Murphy Open - Women's 3pm 5/18 - Paddle Up Pickleball Club
LOCATION:Court 7
CATEGORIES:QuickScores, Pickleball Game
TRANSP:OPAQUE
BEGIN:VALARM
TRIGGER:-PT2H
ACTION:DISPLAY
DESCRIPTION:Bhagat/Quick vs. O'Mara/Perrone
END:VALARM
END:VEVENT
BEGIN:VEVENT
UID:pupc-63462139-20240518T171000@quickscores.com
DTSTAMP:20260425T153500Z
DTSTART;TZID=America/Chicago:20240518T171000
DURATION:PT0H20M0S
SUMMARY:Link/Smith vs. Westphal/Klump
DESCRIPTION:Lauren Murphy Open - Women's 3pm 5/18 - Paddle Up Pickleball Club
LOCATION:Court 6
CATEGORIES:QuickScores, Pickleball Game
TRANSP:OPAQUE
BEGIN:VALARM
TRIGGER:-PT2H
ACTION:DISPLAY
DESCRIPTION:Link/Smith vs. Westphal/Klump
END:VALARM
END:VEVENT
BEGIN:VEVENT
UID:pupc-63462134-20240518T171000@quickscores.com
DTSTAMP:20260425T153500Z
DTSTART;TZID=America/Chicago:20240518T171000
DURATION:PT0H20M0S
SUMMARY:Southerland/Southerland vs. Tracy/Schrimpf
DESCRIPTION:Lauren Murphy Open - Women's 3pm 5/18 - Paddle Up Pickleball Club
LOCATION:Court 2
CATEGORIES:QuickScores, Pickleball Game
TRANSP:OPAQUE
BEGIN:VALARM
TRIGGER:-PT2H
ACTION:DISPLAY
DESCRIPTION:Southerland/Southerland vs. Tracy/Schrimpf
END:VALARM
END:VEVENT
BEGIN:VEVENT
UID:pupc-63462133-20240518T171000@quickscores.com
DTSTAMP:20260425T153500Z
DTSTART;TZID=America/Chicago:20240518T171000
DURATION:PT0H20M0S
SUMMARY:Burke/Siebert vs. Wilhelm/Berra
DESCRIPTION:Lauren Murphy Open - Women's 3pm 5/18 - Paddle Up Pickleball Club
LOCATION:Court 4
CATEGORIES:QuickScores, Pickleball Game
TRANSP:OPAQUE
BEGIN:VALARM
TRIGGER:-PT2H
ACTION:DISPLAY
DESCRIPTION:Burke/Siebert vs. Wilhelm/Berra
END:VALARM
END:VEVENT
BEGIN:VEVENT
UID:pupc-63462145-20240518T171000@quickscores.com
DTSTAMP:20260425T153500Z
DTSTART;TZID=America/Chicago:20240518T171000
DURATION:PT0H20M0S
SUMMARY:DiRaimondo/Murphy vs. Antoine/Thompson
DESCRIPTION:Lauren Murphy Open - Women's 3pm 5/18 - Paddle Up Pickleball Club
LOCATION:Court 3
CATEGORIES:QuickScores, Pickleball Game
TRANSP:OPAQUE
BEGIN:VALARM
TRIGGER:-PT2H
ACTION:DISPLAY
DESCRIPTION:DiRaimondo/Murphy vs. Antoine/Thompson
END:VALARM
END:VEVENT
BEGIN:VEVENT
UID:pupc-63462137-20240518T173000@quickscores.com
DTSTAMP:20260425T153500Z
DTSTART;TZID=America/Chicago:20240518T173000
DURATION:PT0H20M0S
SUMMARY:O'Mara/Perrone vs. Tracy/Schrimpf
DESCRIPTION:Lauren Murphy Open - Women's 3pm 5/18 - Paddle Up Pickleball Club
LOCATION:Court 2
CATEGORIES:QuickScores, Pickleball Game
TRANSP:OPAQUE
BEGIN:VALARM
TRIGGER:-PT2H
ACTION:DISPLAY
DESCRIPTION:O'Mara/Perrone vs. Tracy/Schrimpf
END:VALARM
END:VEVENT
BEGIN:VEVENT
UID:pupc-63462136-20240518T173000@quickscores.com
DTSTAMP:20260425T153500Z
DTSTART;TZID=America/Chicago:20240518T173000
DURATION:PT0H20M0S
SUMMARY:Merz/Monroe vs. Link/Smith
DESCRIPTION:Lauren Murphy Open - Women's 3pm 5/18 - Paddle Up Pickleball Club
LOCATION:Court 1
CATEGORIES:QuickScores, Pickleball Game
TRANSP:OPAQUE
BEGIN:VALARM
TRIGGER:-PT2H
ACTION:DISPLAY
DESCRIPTION:Merz/Monroe vs. Link/Smith
END:VALARM
END:VEVENT
BEGIN:VEVENT
UID:pupc-63462114-20240518T173000@quickscores.com
DTSTAMP:20260425T153500Z
DTSTART;TZID=America/Chicago:20240518T173000
DURATION:PT0H20M0S
SUMMARY:Wilhelm/Berra vs. Southerland/Southerland
DESCRIPTION:Lauren Murphy Open - Women's 3pm 5/18 - Paddle Up Pickleball Club
LOCATION:Court 3
CATEGORIES:QuickScores, Pickleball Game
TRANSP:OPAQUE
BEGIN:VALARM
TRIGGER:-PT2H
ACTION:DISPLAY
DESCRIPTION:Wilhelm/Berra vs. Southerland/Southerland
END:VALARM
END:VEVENT
END:VCALENDAR
