BEGIN:VCALENDAR
VERSION:2.0
PRODID:-//QuickScores.com//BQ Dynamic iCal Creator//EN
METHOD:PUBLISH
X-WR-CALNAME:Squads Advanced League - Early Summer 24 - Completed Leagues 2023/24
X-WR-CALDESC:QuickScores game calendar
X-PUBLISHED-TTL:PT24H
REFRESH-INTERVAL;VALUE=DURATION:PT24H
CALSCALE:GREGORIAN
BEGIN:VTIMEZONE
TZID:America/Chicago
X-LIC-LOCATION:America/Chicago
BEGIN:DAYLIGHT
TZNAME:CDT
TZOFFSETFROM:-0600
TZOFFSETTO:-0500
DTSTART:19700308T020000
RRULE:FREQ=YEARLY;BYMONTH=3;BYDAY=2SU
END:DAYLIGHT
BEGIN:STANDARD
TZNAME:CST
TZOFFSETFROM:-0500
TZOFFSETTO:-0600
DTSTART:19701101T020000
RRULE:FREQ=YEARLY;BYMONTH=11;BYDAY=1SU
END:STANDARD
END:VTIMEZONE
BEGIN:VEVENT
UID:pupc-63348354-20240515T200000@quickscores.com
DTSTAMP:20260421T211900Z
DTSTART;TZID=America/Chicago:20240515T200000
DURATION:PT1H0M0S
SUMMARY:Team Reque vs. Team Landolt
DESCRIPTION:Squads Advanced League - Early Summer 24 - Paddle Up Pickleball Club
LOCATION:Court 5
CATEGORIES:QuickScores, Pickleball Game
TRANSP:OPAQUE
BEGIN:VALARM
TRIGGER:-PT2H
ACTION:DISPLAY
DESCRIPTION:Team Reque vs. Team Landolt
END:VALARM
END:VEVENT
BEGIN:VEVENT
UID:pupc-63348350-20240515T200000@quickscores.com
DTSTAMP:20260421T211900Z
DTSTART;TZID=America/Chicago:20240515T200000
DURATION:PT1H0M0S
SUMMARY:Team Richert vs. Team Blickhan
DESCRIPTION:Squads Advanced League - Early Summer 24 - Paddle Up Pickleball Club
LOCATION:Court 7
CATEGORIES:QuickScores, Pickleball Game
TRANSP:OPAQUE
BEGIN:VALARM
TRIGGER:-PT2H
ACTION:DISPLAY
DESCRIPTION:Team Richert vs. Team Blickhan
END:VALARM
END:VEVENT
BEGIN:VEVENT
UID:pupc-63348352-20240515T200000@quickscores.com
DTSTAMP:20260421T211900Z
DTSTART;TZID=America/Chicago:20240515T200000
DURATION:PT1H0M0S
SUMMARY:Team Gamache vs. Team Muntzing
DESCRIPTION:Squads Advanced League - Early Summer 24 - Paddle Up Pickleball Club
LOCATION:Court 4
CATEGORIES:QuickScores, Pickleball Game
TRANSP:OPAQUE
BEGIN:VALARM
TRIGGER:-PT2H
ACTION:DISPLAY
DESCRIPTION:Team Gamache vs. Team Muntzing
END:VALARM
END:VEVENT
BEGIN:VEVENT
UID:pupc-63348349-20240515T210000@quickscores.com
DTSTAMP:20260421T211900Z
DTSTART;TZID=America/Chicago:20240515T210000
DURATION:PT1H0M0S
SUMMARY:Team Reque vs. Team Blickhan
DESCRIPTION:Squads Advanced League - Early Summer 24 - Paddle Up Pickleball Club
LOCATION:Court 5
CATEGORIES:QuickScores, Pickleball Game
TRANSP:OPAQUE
BEGIN:VALARM
TRIGGER:-PT2H
ACTION:DISPLAY
DESCRIPTION:Team Reque vs. Team Blickhan
END:VALARM
END:VEVENT
BEGIN:VEVENT
UID:pupc-63348353-20240515T210000@quickscores.com
DTSTAMP:20260421T211900Z
DTSTART;TZID=America/Chicago:20240515T210000
DURATION:PT1H0M0S
SUMMARY:Team Landolt vs. Team Muntzing
DESCRIPTION:Squads Advanced League - Early Summer 24 - Paddle Up Pickleball Club
LOCATION:Court 4
CATEGORIES:QuickScores, Pickleball Game
TRANSP:OPAQUE
BEGIN:VALARM
TRIGGER:-PT2H
ACTION:DISPLAY
DESCRIPTION:Team Landolt vs. Team Muntzing
END:VALARM
END:VEVENT
BEGIN:VEVENT
UID:pupc-63348351-20240515T210000@quickscores.com
DTSTAMP:20260421T211900Z
DTSTART;TZID=America/Chicago:20240515T210000
DURATION:PT1H0M0S
SUMMARY:Team Richert vs. Team Gamache
DESCRIPTION:Squads Advanced League - Early Summer 24 - Paddle Up Pickleball Club
LOCATION:Court 7
CATEGORIES:QuickScores, Pickleball Game
TRANSP:OPAQUE
BEGIN:VALARM
TRIGGER:-PT2H
ACTION:DISPLAY
DESCRIPTION:Team Richert vs. Team Gamache
END:VALARM
END:VEVENT
BEGIN:VEVENT
UID:pupc-63348355-20240522T200000@quickscores.com
DTSTAMP:20260421T211900Z
DTSTART;TZID=America/Chicago:20240522T200000
DURATION:PT1H0M0S
SUMMARY:Team Reque vs. Team Muntzing
DESCRIPTION:Squads Advanced League - Early Summer 24 - Paddle Up Pickleball Club
LOCATION:Court 7
CATEGORIES:QuickScores, Pickleball Game
TRANSP:OPAQUE
BEGIN:VALARM
TRIGGER:-PT2H
ACTION:DISPLAY
DESCRIPTION:Team Reque vs. Team Muntzing
END:VALARM
END:VEVENT
BEGIN:VEVENT
UID:pupc-63348357-20240522T200000@quickscores.com
DTSTAMP:20260421T211900Z
DTSTART;TZID=America/Chicago:20240522T200000
DURATION:PT1H0M0S
SUMMARY:Team Blickhan vs. Team Gamache
DESCRIPTION:Squads Advanced League - Early Summer 24 - Paddle Up Pickleball Club
LOCATION:Court 4
CATEGORIES:QuickScores, Pickleball Game
TRANSP:OPAQUE
BEGIN:VALARM
TRIGGER:-PT2H
ACTION:DISPLAY
DESCRIPTION:Team Blickhan vs. Team Gamache
END:VALARM
END:VEVENT
BEGIN:VEVENT
UID:pupc-63348359-20240522T200000@quickscores.com
DTSTAMP:20260421T211900Z
DTSTART;TZID=America/Chicago:20240522T200000
DURATION:PT1H0M0S
SUMMARY:Team Landolt vs. Team Richert
DESCRIPTION:Squads Advanced League - Early Summer 24 - Paddle Up Pickleball Club
LOCATION:Court 5
CATEGORIES:QuickScores, Pickleball Game
TRANSP:OPAQUE
BEGIN:VALARM
TRIGGER:-PT2H
ACTION:DISPLAY
DESCRIPTION:Team Landolt vs. Team Richert
END:VALARM
END:VEVENT
BEGIN:VEVENT
UID:pupc-63348360-20240522T210000@quickscores.com
DTSTAMP:20260421T211900Z
DTSTART;TZID=America/Chicago:20240522T210000
DURATION:PT1H0M0S
SUMMARY:Team Reque vs. Team Richert
DESCRIPTION:Squads Advanced League - Early Summer 24 - Paddle Up Pickleball Club
LOCATION:Court 5
CATEGORIES:QuickScores, Pickleball Game
TRANSP:OPAQUE
BEGIN:VALARM
TRIGGER:-PT2H
ACTION:DISPLAY
DESCRIPTION:Team Reque vs. Team Richert
END:VALARM
END:VEVENT
BEGIN:VEVENT
UID:pupc-63348358-20240522T210000@quickscores.com
DTSTAMP:20260421T211900Z
DTSTART;TZID=America/Chicago:20240522T210000
DURATION:PT1H0M0S
SUMMARY:Team Gamache vs. Team Landolt
DESCRIPTION:Squads Advanced League - Early Summer 24 - Paddle Up Pickleball Club
LOCATION:Court 4
CATEGORIES:QuickScores, Pickleball Game
TRANSP:OPAQUE
BEGIN:VALARM
TRIGGER:-PT2H
ACTION:DISPLAY
DESCRIPTION:Team Gamache vs. Team Landolt
END:VALARM
END:VEVENT
BEGIN:VEVENT
UID:pupc-63348356-20240522T210000@quickscores.com
DTSTAMP:20260421T211900Z
DTSTART;TZID=America/Chicago:20240522T210000
DURATION:PT1H0M0S
SUMMARY:Team Muntzing vs. Team Blickhan
DESCRIPTION:Squads Advanced League - Early Summer 24 - Paddle Up Pickleball Club
LOCATION:Court 7
CATEGORIES:QuickScores, Pickleball Game
TRANSP:OPAQUE
BEGIN:VALARM
TRIGGER:-PT2H
ACTION:DISPLAY
DESCRIPTION:Team Muntzing vs. Team Blickhan
END:VALARM
END:VEVENT
BEGIN:VEVENT
UID:pupc-63348366-20240529T200000@quickscores.com
DTSTAMP:20260421T211900Z
DTSTART;TZID=America/Chicago:20240529T200000
DURATION:PT1H0M0S
SUMMARY:Team Blickhan vs. Team Landolt
DESCRIPTION:Squads Advanced League - Early Summer 24 - Paddle Up Pickleball Club
LOCATION:Court 4
CATEGORIES:QuickScores, Pickleball Game
TRANSP:OPAQUE
BEGIN:VALARM
TRIGGER:-PT2H
ACTION:DISPLAY
DESCRIPTION:Team Blickhan vs. Team Landolt
END:VALARM
END:VEVENT
BEGIN:VEVENT
UID:pupc-63348365-20240529T200000@quickscores.com
DTSTAMP:20260421T211900Z
DTSTART;TZID=America/Chicago:20240529T200000
DURATION:PT1H0M0S
SUMMARY:Team Muntzing vs. Team Richert
DESCRIPTION:Squads Advanced League - Early Summer 24 - Paddle Up Pickleball Club
LOCATION:Court 7
CATEGORIES:QuickScores, Pickleball Game
TRANSP:OPAQUE
BEGIN:VALARM
TRIGGER:-PT2H
ACTION:DISPLAY
DESCRIPTION:Team Muntzing vs. Team Richert
END:VALARM
END:VEVENT
BEGIN:VEVENT
UID:pupc-63348364-20240529T200000@quickscores.com
DTSTAMP:20260421T211900Z
DTSTART;TZID=America/Chicago:20240529T200000
DURATION:PT1H0M0S
SUMMARY:Team Reque vs. Team Gamache
DESCRIPTION:Squads Advanced League - Early Summer 24 - Paddle Up Pickleball Club
LOCATION:Court 5
CATEGORIES:QuickScores, Pickleball Game
TRANSP:OPAQUE
BEGIN:VALARM
TRIGGER:-PT2H
ACTION:DISPLAY
DESCRIPTION:Team Reque vs. Team Gamache
END:VALARM
END:VEVENT
BEGIN:VEVENT
UID:pupc-63348363-20240529T210000@quickscores.com
DTSTAMP:20260421T211900Z
DTSTART;TZID=America/Chicago:20240529T210000
DURATION:PT1H0M0S
SUMMARY:Team Muntzing vs. Team Landolt
DESCRIPTION:Squads Advanced League - Early Summer 24 - Paddle Up Pickleball Club
LOCATION:Court 7
CATEGORIES:QuickScores, Pickleball Game
TRANSP:OPAQUE
BEGIN:VALARM
TRIGGER:-PT2H
ACTION:DISPLAY
DESCRIPTION:Team Muntzing vs. Team Landolt
END:VALARM
END:VEVENT
BEGIN:VEVENT
UID:pupc-63348362-20240529T210000@quickscores.com
DTSTAMP:20260421T211900Z
DTSTART;TZID=America/Chicago:20240529T210000
DURATION:PT1H0M0S
SUMMARY:Team Gamache vs. Team Richert
DESCRIPTION:Squads Advanced League - Early Summer 24 - Paddle Up Pickleball Club
LOCATION:Court 5
CATEGORIES:QuickScores, Pickleball Game
TRANSP:OPAQUE
BEGIN:VALARM
TRIGGER:-PT2H
ACTION:DISPLAY
DESCRIPTION:Team Gamache vs. Team Richert
END:VALARM
END:VEVENT
BEGIN:VEVENT
UID:pupc-63348361-20240529T210000@quickscores.com
DTSTAMP:20260421T211900Z
DTSTART;TZID=America/Chicago:20240529T210000
DURATION:PT1H0M0S
SUMMARY:Team Blickhan vs. Team Reque
DESCRIPTION:Squads Advanced League - Early Summer 24 - Paddle Up Pickleball Club
LOCATION:Court 4
CATEGORIES:QuickScores, Pickleball Game
TRANSP:OPAQUE
BEGIN:VALARM
TRIGGER:-PT2H
ACTION:DISPLAY
DESCRIPTION:Team Blickhan vs. Team Reque
END:VALARM
END:VEVENT
BEGIN:VEVENT
UID:pupc-63348372-20240605T200000@quickscores.com
DTSTAMP:20260421T211900Z
DTSTART;TZID=America/Chicago:20240605T200000
DURATION:PT1H0M0S
SUMMARY:Team Richert vs. Team Landolt
DESCRIPTION:Squads Advanced League - Early Summer 24 - Paddle Up Pickleball Club
LOCATION:Court 5
CATEGORIES:QuickScores, Pickleball Game
TRANSP:OPAQUE
BEGIN:VALARM
TRIGGER:-PT2H
ACTION:DISPLAY
DESCRIPTION:Team Richert vs. Team Landolt
END:VALARM
END:VEVENT
BEGIN:VEVENT
UID:pupc-63348371-20240605T200000@quickscores.com
DTSTAMP:20260421T211900Z
DTSTART;TZID=America/Chicago:20240605T200000
DURATION:PT1H0M0S
SUMMARY:Team Gamache vs. Team Blickhan
DESCRIPTION:Squads Advanced League - Early Summer 24 - Paddle Up Pickleball Club
LOCATION:Court 7
CATEGORIES:QuickScores, Pickleball Game
TRANSP:OPAQUE
BEGIN:VALARM
TRIGGER:-PT2H
ACTION:DISPLAY
DESCRIPTION:Team Gamache vs. Team Blickhan
END:VALARM
END:VEVENT
BEGIN:VEVENT
UID:pupc-63348370-20240605T200000@quickscores.com
DTSTAMP:20260421T211900Z
DTSTART;TZID=America/Chicago:20240605T200000
DURATION:PT1H0M0S
SUMMARY:Team Muntzing vs. Team Reque
DESCRIPTION:Squads Advanced League - Early Summer 24 - Paddle Up Pickleball Club
LOCATION:Court 4
CATEGORIES:QuickScores, Pickleball Game
TRANSP:OPAQUE
BEGIN:VALARM
TRIGGER:-PT2H
ACTION:DISPLAY
DESCRIPTION:Team Muntzing vs. Team Reque
END:VALARM
END:VEVENT
BEGIN:VEVENT
UID:pupc-63348369-20240605T210000@quickscores.com
DTSTAMP:20260421T211900Z
DTSTART;TZID=America/Chicago:20240605T210000
DURATION:PT1H0M0S
SUMMARY:Team Landolt vs. Team Reque
DESCRIPTION:Squads Advanced League - Early Summer 24 - Paddle Up Pickleball Club
LOCATION:Court 4
CATEGORIES:QuickScores, Pickleball Game
TRANSP:OPAQUE
BEGIN:VALARM
TRIGGER:-PT2H
ACTION:DISPLAY
DESCRIPTION:Team Landolt vs. Team Reque
END:VALARM
END:VEVENT
BEGIN:VEVENT
UID:pupc-63348368-20240605T210000@quickscores.com
DTSTAMP:20260421T211900Z
DTSTART;TZID=America/Chicago:20240605T210000
DURATION:PT1H0M0S
SUMMARY:Team Muntzing vs. Team Gamache
DESCRIPTION:Squads Advanced League - Early Summer 24 - Paddle Up Pickleball Club
LOCATION:Court 7
CATEGORIES:QuickScores, Pickleball Game
TRANSP:OPAQUE
BEGIN:VALARM
TRIGGER:-PT2H
ACTION:DISPLAY
DESCRIPTION:Team Muntzing vs. Team Gamache
END:VALARM
END:VEVENT
BEGIN:VEVENT
UID:pupc-63348367-20240605T210000@quickscores.com
DTSTAMP:20260421T211900Z
DTSTART;TZID=America/Chicago:20240605T210000
DURATION:PT1H0M0S
SUMMARY:Team Blickhan vs. Team Richert
DESCRIPTION:Squads Advanced League - Early Summer 24 - Paddle Up Pickleball Club
LOCATION:Court 5
CATEGORIES:QuickScores, Pickleball Game
TRANSP:OPAQUE
BEGIN:VALARM
TRIGGER:-PT2H
ACTION:DISPLAY
DESCRIPTION:Team Blickhan vs. Team Richert
END:VALARM
END:VEVENT
BEGIN:VEVENT
UID:pupc-63348375-20240612T200000@quickscores.com
DTSTAMP:20260421T211900Z
DTSTART;TZID=America/Chicago:20240612T200000
DURATION:PT1H0M0S
SUMMARY:Team Richert vs. Team Reque
DESCRIPTION:Squads Advanced League - Early Summer 24 - Paddle Up Pickleball Club
LOCATION:Court 4
CATEGORIES:QuickScores, Pickleball Game
TRANSP:OPAQUE
BEGIN:VALARM
TRIGGER:-PT2H
ACTION:DISPLAY
DESCRIPTION:Team Richert vs. Team Reque
END:VALARM
END:VEVENT
BEGIN:VEVENT
UID:pupc-63348374-20240612T200000@quickscores.com
DTSTAMP:20260421T211900Z
DTSTART;TZID=America/Chicago:20240612T200000
DURATION:PT1H0M0S
SUMMARY:Team Landolt vs. Team Gamache
DESCRIPTION:Squads Advanced League - Early Summer 24 - Paddle Up Pickleball Club
LOCATION:Court 7
CATEGORIES:QuickScores, Pickleball Game
TRANSP:OPAQUE
BEGIN:VALARM
TRIGGER:-PT2H
ACTION:DISPLAY
DESCRIPTION:Team Landolt vs. Team Gamache
END:VALARM
END:VEVENT
BEGIN:VEVENT
UID:pupc-63348373-20240612T200000@quickscores.com
DTSTAMP:20260421T211900Z
DTSTART;TZID=America/Chicago:20240612T200000
DURATION:PT1H0M0S
SUMMARY:Team Blickhan vs. Team Muntzing
DESCRIPTION:Squads Advanced League - Early Summer 24 - Paddle Up Pickleball Club
LOCATION:Court 5
CATEGORIES:QuickScores, Pickleball Game
TRANSP:OPAQUE
BEGIN:VALARM
TRIGGER:-PT2H
ACTION:DISPLAY
DESCRIPTION:Team Blickhan vs. Team Muntzing
END:VALARM
END:VEVENT
BEGIN:VEVENT
UID:pupc-63348376-20240612T210000@quickscores.com
DTSTAMP:20260421T211900Z
DTSTART;TZID=America/Chicago:20240612T210000
DURATION:PT1H0M0S
SUMMARY:Team Gamache vs. Team Reque
DESCRIPTION:Squads Advanced League - Early Summer 24 - Paddle Up Pickleball Club
LOCATION:Court 7
CATEGORIES:QuickScores, Pickleball Game
TRANSP:OPAQUE
BEGIN:VALARM
TRIGGER:-PT2H
ACTION:DISPLAY
DESCRIPTION:Team Gamache vs. Team Reque
END:VALARM
END:VEVENT
BEGIN:VEVENT
UID:pupc-63348377-20240612T210000@quickscores.com
DTSTAMP:20260421T211900Z
DTSTART;TZID=America/Chicago:20240612T210000
DURATION:PT1H0M0S
SUMMARY:Team Richert vs. Team Muntzing
DESCRIPTION:Squads Advanced League - Early Summer 24 - Paddle Up Pickleball Club
LOCATION:Court 4
CATEGORIES:QuickScores, Pickleball Game
TRANSP:OPAQUE
BEGIN:VALARM
TRIGGER:-PT2H
ACTION:DISPLAY
DESCRIPTION:Team Richert vs. Team Muntzing
END:VALARM
END:VEVENT
BEGIN:VEVENT
UID:pupc-63348378-20240612T210000@quickscores.com
DTSTAMP:20260421T211900Z
DTSTART;TZID=America/Chicago:20240612T210000
DURATION:PT1H0M0S
SUMMARY:Team Landolt vs. Team Blickhan
DESCRIPTION:Squads Advanced League - Early Summer 24 - Paddle Up Pickleball Club
LOCATION:Court 5
CATEGORIES:QuickScores, Pickleball Game
TRANSP:OPAQUE
BEGIN:VALARM
TRIGGER:-PT2H
ACTION:DISPLAY
DESCRIPTION:Team Landolt vs. Team Blickhan
END:VALARM
END:VEVENT
BEGIN:VEVENT
UID:pupc-63348384-20240619T200000@quickscores.com
DTSTAMP:20260421T211900Z
DTSTART;TZID=America/Chicago:20240619T200000
DURATION:PT1H0M0S
SUMMARY:Team Reque vs. Team Landolt
DESCRIPTION:Squads Advanced League - Early Summer 24 - Paddle Up Pickleball Club
LOCATION:Court 7
CATEGORIES:QuickScores, Pickleball Game
TRANSP:OPAQUE
BEGIN:VALARM
TRIGGER:-PT2H
ACTION:DISPLAY
DESCRIPTION:Team Reque vs. Team Landolt
END:VALARM
END:VEVENT
BEGIN:VEVENT
UID:pupc-63348382-20240619T200000@quickscores.com
DTSTAMP:20260421T211900Z
DTSTART;TZID=America/Chicago:20240619T200000
DURATION:PT1H0M0S
SUMMARY:Team Gamache vs. Team Muntzing
DESCRIPTION:Squads Advanced League - Early Summer 24 - Paddle Up Pickleball Club
LOCATION:Court 5
CATEGORIES:QuickScores, Pickleball Game
TRANSP:OPAQUE
BEGIN:VALARM
TRIGGER:-PT2H
ACTION:DISPLAY
DESCRIPTION:Team Gamache vs. Team Muntzing
END:VALARM
END:VEVENT
BEGIN:VEVENT
UID:pupc-63348380-20240619T200000@quickscores.com
DTSTAMP:20260421T211900Z
DTSTART;TZID=America/Chicago:20240619T200000
DURATION:PT1H0M0S
SUMMARY:Team Richert vs. Team Blickhan
DESCRIPTION:Squads Advanced League - Early Summer 24 - Paddle Up Pickleball Club
LOCATION:Court 4
CATEGORIES:QuickScores, Pickleball Game
TRANSP:OPAQUE
BEGIN:VALARM
TRIGGER:-PT2H
ACTION:DISPLAY
DESCRIPTION:Team Richert vs. Team Blickhan
END:VALARM
END:VEVENT
BEGIN:VEVENT
UID:pupc-63348381-20240619T210000@quickscores.com
DTSTAMP:20260421T211900Z
DTSTART;TZID=America/Chicago:20240619T210000
DURATION:PT1H0M0S
SUMMARY:Team Richert vs. Team Gamache
DESCRIPTION:Squads Advanced League - Early Summer 24 - Paddle Up Pickleball Club
LOCATION:Court 4
CATEGORIES:QuickScores, Pickleball Game
TRANSP:OPAQUE
BEGIN:VALARM
TRIGGER:-PT2H
ACTION:DISPLAY
DESCRIPTION:Team Richert vs. Team Gamache
END:VALARM
END:VEVENT
BEGIN:VEVENT
UID:pupc-63348383-20240619T210000@quickscores.com
DTSTAMP:20260421T211900Z
DTSTART;TZID=America/Chicago:20240619T210000
DURATION:PT1H0M0S
SUMMARY:Team Landolt vs. Team Muntzing
DESCRIPTION:Squads Advanced League - Early Summer 24 - Paddle Up Pickleball Club
LOCATION:Court 5
CATEGORIES:QuickScores, Pickleball Game
TRANSP:OPAQUE
BEGIN:VALARM
TRIGGER:-PT2H
ACTION:DISPLAY
DESCRIPTION:Team Landolt vs. Team Muntzing
END:VALARM
END:VEVENT
BEGIN:VEVENT
UID:pupc-63348379-20240619T210000@quickscores.com
DTSTAMP:20260421T211900Z
DTSTART;TZID=America/Chicago:20240619T210000
DURATION:PT1H0M0S
SUMMARY:Team Blickhan vs. Team Reque
DESCRIPTION:Squads Advanced League - Early Summer 24 - Paddle Up Pickleball Club
LOCATION:Court 7
CATEGORIES:QuickScores, Pickleball Game
TRANSP:OPAQUE
BEGIN:VALARM
TRIGGER:-PT2H
ACTION:DISPLAY
DESCRIPTION:Team Blickhan vs. Team Reque
END:VALARM
END:VEVENT
BEGIN:VEVENT
UID:pupc-63348385-20240626T200000@quickscores.com
DTSTAMP:20260421T211900Z
DTSTART;TZID=America/Chicago:20240626T200000
DURATION:PT1H0M0S
SUMMARY:Team Muntzing vs. Team Reque
DESCRIPTION:Squads Advanced League - Early Summer 24 - Paddle Up Pickleball Club
LOCATION:Court 7
CATEGORIES:QuickScores, Pickleball Game
TRANSP:OPAQUE
BEGIN:VALARM
TRIGGER:-PT2H
ACTION:DISPLAY
DESCRIPTION:Team Muntzing vs. Team Reque
END:VALARM
END:VEVENT
BEGIN:VEVENT
UID:pupc-63348387-20240626T200000@quickscores.com
DTSTAMP:20260421T211900Z
DTSTART;TZID=America/Chicago:20240626T200000
DURATION:PT1H0M0S
SUMMARY:Team Blickhan vs. Team Gamache
DESCRIPTION:Squads Advanced League - Early Summer 24 - Paddle Up Pickleball Club
LOCATION:Court 5
CATEGORIES:QuickScores, Pickleball Game
TRANSP:OPAQUE
BEGIN:VALARM
TRIGGER:-PT2H
ACTION:DISPLAY
DESCRIPTION:Team Blickhan vs. Team Gamache
END:VALARM
END:VEVENT
BEGIN:VEVENT
UID:pupc-63348389-20240626T200000@quickscores.com
DTSTAMP:20260421T211900Z
DTSTART;TZID=America/Chicago:20240626T200000
DURATION:PT1H0M0S
SUMMARY:Team Landolt vs. Team Richert
DESCRIPTION:Squads Advanced League - Early Summer 24 - Paddle Up Pickleball Club
LOCATION:Court 4
CATEGORIES:QuickScores, Pickleball Game
TRANSP:OPAQUE
BEGIN:VALARM
TRIGGER:-PT2H
ACTION:DISPLAY
DESCRIPTION:Team Landolt vs. Team Richert
END:VALARM
END:VEVENT
BEGIN:VEVENT
UID:pupc-63348390-20240626T210000@quickscores.com
DTSTAMP:20260421T211900Z
DTSTART;TZID=America/Chicago:20240626T210000
DURATION:PT1H0M0S
SUMMARY:Team Reque vs. Team Richert
DESCRIPTION:Squads Advanced League - Early Summer 24 - Paddle Up Pickleball Club
LOCATION:Court 4
CATEGORIES:QuickScores, Pickleball Game
TRANSP:OPAQUE
BEGIN:VALARM
TRIGGER:-PT2H
ACTION:DISPLAY
DESCRIPTION:Team Reque vs. Team Richert
END:VALARM
END:VEVENT
BEGIN:VEVENT
UID:pupc-63348388-20240626T210000@quickscores.com
DTSTAMP:20260421T211900Z
DTSTART;TZID=America/Chicago:20240626T210000
DURATION:PT1H0M0S
SUMMARY:Team Gamache vs. Team Landolt
DESCRIPTION:Squads Advanced League - Early Summer 24 - Paddle Up Pickleball Club
LOCATION:Court 5
CATEGORIES:QuickScores, Pickleball Game
TRANSP:OPAQUE
BEGIN:VALARM
TRIGGER:-PT2H
ACTION:DISPLAY
DESCRIPTION:Team Gamache vs. Team Landolt
END:VALARM
END:VEVENT
BEGIN:VEVENT
UID:pupc-63348386-20240626T210000@quickscores.com
DTSTAMP:20260421T211900Z
DTSTART;TZID=America/Chicago:20240626T210000
DURATION:PT1H0M0S
SUMMARY:Team Muntzing vs. Team Blickhan
DESCRIPTION:Squads Advanced League - Early Summer 24 - Paddle Up Pickleball Club
LOCATION:Court 7
CATEGORIES:QuickScores, Pickleball Game
TRANSP:OPAQUE
BEGIN:VALARM
TRIGGER:-PT2H
ACTION:DISPLAY
DESCRIPTION:Team Muntzing vs. Team Blickhan
END:VALARM
END:VEVENT
BEGIN:VEVENT
UID:pupc-63942005-20240703T190000@quickscores.com
DTSTAMP:20260421T211900Z
DTSTART;TZID=America/Chicago:20240703T190000
DURATION:PT1H0M0S
SUMMARY:[4] Team Muntzing vs. [5] Team Gamache
DESCRIPTION:Squads Advanced League - Early Summer 24 - Paddle Up Pickleball Club
LOCATION:Court 7
CATEGORIES:QuickScores, Pickleball Game
TRANSP:OPAQUE
BEGIN:VALARM
TRIGGER:-PT2H
ACTION:DISPLAY
DESCRIPTION:[4] Team Muntzing vs. [5] Team Gamache
END:VALARM
END:VEVENT
BEGIN:VEVENT
UID:pupc-63942007-20240703T190000@quickscores.com
DTSTAMP:20260421T211900Z
DTSTART;TZID=America/Chicago:20240703T190000
DURATION:PT1H0M0S
SUMMARY:[3] Team Landolt vs. [6] Team Blickhan
DESCRIPTION:Squads Advanced League - Early Summer 24 - Paddle Up Pickleball Club
LOCATION:Court 5
CATEGORIES:QuickScores, Pickleball Game
TRANSP:OPAQUE
BEGIN:VALARM
TRIGGER:-PT2H
ACTION:DISPLAY
DESCRIPTION:[3] Team Landolt vs. [6] Team Blickhan
END:VALARM
END:VEVENT
BEGIN:VEVENT
UID:pupc-63942008-20240703T200000@quickscores.com
DTSTAMP:20260421T211900Z
DTSTART;TZID=America/Chicago:20240703T200000
DURATION:PT1H0M0S
SUMMARY:[1] Team Reque vs. [4] Team Muntzing
DESCRIPTION:Squads Advanced League - Early Summer 24 - Paddle Up Pickleball Club
LOCATION:Court 7
CATEGORIES:QuickScores, Pickleball Game
TRANSP:OPAQUE
BEGIN:VALARM
TRIGGER:-PT2H
ACTION:DISPLAY
DESCRIPTION:[1] Team Reque vs. [4] Team Muntzing
END:VALARM
END:VEVENT
BEGIN:VEVENT
UID:pupc-63942009-20240703T200000@quickscores.com
DTSTAMP:20260421T211900Z
DTSTART;TZID=America/Chicago:20240703T200000
DURATION:PT1H0M0S
SUMMARY:[2] Team Richert vs. [3] Team Landolt
DESCRIPTION:Squads Advanced League - Early Summer 24 - Paddle Up Pickleball Club
LOCATION:Court 5
CATEGORIES:QuickScores, Pickleball Game
TRANSP:OPAQUE
BEGIN:VALARM
TRIGGER:-PT2H
ACTION:DISPLAY
DESCRIPTION:[2] Team Richert vs. [3] Team Landolt
END:VALARM
END:VEVENT
BEGIN:VEVENT
UID:pupc-63942010-20240703T210000@quickscores.com
DTSTAMP:20260421T211900Z
DTSTART;TZID=America/Chicago:20240703T210000
DURATION:PT1H0M0S
SUMMARY:[1] Team Reque vs. [3] Team Landolt
DESCRIPTION:Squads Advanced League - Early Summer 24 - Paddle Up Pickleball Club
LOCATION:Court 5
CATEGORIES:QuickScores, Pickleball Game
TRANSP:OPAQUE
BEGIN:VALARM
TRIGGER:-PT2H
ACTION:DISPLAY
DESCRIPTION:[1] Team Reque vs. [3] Team Landolt
END:VALARM
END:VEVENT
END:VCALENDAR
