BEGIN:VCALENDAR
VERSION:2.0
PRODID:-//QuickScores.com//BQ Dynamic iCal Creator//EN
METHOD:PUBLISH
X-WR-CALNAME:Men 75 Major Gold - 2024 ISSA Eastern Spring Nationals
X-WR-CALDESC:QuickScores game calendar
X-PUBLISHED-TTL:PT24H
REFRESH-INTERVAL;VALUE=DURATION:PT24H
CALSCALE:GREGORIAN
BEGIN:VTIMEZONE
TZID:America/New_York
X-LIC-LOCATION:America/New_York
BEGIN:DAYLIGHT
TZNAME:EDT
TZOFFSETFROM:-0500
TZOFFSETTO:-0400
DTSTART:19700308T020000
RRULE:FREQ=YEARLY;BYMONTH=3;BYDAY=2SU
END:DAYLIGHT
BEGIN:STANDARD
TZNAME:EST
TZOFFSETFROM:-0400
TZOFFSETTO:-0500
DTSTART:19701101T020000
RRULE:FREQ=YEARLY;BYMONTH=11;BYDAY=1SU
END:STANDARD
END:VTIMEZONE
BEGIN:VEVENT
UID:issa-62687008-20240502T083000@quickscores.com
DTSTAMP:20260425T151200Z
DTSTART;TZID=America/New_York:20240502T083000
DURATION:PT1H30M0S
SUMMARY:High Street Bucs 75 vs. Superior softball
DESCRIPTION:Men 75 Major Gold - International Senior Softball Association<br>ISSA
LOCATION:BP 3
CATEGORIES:QuickScores, Softball Game
TRANSP:OPAQUE
BEGIN:VALARM
TRIGGER:-PT2H
ACTION:DISPLAY
DESCRIPTION:High Street Bucs 75 vs. Superior softball
END:VALARM
END:VEVENT
BEGIN:VEVENT
UID:issa-62687009-20240502T113000@quickscores.com
DTSTAMP:20260425T151200Z
DTSTART;TZID=America/New_York:20240502T113000
DURATION:PT1H30M0S
SUMMARY:Knoxville Smokies vs. Superior softball
DESCRIPTION:Men 75 Major Gold - International Senior Softball Association<br>ISSA
LOCATION:BP 3
CATEGORIES:QuickScores, Softball Game
TRANSP:OPAQUE
BEGIN:VALARM
TRIGGER:-PT2H
ACTION:DISPLAY
DESCRIPTION:Knoxville Smokies vs. Superior softball
END:VALARM
END:VEVENT
BEGIN:VEVENT
UID:issa-62687011-20240502T130000@quickscores.com
DTSTAMP:20260425T151200Z
DTSTART;TZID=America/New_York:20240502T130000
DURATION:PT1H30M0S
SUMMARY:Knoxville Smokies vs. High Street Bucs 75
DESCRIPTION:Men 75 Major Gold - International Senior Softball Association<br>ISSA
LOCATION:BP 3
CATEGORIES:QuickScores, Softball Game
TRANSP:OPAQUE
BEGIN:VALARM
TRIGGER:-PT2H
ACTION:DISPLAY
DESCRIPTION:Knoxville Smokies vs. High Street Bucs 75
END:VALARM
END:VEVENT
BEGIN:VEVENT
UID:issa-62687012-20240502T160000@quickscores.com
DTSTAMP:20260425T151200Z
DTSTART;TZID=America/New_York:20240502T160000
DURATION:PT1H30M0S
SUMMARY:Superior softball vs. High Street Bucs 75
DESCRIPTION:Men 75 Major Gold - International Senior Softball Association<br>ISSA
LOCATION:BP 2
CATEGORIES:QuickScores, Softball Game
TRANSP:OPAQUE
BEGIN:VALARM
TRIGGER:-PT2H
ACTION:DISPLAY
DESCRIPTION:Superior softball vs. High Street Bucs 75
END:VALARM
END:VEVENT
END:VCALENDAR
