BEGIN:VCALENDAR
VERSION:2.0
PRODID:-//QuickScores.com//BQ Dynamic iCal Creator//EN
METHOD:PUBLISH
X-WR-CALNAME:Pupc Thursday Spring Competitive Lg. - Completed Leagues 2023/24
X-WR-CALDESC:QuickScores game calendar
X-PUBLISHED-TTL:PT24H
REFRESH-INTERVAL;VALUE=DURATION:PT24H
CALSCALE:GREGORIAN
BEGIN:VTIMEZONE
TZID:America/Chicago
X-LIC-LOCATION:America/Chicago
BEGIN:DAYLIGHT
TZNAME:CDT
TZOFFSETFROM:-0600
TZOFFSETTO:-0500
DTSTART:19700308T020000
RRULE:FREQ=YEARLY;BYMONTH=3;BYDAY=2SU
END:DAYLIGHT
BEGIN:STANDARD
TZNAME:CST
TZOFFSETFROM:-0500
TZOFFSETTO:-0600
DTSTART:19701101T020000
RRULE:FREQ=YEARLY;BYMONTH=11;BYDAY=1SU
END:STANDARD
END:VTIMEZONE
BEGIN:VEVENT
UID:pupc-62513490-20240404T180000@quickscores.com
DTSTAMP:20260419T160400Z
DTSTART;TZID=America/Chicago:20240404T180000
DURATION:PT0H40M0S
SUMMARY:Richert/Thies vs. Kaus/Switzer
DESCRIPTION:Pupc Thursday Spring Competitive Lg. - Paddle Up Pickleball Club
LOCATION:Court 1
CATEGORIES:QuickScores, Pickleball Game
TRANSP:OPAQUE
BEGIN:VALARM
TRIGGER:-PT2H
ACTION:DISPLAY
DESCRIPTION:Richert/Thies vs. Kaus/Switzer
END:VALARM
END:VEVENT
BEGIN:VEVENT
UID:pupc-62513491-20240404T184000@quickscores.com
DTSTAMP:20260419T160400Z
DTSTART;TZID=America/Chicago:20240404T184000
DURATION:PT0H40M0S
SUMMARY:Kaus/Switzer vs. Girdwood/Morgan
DESCRIPTION:Pupc Thursday Spring Competitive Lg. - Paddle Up Pickleball Club
LOCATION:Court 1
CATEGORIES:QuickScores, Pickleball Game
TRANSP:OPAQUE
BEGIN:VALARM
TRIGGER:-PT2H
ACTION:DISPLAY
DESCRIPTION:Kaus/Switzer vs. Girdwood/Morgan
END:VALARM
END:VEVENT
BEGIN:VEVENT
UID:pupc-62513489-20240404T192000@quickscores.com
DTSTAMP:20260419T160400Z
DTSTART;TZID=America/Chicago:20240404T192000
DURATION:PT0H40M0S
SUMMARY:Richert/Thies vs. Hennessy/Hennessy
DESCRIPTION:Pupc Thursday Spring Competitive Lg. - Paddle Up Pickleball Club
LOCATION:Court 1
CATEGORIES:QuickScores, Pickleball Game
TRANSP:OPAQUE
BEGIN:VALARM
TRIGGER:-PT2H
ACTION:DISPLAY
DESCRIPTION:Richert/Thies vs. Hennessy/Hennessy
END:VALARM
END:VEVENT
BEGIN:VEVENT
UID:pupc-62513487-20240404T200000@quickscores.com
DTSTAMP:20260419T160400Z
DTSTART;TZID=America/Chicago:20240404T200000
DURATION:PT0H40M0S
SUMMARY:Turnbeaugh/Gross vs. Girdwood/Morgan
DESCRIPTION:Pupc Thursday Spring Competitive Lg. - Paddle Up Pickleball Club
LOCATION:Court 1
CATEGORIES:QuickScores, Pickleball Game
TRANSP:OPAQUE
BEGIN:VALARM
TRIGGER:-PT2H
ACTION:DISPLAY
DESCRIPTION:Turnbeaugh/Gross vs. Girdwood/Morgan
END:VALARM
END:VEVENT
BEGIN:VEVENT
UID:pupc-62513488-20240404T204000@quickscores.com
DTSTAMP:20260419T160400Z
DTSTART;TZID=America/Chicago:20240404T204000
DURATION:PT0H40M0S
SUMMARY:Hennessy/Hennessy vs. Turnbeaugh/Gross
DESCRIPTION:Pupc Thursday Spring Competitive Lg. - Paddle Up Pickleball Club
LOCATION:Court 1
CATEGORIES:QuickScores, Pickleball Game
TRANSP:OPAQUE
BEGIN:VALARM
TRIGGER:-PT2H
ACTION:DISPLAY
DESCRIPTION:Hennessy/Hennessy vs. Turnbeaugh/Gross
END:VALARM
END:VEVENT
BEGIN:VEVENT
UID:pupc-62513496-20240411T180000@quickscores.com
DTSTAMP:20260419T160400Z
DTSTART;TZID=America/Chicago:20240411T180000
DURATION:PT0H40M0S
SUMMARY:Girdwood/Morgan vs. Kaus/Switzer
DESCRIPTION:Pupc Thursday Spring Competitive Lg. - Paddle Up Pickleball Club
LOCATION:Court 1
CATEGORIES:QuickScores, Pickleball Game
TRANSP:OPAQUE
BEGIN:VALARM
TRIGGER:-PT2H
ACTION:DISPLAY
DESCRIPTION:Girdwood/Morgan vs. Kaus/Switzer
END:VALARM
END:VEVENT
BEGIN:VEVENT
UID:pupc-62513492-20240411T184000@quickscores.com
DTSTAMP:20260419T160400Z
DTSTART;TZID=America/Chicago:20240411T184000
DURATION:PT0H40M0S
SUMMARY:Kaus/Switzer vs. Hennessy/Hennessy
DESCRIPTION:Pupc Thursday Spring Competitive Lg. - Paddle Up Pickleball Club
LOCATION:Court 1
CATEGORIES:QuickScores, Pickleball Game
TRANSP:OPAQUE
BEGIN:VALARM
TRIGGER:-PT2H
ACTION:DISPLAY
DESCRIPTION:Kaus/Switzer vs. Hennessy/Hennessy
END:VALARM
END:VEVENT
BEGIN:VEVENT
UID:pupc-62513495-20240411T192000@quickscores.com
DTSTAMP:20260419T160400Z
DTSTART;TZID=America/Chicago:20240411T192000
DURATION:PT0H40M0S
SUMMARY:Girdwood/Morgan vs. Turnbeaugh/Gross
DESCRIPTION:Pupc Thursday Spring Competitive Lg. - Paddle Up Pickleball Club
LOCATION:Court 1
CATEGORIES:QuickScores, Pickleball Game
TRANSP:OPAQUE
BEGIN:VALARM
TRIGGER:-PT2H
ACTION:DISPLAY
DESCRIPTION:Girdwood/Morgan vs. Turnbeaugh/Gross
END:VALARM
END:VEVENT
BEGIN:VEVENT
UID:pupc-62513493-20240411T200000@quickscores.com
DTSTAMP:20260419T160400Z
DTSTART;TZID=America/Chicago:20240411T200000
DURATION:PT0H40M0S
SUMMARY:Hennessy/Hennessy vs. Turnbeaugh/Gross
DESCRIPTION:Pupc Thursday Spring Competitive Lg. - Paddle Up Pickleball Club
LOCATION:Court 1
CATEGORIES:QuickScores, Pickleball Game
TRANSP:OPAQUE
BEGIN:VALARM
TRIGGER:-PT2H
ACTION:DISPLAY
DESCRIPTION:Hennessy/Hennessy vs. Turnbeaugh/Gross
END:VALARM
END:VEVENT
BEGIN:VEVENT
UID:pupc-62513506-20240418T180000@quickscores.com
DTSTAMP:20260419T160400Z
DTSTART;TZID=America/Chicago:20240418T180000
DURATION:PT0H40M0S
SUMMARY:Hennessy/Hennessy vs. Kaus/Switzer
DESCRIPTION:Pupc Thursday Spring Competitive Lg. - Paddle Up Pickleball Club
LOCATION:Court 1
CATEGORIES:QuickScores, Pickleball Game
TRANSP:OPAQUE
BEGIN:VALARM
TRIGGER:-PT2H
ACTION:DISPLAY
DESCRIPTION:Hennessy/Hennessy vs. Kaus/Switzer
END:VALARM
END:VEVENT
BEGIN:VEVENT
UID:pupc-62513502-20240418T184000@quickscores.com
DTSTAMP:20260419T160400Z
DTSTART;TZID=America/Chicago:20240418T184000
DURATION:PT0H40M0S
SUMMARY:Girdwood/Morgan vs. Hennessy/Hennessy
DESCRIPTION:Pupc Thursday Spring Competitive Lg. - Paddle Up Pickleball Club
LOCATION:Court 1
CATEGORIES:QuickScores, Pickleball Game
TRANSP:OPAQUE
BEGIN:VALARM
TRIGGER:-PT2H
ACTION:DISPLAY
DESCRIPTION:Girdwood/Morgan vs. Hennessy/Hennessy
END:VALARM
END:VEVENT
BEGIN:VEVENT
UID:pupc-62513505-20240418T192000@quickscores.com
DTSTAMP:20260419T160400Z
DTSTART;TZID=America/Chicago:20240418T192000
DURATION:PT0H40M0S
SUMMARY:Kaus/Switzer vs. Richert/Thies
DESCRIPTION:Pupc Thursday Spring Competitive Lg. - Paddle Up Pickleball Club
LOCATION:Court 1
CATEGORIES:QuickScores, Pickleball Game
TRANSP:OPAQUE
BEGIN:VALARM
TRIGGER:-PT2H
ACTION:DISPLAY
DESCRIPTION:Kaus/Switzer vs. Richert/Thies
END:VALARM
END:VEVENT
BEGIN:VEVENT
UID:pupc-62513503-20240418T200000@quickscores.com
DTSTAMP:20260419T160400Z
DTSTART;TZID=America/Chicago:20240418T200000
DURATION:PT0H40M0S
SUMMARY:Girdwood/Morgan vs. Richert/Thies
DESCRIPTION:Pupc Thursday Spring Competitive Lg. - Paddle Up Pickleball Club
LOCATION:Court 1
CATEGORIES:QuickScores, Pickleball Game
TRANSP:OPAQUE
BEGIN:VALARM
TRIGGER:-PT2H
ACTION:DISPLAY
DESCRIPTION:Girdwood/Morgan vs. Richert/Thies
END:VALARM
END:VEVENT
BEGIN:VEVENT
UID:pupc-62513497-20240425T180000@quickscores.com
DTSTAMP:20260419T160400Z
DTSTART;TZID=America/Chicago:20240425T180000
DURATION:PT0H40M0S
SUMMARY:Hennessy/Hennessy vs. Kaus/Switzer
DESCRIPTION:Pupc Thursday Spring Competitive Lg. - Paddle Up Pickleball Club
LOCATION:Court 1
CATEGORIES:QuickScores, Pickleball Game
TRANSP:OPAQUE
BEGIN:VALARM
TRIGGER:-PT2H
ACTION:DISPLAY
DESCRIPTION:Hennessy/Hennessy vs. Kaus/Switzer
END:VALARM
END:VEVENT
BEGIN:VEVENT
UID:pupc-62513498-20240425T184000@quickscores.com
DTSTAMP:20260419T160400Z
DTSTART;TZID=America/Chicago:20240425T184000
DURATION:PT0H40M0S
SUMMARY:Turnbeaugh/Gross vs. Hennessy/Hennessy
DESCRIPTION:Pupc Thursday Spring Competitive Lg. - Paddle Up Pickleball Club
LOCATION:Court 1
CATEGORIES:QuickScores, Pickleball Game
TRANSP:OPAQUE
BEGIN:VALARM
TRIGGER:-PT2H
ACTION:DISPLAY
DESCRIPTION:Turnbeaugh/Gross vs. Hennessy/Hennessy
END:VALARM
END:VEVENT
BEGIN:VEVENT
UID:pupc-62513501-20240425T192000@quickscores.com
DTSTAMP:20260419T160400Z
DTSTART;TZID=America/Chicago:20240425T192000
DURATION:PT0H40M0S
SUMMARY:Kaus/Switzer vs. Girdwood/Morgan
DESCRIPTION:Pupc Thursday Spring Competitive Lg. - Paddle Up Pickleball Club
LOCATION:Court 1
CATEGORIES:QuickScores, Pickleball Game
TRANSP:OPAQUE
BEGIN:VALARM
TRIGGER:-PT2H
ACTION:DISPLAY
DESCRIPTION:Kaus/Switzer vs. Girdwood/Morgan
END:VALARM
END:VEVENT
BEGIN:VEVENT
UID:pupc-62513499-20240425T200000@quickscores.com
DTSTAMP:20260419T160400Z
DTSTART;TZID=America/Chicago:20240425T200000
DURATION:PT0H40M0S
SUMMARY:Richert/Thies vs. Turnbeaugh/Gross
DESCRIPTION:Pupc Thursday Spring Competitive Lg. - Paddle Up Pickleball Club
LOCATION:Court 1
CATEGORIES:QuickScores, Pickleball Game
TRANSP:OPAQUE
BEGIN:VALARM
TRIGGER:-PT2H
ACTION:DISPLAY
DESCRIPTION:Richert/Thies vs. Turnbeaugh/Gross
END:VALARM
END:VEVENT
BEGIN:VEVENT
UID:pupc-62513500-20240425T204000@quickscores.com
DTSTAMP:20260419T160400Z
DTSTART;TZID=America/Chicago:20240425T204000
DURATION:PT0H40M0S
SUMMARY:Richert/Thies vs. Girdwood/Morgan
DESCRIPTION:Pupc Thursday Spring Competitive Lg. - Paddle Up Pickleball Club
LOCATION:Court 1
CATEGORIES:QuickScores, Pickleball Game
TRANSP:OPAQUE
BEGIN:VALARM
TRIGGER:-PT2H
ACTION:DISPLAY
DESCRIPTION:Richert/Thies vs. Girdwood/Morgan
END:VALARM
END:VEVENT
BEGIN:VEVENT
UID:pupc-62513507-20240502T180000@quickscores.com
DTSTAMP:20260419T160400Z
DTSTART;TZID=America/Chicago:20240502T180000
DURATION:PT0H40M0S
SUMMARY:Turnbeaugh/Gross vs. Girdwood/Morgan
DESCRIPTION:Pupc Thursday Spring Competitive Lg. - Paddle Up Pickleball Club
LOCATION:Court 1
CATEGORIES:QuickScores, Pickleball Game
TRANSP:OPAQUE
BEGIN:VALARM
TRIGGER:-PT2H
ACTION:DISPLAY
DESCRIPTION:Turnbeaugh/Gross vs. Girdwood/Morgan
END:VALARM
END:VEVENT
BEGIN:VEVENT
UID:pupc-62513508-20240502T184000@quickscores.com
DTSTAMP:20260419T160400Z
DTSTART;TZID=America/Chicago:20240502T184000
DURATION:PT0H40M0S
SUMMARY:Girdwood/Morgan vs. Hennessy/Hennessy
DESCRIPTION:Pupc Thursday Spring Competitive Lg. - Paddle Up Pickleball Club
LOCATION:Court 1
CATEGORIES:QuickScores, Pickleball Game
TRANSP:OPAQUE
BEGIN:VALARM
TRIGGER:-PT2H
ACTION:DISPLAY
DESCRIPTION:Girdwood/Morgan vs. Hennessy/Hennessy
END:VALARM
END:VEVENT
BEGIN:VEVENT
UID:pupc-62513511-20240502T192000@quickscores.com
DTSTAMP:20260419T160400Z
DTSTART;TZID=America/Chicago:20240502T192000
DURATION:PT0H40M0S
SUMMARY:Kaus/Switzer vs. Turnbeaugh/Gross
DESCRIPTION:Pupc Thursday Spring Competitive Lg. - Paddle Up Pickleball Club
LOCATION:Court 1
CATEGORIES:QuickScores, Pickleball Game
TRANSP:OPAQUE
BEGIN:VALARM
TRIGGER:-PT2H
ACTION:DISPLAY
DESCRIPTION:Kaus/Switzer vs. Turnbeaugh/Gross
END:VALARM
END:VEVENT
BEGIN:VEVENT
UID:pupc-62513509-20240502T200000@quickscores.com
DTSTAMP:20260419T160400Z
DTSTART;TZID=America/Chicago:20240502T200000
DURATION:PT0H40M0S
SUMMARY:Hennessy/Hennessy vs. Richert/Thies
DESCRIPTION:Pupc Thursday Spring Competitive Lg. - Paddle Up Pickleball Club
LOCATION:Court 1
CATEGORIES:QuickScores, Pickleball Game
TRANSP:OPAQUE
BEGIN:VALARM
TRIGGER:-PT2H
ACTION:DISPLAY
DESCRIPTION:Hennessy/Hennessy vs. Richert/Thies
END:VALARM
END:VEVENT
BEGIN:VEVENT
UID:pupc-62513510-20240502T204000@quickscores.com
DTSTAMP:20260419T160400Z
DTSTART;TZID=America/Chicago:20240502T204000
DURATION:PT0H40M0S
SUMMARY:Richert/Thies vs. Kaus/Switzer
DESCRIPTION:Pupc Thursday Spring Competitive Lg. - Paddle Up Pickleball Club
LOCATION:Court 1
CATEGORIES:QuickScores, Pickleball Game
TRANSP:OPAQUE
BEGIN:VALARM
TRIGGER:-PT2H
ACTION:DISPLAY
DESCRIPTION:Richert/Thies vs. Kaus/Switzer
END:VALARM
END:VEVENT
BEGIN:VEVENT
UID:pupc-63227405-20240509T183500@quickscores.com
DTSTAMP:20260419T160400Z
DTSTART;TZID=America/Chicago:20240509T183500
DURATION:PT0H35M0S
SUMMARY:[4] Girdwood/Morgan vs. [5] Richert/Thies
DESCRIPTION:Pupc Thursday Spring Competitive Lg. - Paddle Up Pickleball Club
LOCATION:Court 2
CATEGORIES:QuickScores, Pickleball Game
TRANSP:OPAQUE
BEGIN:VALARM
TRIGGER:-PT2H
ACTION:DISPLAY
DESCRIPTION:[4] Girdwood/Morgan vs. [5] Richert/Thies
END:VALARM
END:VEVENT
BEGIN:VEVENT
UID:pupc-63227408-20240509T191000@quickscores.com
DTSTAMP:20260419T160400Z
DTSTART;TZID=America/Chicago:20240509T191000
DURATION:PT0H35M0S
SUMMARY:[1] Kaus/Switzer vs. Winner of Game 1
DESCRIPTION:Pupc Thursday Spring Competitive Lg. - Paddle Up Pickleball Club
LOCATION:Court 2
CATEGORIES:QuickScores, Pickleball Game
TRANSP:OPAQUE
BEGIN:VALARM
TRIGGER:-PT2H
ACTION:DISPLAY
DESCRIPTION:[1] Kaus/Switzer vs. Winner of Game 1
END:VALARM
END:VEVENT
BEGIN:VEVENT
UID:pupc-63227409-20240509T194500@quickscores.com
DTSTAMP:20260419T160400Z
DTSTART;TZID=America/Chicago:20240509T194500
DURATION:PT0H35M0S
SUMMARY:[2] Hennessy/Hennessy vs. [3] Turnbeaugh/Gross
DESCRIPTION:Pupc Thursday Spring Competitive Lg. - Paddle Up Pickleball Club
LOCATION:Court 2
CATEGORIES:QuickScores, Pickleball Game
TRANSP:OPAQUE
BEGIN:VALARM
TRIGGER:-PT2H
ACTION:DISPLAY
DESCRIPTION:[2] Hennessy/Hennessy vs. [3] Turnbeaugh/Gross
END:VALARM
END:VEVENT
BEGIN:VEVENT
UID:pupc-63227410-20240509T202000@quickscores.com
DTSTAMP:20260419T160400Z
DTSTART;TZID=America/Chicago:20240509T202000
DURATION:PT0H35M0S
SUMMARY:Winner of Game 3 vs. Winner of Game 2
DESCRIPTION:Pupc Thursday Spring Competitive Lg. - Paddle Up Pickleball Club
LOCATION:Court 2
CATEGORIES:QuickScores, Pickleball Game
TRANSP:OPAQUE
BEGIN:VALARM
TRIGGER:-PT2H
ACTION:DISPLAY
DESCRIPTION:Winner of Game 3 vs. Winner of Game 2
END:VALARM
END:VEVENT
END:VCALENDAR
