BEGIN:VCALENDAR
VERSION:2.0
PRODID:-//QuickScores.com//BQ Dynamic iCal Creator//EN
METHOD:PUBLISH
X-WR-CALNAME:Women 50/55 Aaa/60 Major - 2023 WBSC Senior World Cup - Make-Up
X-WR-CALDESC:QuickScores game calendar
X-PUBLISHED-TTL:PT24H
REFRESH-INTERVAL;VALUE=DURATION:PT24H
CALSCALE:GREGORIAN
BEGIN:VTIMEZONE
TZID:America/New_York
X-LIC-LOCATION:America/New_York
BEGIN:DAYLIGHT
TZNAME:EDT
TZOFFSETFROM:-0500
TZOFFSETTO:-0400
DTSTART:19700308T020000
RRULE:FREQ=YEARLY;BYMONTH=3;BYDAY=2SU
END:DAYLIGHT
BEGIN:STANDARD
TZNAME:EST
TZOFFSETFROM:-0400
TZOFFSETTO:-0500
DTSTART:19701101T020000
RRULE:FREQ=YEARLY;BYMONTH=11;BYDAY=1SU
END:STANDARD
END:VTIMEZONE
BEGIN:VEVENT
UID:issa-62389599-20240412T120000@quickscores.com
DTSTAMP:20260421T070700Z
DTSTART;TZID=America/New_York:20240412T120000
DURATION:PT1H30M0S
SUMMARY:B2B vs. Gems - Next Level
DESCRIPTION:Women 50/55 Aaa/60 Major - International Senior Softball Association<br>ISSA
LOCATION:GP 1
CATEGORIES:QuickScores, Softball Game
TRANSP:OPAQUE
BEGIN:VALARM
TRIGGER:-PT2H
ACTION:DISPLAY
DESCRIPTION:B2B vs. Gems - Next Level
END:VALARM
END:VEVENT
BEGIN:VEVENT
UID:issa-62389601-20240412T133000@quickscores.com
DTSTAMP:20260421T070700Z
DTSTART;TZID=America/New_York:20240412T133000
DURATION:PT1H30M0S
SUMMARY:Gems - Next Level vs. No Drama
DESCRIPTION:Women 50/55 Aaa/60 Major - International Senior Softball Association<br>ISSA
LOCATION:GP 1
CATEGORIES:QuickScores, Softball Game
TRANSP:OPAQUE
BEGIN:VALARM
TRIGGER:-PT2H
ACTION:DISPLAY
DESCRIPTION:Gems - Next Level vs. No Drama
END:VALARM
END:VEVENT
BEGIN:VEVENT
UID:issa-62389600-20240412T150000@quickscores.com
DTSTAMP:20260421T070700Z
DTSTART;TZID=America/New_York:20240412T150000
DURATION:PT1H30M0S
SUMMARY:Unfazed vs. Motown Magic
DESCRIPTION:Women 50/55 Aaa/60 Major - International Senior Softball Association<br>ISSA
LOCATION:GP 1
CATEGORIES:QuickScores, Softball Game
TRANSP:OPAQUE
BEGIN:VALARM
TRIGGER:-PT2H
ACTION:DISPLAY
DESCRIPTION:Unfazed vs. Motown Magic
END:VALARM
END:VEVENT
BEGIN:VEVENT
UID:issa-62389598-20240412T163000@quickscores.com
DTSTAMP:20260421T070700Z
DTSTART;TZID=America/New_York:20240412T163000
DURATION:PT1H30M0S
SUMMARY:Motown Magic vs. B2B
DESCRIPTION:Women 50/55 Aaa/60 Major - International Senior Softball Association<br>ISSA
LOCATION:GP 1
CATEGORIES:QuickScores, Softball Game
TRANSP:OPAQUE
BEGIN:VALARM
TRIGGER:-PT2H
ACTION:DISPLAY
DESCRIPTION:Motown Magic vs. B2B
END:VALARM
END:VEVENT
BEGIN:VEVENT
UID:issa-62389597-20240412T180000@quickscores.com
DTSTAMP:20260421T070700Z
DTSTART;TZID=America/New_York:20240412T180000
DURATION:PT1H30M0S
SUMMARY:No Drama vs. Unfazed
DESCRIPTION:Women 50/55 Aaa/60 Major - International Senior Softball Association<br>ISSA
LOCATION:GP 1
CATEGORIES:QuickScores, Softball Game
TRANSP:OPAQUE
BEGIN:VALARM
TRIGGER:-PT2H
ACTION:DISPLAY
DESCRIPTION:No Drama vs. Unfazed
END:VALARM
END:VEVENT
END:VCALENDAR
