BEGIN:VCALENDAR
VERSION:2.0
PRODID:-//QuickScores.com//BQ Dynamic iCal Creator//EN
METHOD:PUBLISH
X-WR-CALNAME:Sunday Coed - 2024 Spring Softball
X-WR-CALDESC:QuickScores game calendar
X-PUBLISHED-TTL:PT24H
REFRESH-INTERVAL;VALUE=DURATION:PT24H
CALSCALE:GREGORIAN
BEGIN:VTIMEZONE
TZID:America/Los_Angeles
X-LIC-LOCATION:America/Los_Angeles
BEGIN:DAYLIGHT
TZNAME:PDT
TZOFFSETFROM:-0800
TZOFFSETTO:-0700
DTSTART:19700308T020000
RRULE:FREQ=YEARLY;BYMONTH=3;BYDAY=2SU
END:DAYLIGHT
BEGIN:STANDARD
TZNAME:PST
TZOFFSETFROM:-0700
TZOFFSETTO:-0800
DTSTART:19701101T020000
RRULE:FREQ=YEARLY;BYMONTH=11;BYDAY=1SU
END:STANDARD
END:VTIMEZONE
BEGIN:VEVENT
UID:crpd-61729049-20240310T170000@quickscores.com
DTSTAMP:20260420T013600Z
DTSTART;TZID=America/Los_Angeles:20240310T170000
DURATION:PT1H15M0S
SUMMARY:Alwayz Down vs. Bat Attitude
DESCRIPTION:BOR #2 closed- Game moved to 6/9 --- Sunday Coed - Conejo Recreation and Park District
LOCATION:Borchard Park Field #2
CATEGORIES:QuickScores, Softball - Adult Game
TRANSP:OPAQUE
BEGIN:VALARM
TRIGGER:-PT2H
ACTION:DISPLAY
DESCRIPTION:Alwayz Down vs. Bat Attitude
END:VALARM
END:VEVENT
BEGIN:VEVENT
UID:crpd-61729048-20240310T170000@quickscores.com
DTSTAMP:20260420T013600Z
DTSTART;TZID=America/Los_Angeles:20240310T170000
DURATION:PT1H15M0S
SUMMARY:St. Patricks vs. Flying Turtles
DESCRIPTION:Sunday Coed - Conejo Recreation and Park District
LOCATION:Borchard Park Field #1
CATEGORIES:QuickScores, Softball - Adult Game
TRANSP:OPAQUE
BEGIN:VALARM
TRIGGER:-PT2H
ACTION:DISPLAY
DESCRIPTION:St. Patricks vs. Flying Turtles
END:VALARM
END:VEVENT
BEGIN:VEVENT
UID:crpd-61729050-20240310T181500@quickscores.com
DTSTAMP:20260420T013600Z
DTSTART;TZID=America/Los_Angeles:20240310T181500
DURATION:PT1H15M0S
SUMMARY:Bat Intentions vs. Cronies Homies
DESCRIPTION:Sunday Coed - Conejo Recreation and Park District
LOCATION:Borchard Park Field #1
CATEGORIES:QuickScores, Softball - Adult Game
TRANSP:OPAQUE
BEGIN:VALARM
TRIGGER:-PT2H
ACTION:DISPLAY
DESCRIPTION:Bat Intentions vs. Cronies Homies
END:VALARM
END:VEVENT
BEGIN:VEVENT
UID:crpd-61729047-20240310T181500@quickscores.com
DTSTAMP:20260420T013600Z
DTSTART;TZID=America/Los_Angeles:20240310T181500
DURATION:PT1H15M0S
SUMMARY:WPC vs. Win or Booze
DESCRIPTION:BOR #2 closed-Game moved to 6/9 --- Sunday Coed - Conejo Recreation and Park District
LOCATION:Borchard Park Field #2
CATEGORIES:QuickScores, Softball - Adult Game
TRANSP:OPAQUE
BEGIN:VALARM
TRIGGER:-PT2H
ACTION:DISPLAY
DESCRIPTION:WPC vs. Win or Booze
END:VALARM
END:VEVENT
BEGIN:VEVENT
UID:crpd-61729051-20240317T170000@quickscores.com
DTSTAMP:20260420T013600Z
DTSTART;TZID=America/Los_Angeles:20240317T170000
DURATION:PT1H15M0S
SUMMARY:Bat Intentions vs. WPC
DESCRIPTION:Sunday Coed - Conejo Recreation and Park District
LOCATION:Borchard Park Field #2
CATEGORIES:QuickScores, Softball - Adult Game
TRANSP:OPAQUE
BEGIN:VALARM
TRIGGER:-PT2H
ACTION:DISPLAY
DESCRIPTION:Bat Intentions vs. WPC
END:VALARM
END:VEVENT
BEGIN:VEVENT
UID:crpd-61729054-20240317T170000@quickscores.com
DTSTAMP:20260420T013600Z
DTSTART;TZID=America/Los_Angeles:20240317T170000
DURATION:PT1H15M0S
SUMMARY:Flying Turtles vs. Win or Booze
DESCRIPTION:Sunday Coed - Conejo Recreation and Park District
LOCATION:Borchard Park Field #1
CATEGORIES:QuickScores, Softball - Adult Game
TRANSP:OPAQUE
BEGIN:VALARM
TRIGGER:-PT2H
ACTION:DISPLAY
DESCRIPTION:Flying Turtles vs. Win or Booze
END:VALARM
END:VEVENT
BEGIN:VEVENT
UID:crpd-61729053-20240317T181500@quickscores.com
DTSTAMP:20260420T013600Z
DTSTART;TZID=America/Los_Angeles:20240317T181500
DURATION:PT1H15M0S
SUMMARY:Bat Attitude vs. St. Patricks
DESCRIPTION:Sunday Coed - Conejo Recreation and Park District
LOCATION:Borchard Park Field #1
CATEGORIES:QuickScores, Softball - Adult Game
TRANSP:OPAQUE
BEGIN:VALARM
TRIGGER:-PT2H
ACTION:DISPLAY
DESCRIPTION:Bat Attitude vs. St. Patricks
END:VALARM
END:VEVENT
BEGIN:VEVENT
UID:crpd-61729052-20240317T181500@quickscores.com
DTSTAMP:20260420T013600Z
DTSTART;TZID=America/Los_Angeles:20240317T181500
DURATION:PT1H15M0S
SUMMARY:Cronies Homies vs. Alwayz Down
DESCRIPTION:Sunday Coed - Conejo Recreation and Park District
LOCATION:Borchard Park Field #2
CATEGORIES:QuickScores, Softball - Adult Game
TRANSP:OPAQUE
BEGIN:VALARM
TRIGGER:-PT2H
ACTION:DISPLAY
DESCRIPTION:Cronies Homies vs. Alwayz Down
END:VALARM
END:VEVENT
BEGIN:VEVENT
UID:crpd-61729062-20240407T170000@quickscores.com
DTSTAMP:20260420T013600Z
DTSTART;TZID=America/Los_Angeles:20240407T170000
DURATION:PT1H15M0S
SUMMARY:St. Patricks vs. Win or Booze
DESCRIPTION:Sunday Coed - Conejo Recreation and Park District
LOCATION:Borchard Park Field #1
CATEGORIES:QuickScores, Softball - Adult Game
TRANSP:OPAQUE
BEGIN:VALARM
TRIGGER:-PT2H
ACTION:DISPLAY
DESCRIPTION:St. Patricks vs. Win or Booze
END:VALARM
END:VEVENT
BEGIN:VEVENT
UID:crpd-61729059-20240407T170000@quickscores.com
DTSTAMP:20260420T013600Z
DTSTART;TZID=America/Los_Angeles:20240407T170000
DURATION:PT1H15M0S
SUMMARY:WPC vs. Cronies Homies
DESCRIPTION:Sunday Coed - Conejo Recreation and Park District
LOCATION:Borchard Park Field #2
CATEGORIES:QuickScores, Softball - Adult Game
TRANSP:OPAQUE
BEGIN:VALARM
TRIGGER:-PT2H
ACTION:DISPLAY
DESCRIPTION:WPC vs. Cronies Homies
END:VALARM
END:VEVENT
BEGIN:VEVENT
UID:crpd-61729061-20240407T181500@quickscores.com
DTSTAMP:20260420T013600Z
DTSTART;TZID=America/Los_Angeles:20240407T181500
DURATION:PT1H15M0S
SUMMARY:Alwayz Down vs. Flying Turtles
DESCRIPTION:Sunday Coed - Conejo Recreation and Park District
LOCATION:Borchard Park Field #1
CATEGORIES:QuickScores, Softball - Adult Game
TRANSP:OPAQUE
BEGIN:VALARM
TRIGGER:-PT2H
ACTION:DISPLAY
DESCRIPTION:Alwayz Down vs. Flying Turtles
END:VALARM
END:VEVENT
BEGIN:VEVENT
UID:crpd-61729060-20240407T181500@quickscores.com
DTSTAMP:20260420T013600Z
DTSTART;TZID=America/Los_Angeles:20240407T181500
DURATION:PT1H15M0S
SUMMARY:Bat Intentions vs. Bat Attitude
DESCRIPTION:Sunday Coed - Conejo Recreation and Park District
LOCATION:Borchard Park Field #2
CATEGORIES:QuickScores, Softball - Adult Game
TRANSP:OPAQUE
BEGIN:VALARM
TRIGGER:-PT2H
ACTION:DISPLAY
DESCRIPTION:Bat Intentions vs. Bat Attitude
END:VALARM
END:VEVENT
BEGIN:VEVENT
UID:crpd-61729068-20240421T170000@quickscores.com
DTSTAMP:20260420T013600Z
DTSTART;TZID=America/Los_Angeles:20240421T170000
DURATION:PT1H15M0S
SUMMARY:Win or Booze vs. Alwayz Down
DESCRIPTION:Sunday Coed - Conejo Recreation and Park District
LOCATION:Borchard Park Field #2
CATEGORIES:QuickScores, Softball - Adult Game
TRANSP:OPAQUE
BEGIN:VALARM
TRIGGER:-PT2H
ACTION:DISPLAY
DESCRIPTION:Win or Booze vs. Alwayz Down
END:VALARM
END:VEVENT
BEGIN:VEVENT
UID:crpd-61729070-20240421T170000@quickscores.com
DTSTAMP:20260420T013600Z
DTSTART;TZID=America/Los_Angeles:20240421T170000
DURATION:PT1H15M0S
SUMMARY:Bat Attitude vs. Cronies Homies
DESCRIPTION:Sunday Coed - Conejo Recreation and Park District
LOCATION:Borchard Park Field #1
CATEGORIES:QuickScores, Softball - Adult Game
TRANSP:OPAQUE
BEGIN:VALARM
TRIGGER:-PT2H
ACTION:DISPLAY
DESCRIPTION:Bat Attitude vs. Cronies Homies
END:VALARM
END:VEVENT
BEGIN:VEVENT
UID:crpd-61729069-20240421T181500@quickscores.com
DTSTAMP:20260420T013600Z
DTSTART;TZID=America/Los_Angeles:20240421T181500
DURATION:PT1H15M0S
SUMMARY:Flying Turtles vs. Bat Intentions
DESCRIPTION:Sunday Coed - Conejo Recreation and Park District
LOCATION:Borchard Park Field #1
CATEGORIES:QuickScores, Softball - Adult Game
TRANSP:OPAQUE
BEGIN:VALARM
TRIGGER:-PT2H
ACTION:DISPLAY
DESCRIPTION:Flying Turtles vs. Bat Intentions
END:VALARM
END:VEVENT
BEGIN:VEVENT
UID:crpd-61729067-20240421T181500@quickscores.com
DTSTAMP:20260420T013600Z
DTSTART;TZID=America/Los_Angeles:20240421T181500
DURATION:PT1H15M0S
SUMMARY:St. Patricks vs. WPC
DESCRIPTION:Sunday Coed - Conejo Recreation and Park District
LOCATION:Borchard Park Field #2
CATEGORIES:QuickScores, Softball - Adult Game
TRANSP:OPAQUE
BEGIN:VALARM
TRIGGER:-PT2H
ACTION:DISPLAY
DESCRIPTION:St. Patricks vs. WPC
END:VALARM
END:VEVENT
BEGIN:VEVENT
UID:crpd-61729072-20240428T170000@quickscores.com
DTSTAMP:20260420T013600Z
DTSTART;TZID=America/Los_Angeles:20240428T170000
DURATION:PT1H15M0S
SUMMARY:St. Patricks vs. Bat Intentions
DESCRIPTION:Sunday Coed - Conejo Recreation and Park District
LOCATION:Borchard Park Field #2
CATEGORIES:QuickScores, Softball - Adult Game
TRANSP:OPAQUE
BEGIN:VALARM
TRIGGER:-PT2H
ACTION:DISPLAY
DESCRIPTION:St. Patricks vs. Bat Intentions
END:VALARM
END:VEVENT
BEGIN:VEVENT
UID:crpd-61729071-20240428T170000@quickscores.com
DTSTAMP:20260420T013600Z
DTSTART;TZID=America/Los_Angeles:20240428T170000
DURATION:PT1H15M0S
SUMMARY:Alwayz Down vs. WPC
DESCRIPTION:Sunday Coed - Conejo Recreation and Park District
LOCATION:Borchard Park Field #1
CATEGORIES:QuickScores, Softball - Adult Game
TRANSP:OPAQUE
BEGIN:VALARM
TRIGGER:-PT2H
ACTION:DISPLAY
DESCRIPTION:Alwayz Down vs. WPC
END:VALARM
END:VEVENT
BEGIN:VEVENT
UID:crpd-61729074-20240428T181500@quickscores.com
DTSTAMP:20260420T013600Z
DTSTART;TZID=America/Los_Angeles:20240428T181500
DURATION:PT1H15M0S
SUMMARY:Flying Turtles vs. Bat Attitude
DESCRIPTION:Sunday Coed - Conejo Recreation and Park District
LOCATION:Borchard Park Field #2
CATEGORIES:QuickScores, Softball - Adult Game
TRANSP:OPAQUE
BEGIN:VALARM
TRIGGER:-PT2H
ACTION:DISPLAY
DESCRIPTION:Flying Turtles vs. Bat Attitude
END:VALARM
END:VEVENT
BEGIN:VEVENT
UID:crpd-61729073-20240428T181500@quickscores.com
DTSTAMP:20260420T013600Z
DTSTART;TZID=America/Los_Angeles:20240428T181500
DURATION:PT1H15M0S
SUMMARY:Win or Booze vs. Cronies Homies
DESCRIPTION:Sunday Coed - Conejo Recreation and Park District
LOCATION:Borchard Park Field #1
CATEGORIES:QuickScores, Softball - Adult Game
TRANSP:OPAQUE
BEGIN:VALARM
TRIGGER:-PT2H
ACTION:DISPLAY
DESCRIPTION:Win or Booze vs. Cronies Homies
END:VALARM
END:VEVENT
BEGIN:VEVENT
UID:crpd-61729076-20240505T170000@quickscores.com
DTSTAMP:20260420T013600Z
DTSTART;TZID=America/Los_Angeles:20240505T170000
DURATION:PT1H15M0S
SUMMARY:Flying Turtles vs. St. Patricks
DESCRIPTION:Sunday Coed - Conejo Recreation and Park District
LOCATION:Borchard Park Field #2
CATEGORIES:QuickScores, Softball - Adult Game
TRANSP:OPAQUE
BEGIN:VALARM
TRIGGER:-PT2H
ACTION:DISPLAY
DESCRIPTION:Flying Turtles vs. St. Patricks
END:VALARM
END:VEVENT
BEGIN:VEVENT
UID:crpd-61729075-20240505T170000@quickscores.com
DTSTAMP:20260420T013600Z
DTSTART;TZID=America/Los_Angeles:20240505T170000
DURATION:PT1H15M0S
SUMMARY:Win or Booze vs. WPC
DESCRIPTION:Sunday Coed - Conejo Recreation and Park District
LOCATION:Borchard Park Field #1
CATEGORIES:QuickScores, Softball - Adult Game
TRANSP:OPAQUE
BEGIN:VALARM
TRIGGER:-PT2H
ACTION:DISPLAY
DESCRIPTION:Win or Booze vs. WPC
END:VALARM
END:VEVENT
BEGIN:VEVENT
UID:crpd-61729078-20240505T181500@quickscores.com
DTSTAMP:20260420T013600Z
DTSTART;TZID=America/Los_Angeles:20240505T181500
DURATION:PT1H15M0S
SUMMARY:Cronies Homies vs. Bat Intentions
DESCRIPTION:Sunday Coed - Conejo Recreation and Park District
LOCATION:Borchard Park Field #2
CATEGORIES:QuickScores, Softball - Adult Game
TRANSP:OPAQUE
BEGIN:VALARM
TRIGGER:-PT2H
ACTION:DISPLAY
DESCRIPTION:Cronies Homies vs. Bat Intentions
END:VALARM
END:VEVENT
BEGIN:VEVENT
UID:crpd-61729077-20240505T181500@quickscores.com
DTSTAMP:20260420T013600Z
DTSTART;TZID=America/Los_Angeles:20240505T181500
DURATION:PT1H15M0S
SUMMARY:Bat Attitude vs. Alwayz Down
DESCRIPTION:Sunday Coed - Conejo Recreation and Park District
LOCATION:Borchard Park Field #1
CATEGORIES:QuickScores, Softball - Adult Game
TRANSP:OPAQUE
BEGIN:VALARM
TRIGGER:-PT2H
ACTION:DISPLAY
DESCRIPTION:Bat Attitude vs. Alwayz Down
END:VALARM
END:VEVENT
BEGIN:VEVENT
UID:crpd-61729042-20240519T170000@quickscores.com
DTSTAMP:20260420T013600Z
DTSTART;TZID=America/Los_Angeles:20240519T170000
DURATION:PT1H15M0S
SUMMARY:Cronies Homies vs. Bat Attitude
DESCRIPTION:Rescheduled Games From 2/25 --- Sunday Coed - Conejo Recreation and Park District
LOCATION:Borchard Park Field #2
CATEGORIES:QuickScores, Softball - Adult Game
TRANSP:OPAQUE
BEGIN:VALARM
TRIGGER:-PT2H
ACTION:DISPLAY
DESCRIPTION:Cronies Homies vs. Bat Attitude
END:VALARM
END:VEVENT
BEGIN:VEVENT
UID:crpd-61729041-20240519T170000@quickscores.com
DTSTAMP:20260420T013600Z
DTSTART;TZID=America/Los_Angeles:20240519T170000
DURATION:PT1H15M0S
SUMMARY:Bat Intentions vs. Flying Turtles
DESCRIPTION:Rescheduled Games From 2/25 --- Sunday Coed - Conejo Recreation and Park District
LOCATION:Borchard Park Field #1
CATEGORIES:QuickScores, Softball - Adult Game
TRANSP:OPAQUE
BEGIN:VALARM
TRIGGER:-PT2H
ACTION:DISPLAY
DESCRIPTION:Bat Intentions vs. Flying Turtles
END:VALARM
END:VEVENT
BEGIN:VEVENT
UID:crpd-61729039-20240519T181500@quickscores.com
DTSTAMP:20260420T013600Z
DTSTART;TZID=America/Los_Angeles:20240519T181500
DURATION:PT1H15M0S
SUMMARY:WPC vs. St. Patricks
DESCRIPTION:Rescheduled Games From 2/25 --- Sunday Coed - Conejo Recreation and Park District
LOCATION:Borchard Park Field #1
CATEGORIES:QuickScores, Softball - Adult Game
TRANSP:OPAQUE
BEGIN:VALARM
TRIGGER:-PT2H
ACTION:DISPLAY
DESCRIPTION:WPC vs. St. Patricks
END:VALARM
END:VEVENT
BEGIN:VEVENT
UID:crpd-61729040-20240519T181500@quickscores.com
DTSTAMP:20260420T013600Z
DTSTART;TZID=America/Los_Angeles:20240519T181500
DURATION:PT1H15M0S
SUMMARY:Alwayz Down vs. Win or Booze
DESCRIPTION:Rescheduled Games From 2/25 --- Sunday Coed - Conejo Recreation and Park District
LOCATION:Borchard Park Field #2
CATEGORIES:QuickScores, Softball - Adult Game
TRANSP:OPAQUE
BEGIN:VALARM
TRIGGER:-PT2H
ACTION:DISPLAY
DESCRIPTION:Alwayz Down vs. Win or Booze
END:VALARM
END:VEVENT
BEGIN:VEVENT
UID:crpd-61729043-20240602T170000@quickscores.com
DTSTAMP:20260420T013600Z
DTSTART;TZID=America/Los_Angeles:20240602T170000
DURATION:PT1H15M0S
SUMMARY:WPC vs. Alwayz Down
DESCRIPTION:Rescheduled Games From 3/3 --- Sunday Coed - Conejo Recreation and Park District
LOCATION:Borchard Park Field #2
CATEGORIES:QuickScores, Softball - Adult Game
TRANSP:OPAQUE
BEGIN:VALARM
TRIGGER:-PT2H
ACTION:DISPLAY
DESCRIPTION:WPC vs. Alwayz Down
END:VALARM
END:VEVENT
BEGIN:VEVENT
UID:crpd-61729044-20240602T170000@quickscores.com
DTSTAMP:20260420T013600Z
DTSTART;TZID=America/Los_Angeles:20240602T170000
DURATION:PT1H15M0S
SUMMARY:Bat Intentions vs. St. Patricks
DESCRIPTION:Rescheduled Games From 3/3 --- Sunday Coed - Conejo Recreation and Park District
LOCATION:Borchard Park Field #1
CATEGORIES:QuickScores, Softball - Adult Game
TRANSP:OPAQUE
BEGIN:VALARM
TRIGGER:-PT2H
ACTION:DISPLAY
DESCRIPTION:Bat Intentions vs. St. Patricks
END:VALARM
END:VEVENT
BEGIN:VEVENT
UID:crpd-61729046-20240602T181500@quickscores.com
DTSTAMP:20260420T013600Z
DTSTART;TZID=America/Los_Angeles:20240602T181500
DURATION:PT1H15M0S
SUMMARY:Bat Attitude vs. Flying Turtles
DESCRIPTION:Rescheduled Games From 3/3 --- Sunday Coed - Conejo Recreation and Park District
LOCATION:Borchard Park Field #2
CATEGORIES:QuickScores, Softball - Adult Game
TRANSP:OPAQUE
BEGIN:VALARM
TRIGGER:-PT2H
ACTION:DISPLAY
DESCRIPTION:Bat Attitude vs. Flying Turtles
END:VALARM
END:VEVENT
BEGIN:VEVENT
UID:crpd-61729045-20240602T181500@quickscores.com
DTSTAMP:20260420T013600Z
DTSTART;TZID=America/Los_Angeles:20240602T181500
DURATION:PT1H15M0S
SUMMARY:Cronies Homies vs. Win or Booze
DESCRIPTION:Rescheduled Games From 3/3 --- Sunday Coed - Conejo Recreation and Park District
LOCATION:Borchard Park Field #1
CATEGORIES:QuickScores, Softball - Adult Game
TRANSP:OPAQUE
BEGIN:VALARM
TRIGGER:-PT2H
ACTION:DISPLAY
DESCRIPTION:Cronies Homies vs. Win or Booze
END:VALARM
END:VEVENT
BEGIN:VEVENT
UID:crpd-62287029-20240609T170000@quickscores.com
DTSTAMP:20260420T013600Z
DTSTART;TZID=America/Los_Angeles:20240609T170000
DURATION:PT1H15M0S
SUMMARY:Alwayz Down vs. Bat Attitude
DESCRIPTION:Rescheduled Game From 3/10 --- Sunday Coed - Conejo Recreation and Park District
LOCATION:Borchard Park Field #2
CATEGORIES:QuickScores, Softball - Adult Game
TRANSP:OPAQUE
BEGIN:VALARM
TRIGGER:-PT2H
ACTION:DISPLAY
DESCRIPTION:Alwayz Down vs. Bat Attitude
END:VALARM
END:VEVENT
BEGIN:VEVENT
UID:crpd-62287072-20240609T181500@quickscores.com
DTSTAMP:20260420T013600Z
DTSTART;TZID=America/Los_Angeles:20240609T181500
DURATION:PT1H15M0S
SUMMARY:Win or Booze vs. WPC
DESCRIPTION:Rescheduled Game From 3/10 --- Sunday Coed - Conejo Recreation and Park District
LOCATION:Borchard Park Field #2
CATEGORIES:QuickScores, Softball - Adult Game
TRANSP:OPAQUE
BEGIN:VALARM
TRIGGER:-PT2H
ACTION:DISPLAY
DESCRIPTION:Win or Booze vs. WPC
END:VALARM
END:VEVENT
BEGIN:VEVENT
UID:crpd-61729056-20240623T170000@quickscores.com
DTSTAMP:20260420T013600Z
DTSTART;TZID=America/Los_Angeles:20240623T170000
DURATION:PT1H15M0S
SUMMARY:Win or Booze vs. Bat Attitude
DESCRIPTION:Rescheduled Games From 3/24 --- Sunday Coed - Conejo Recreation and Park District
LOCATION:Borchard Park Field #2
CATEGORIES:QuickScores, Softball - Adult Game
TRANSP:OPAQUE
BEGIN:VALARM
TRIGGER:-PT2H
ACTION:DISPLAY
DESCRIPTION:Win or Booze vs. Bat Attitude
END:VALARM
END:VEVENT
BEGIN:VEVENT
UID:crpd-61729058-20240623T170000@quickscores.com
DTSTAMP:20260420T013600Z
DTSTART;TZID=America/Los_Angeles:20240623T170000
DURATION:PT1H15M0S
SUMMARY:Alwayz Down vs. Bat Intentions
DESCRIPTION:Rescheduled Games From 3/24 --- Sunday Coed - Conejo Recreation and Park District
LOCATION:Borchard Park Field #1
CATEGORIES:QuickScores, Softball - Adult Game
TRANSP:OPAQUE
BEGIN:VALARM
TRIGGER:-PT2H
ACTION:DISPLAY
DESCRIPTION:Alwayz Down vs. Bat Intentions
END:VALARM
END:VEVENT
BEGIN:VEVENT
UID:crpd-61729057-20240623T181500@quickscores.com
DTSTAMP:20260420T013600Z
DTSTART;TZID=America/Los_Angeles:20240623T181500
DURATION:PT1H15M0S
SUMMARY:Cronies Homies vs. St. Patricks
DESCRIPTION:Rescheduled Games From 3/24 --- Sunday Coed - Conejo Recreation and Park District
LOCATION:Borchard Park Field #2
CATEGORIES:QuickScores, Softball - Adult Game
TRANSP:OPAQUE
BEGIN:VALARM
TRIGGER:-PT2H
ACTION:DISPLAY
DESCRIPTION:Cronies Homies vs. St. Patricks
END:VALARM
END:VEVENT
BEGIN:VEVENT
UID:crpd-61729055-20240623T181500@quickscores.com
DTSTAMP:20260420T013600Z
DTSTART;TZID=America/Los_Angeles:20240623T181500
DURATION:PT1H15M0S
SUMMARY:WPC vs. Flying Turtles
DESCRIPTION:Rescheduled Games From 3/24 --- Sunday Coed - Conejo Recreation and Park District
LOCATION:Borchard Park Field #1
CATEGORIES:QuickScores, Softball - Adult Game
TRANSP:OPAQUE
BEGIN:VALARM
TRIGGER:-PT2H
ACTION:DISPLAY
DESCRIPTION:WPC vs. Flying Turtles
END:VALARM
END:VEVENT
BEGIN:VEVENT
UID:crpd-61729064-20240630T170000@quickscores.com
DTSTAMP:20260420T013600Z
DTSTART;TZID=America/Los_Angeles:20240630T170000
DURATION:PT1H15M0S
SUMMARY:Flying Turtles vs. Cronies Homies
DESCRIPTION:Rescheduled Games From 4/14 --- Sunday Coed - Conejo Recreation and Park District
LOCATION:Borchard Park Field #2
CATEGORIES:QuickScores, Softball - Adult Game
TRANSP:OPAQUE
BEGIN:VALARM
TRIGGER:-PT2H
ACTION:DISPLAY
DESCRIPTION:Flying Turtles vs. Cronies Homies
END:VALARM
END:VEVENT
BEGIN:VEVENT
UID:crpd-61729063-20240630T170000@quickscores.com
DTSTAMP:20260420T013600Z
DTSTART;TZID=America/Los_Angeles:20240630T170000
DURATION:PT1H15M0S
SUMMARY:Bat Attitude vs. WPC
DESCRIPTION:Rescheduled Games From 4/14 --- Sunday Coed - Conejo Recreation and Park District
LOCATION:Borchard Park Field #1
CATEGORIES:QuickScores, Softball - Adult Game
TRANSP:OPAQUE
BEGIN:VALARM
TRIGGER:-PT2H
ACTION:DISPLAY
DESCRIPTION:Bat Attitude vs. WPC
END:VALARM
END:VEVENT
BEGIN:VEVENT
UID:crpd-61729066-20240630T181500@quickscores.com
DTSTAMP:20260420T013600Z
DTSTART;TZID=America/Los_Angeles:20240630T181500
DURATION:PT1H15M0S
SUMMARY:St. Patricks vs. Alwayz Down
DESCRIPTION:Rescheduled Games From 4/14 --- Sunday Coed - Conejo Recreation and Park District
LOCATION:Borchard Park Field #1
CATEGORIES:QuickScores, Softball - Adult Game
TRANSP:OPAQUE
BEGIN:VALARM
TRIGGER:-PT2H
ACTION:DISPLAY
DESCRIPTION:St. Patricks vs. Alwayz Down
END:VALARM
END:VEVENT
BEGIN:VEVENT
UID:crpd-61729065-20240630T181500@quickscores.com
DTSTAMP:20260420T013600Z
DTSTART;TZID=America/Los_Angeles:20240630T181500
DURATION:PT1H15M0S
SUMMARY:Win or Booze vs. Bat Intentions
DESCRIPTION:Rescheduled Games From 4/14 --- Sunday Coed - Conejo Recreation and Park District
LOCATION:Borchard Park Field #2
CATEGORIES:QuickScores, Softball - Adult Game
TRANSP:OPAQUE
BEGIN:VALARM
TRIGGER:-PT2H
ACTION:DISPLAY
DESCRIPTION:Win or Booze vs. Bat Intentions
END:VALARM
END:VEVENT
BEGIN:VEVENT
UID:crpd-63442558-20240707T170000@quickscores.com
DTSTAMP:20260420T013600Z
DTSTART;TZID=America/Los_Angeles:20240707T170000
DURATION:PT1H15M0S
SUMMARY:Bat Intentions vs. Win or Booze
DESCRIPTION:Sunday Coed - Conejo Recreation and Park District
LOCATION:Borchard Park Field #2
CATEGORIES:QuickScores, Softball - Adult Game
TRANSP:OPAQUE
BEGIN:VALARM
TRIGGER:-PT2H
ACTION:DISPLAY
DESCRIPTION:Bat Intentions vs. Win or Booze
END:VALARM
END:VEVENT
BEGIN:VEVENT
UID:crpd-63442557-20240707T170000@quickscores.com
DTSTAMP:20260420T013600Z
DTSTART;TZID=America/Los_Angeles:20240707T170000
DURATION:PT1H15M0S
SUMMARY:Always Down vs. Bat Attitude
DESCRIPTION:Sunday Coed - Conejo Recreation and Park District
LOCATION:Borchard Park Field #1
CATEGORIES:QuickScores, Softball - Adult Game
TRANSP:OPAQUE
BEGIN:VALARM
TRIGGER:-PT2H
ACTION:DISPLAY
DESCRIPTION:Always Down vs. Bat Attitude
END:VALARM
END:VEVENT
BEGIN:VEVENT
UID:crpd-63442559-20240707T183000@quickscores.com
DTSTAMP:20260420T013600Z
DTSTART;TZID=America/Los_Angeles:20240707T183000
DURATION:PT1H15M0S
SUMMARY:Always Down vs. Win or Booze
DESCRIPTION:Sunday Coed - Conejo Recreation and Park District
LOCATION:Borchard Park Field #1
CATEGORIES:QuickScores, Softball - Adult Game
TRANSP:OPAQUE
BEGIN:VALARM
TRIGGER:-PT2H
ACTION:DISPLAY
DESCRIPTION:Always Down vs. Win or Booze
END:VALARM
END:VEVENT
END:VCALENDAR
