BEGIN:VCALENDAR
VERSION:2.0
PRODID:-//QuickScores.com//BQ Dynamic iCal Creator//EN
METHOD:PUBLISH
X-WR-CALNAME:Latewinter Tuesday Intermediate Lg. - Completed Leagues 2023/24
X-WR-CALDESC:QuickScores game calendar
X-PUBLISHED-TTL:PT24H
REFRESH-INTERVAL;VALUE=DURATION:PT24H
CALSCALE:GREGORIAN
BEGIN:VTIMEZONE
TZID:America/Chicago
X-LIC-LOCATION:America/Chicago
BEGIN:DAYLIGHT
TZNAME:CDT
TZOFFSETFROM:-0600
TZOFFSETTO:-0500
DTSTART:19700308T020000
RRULE:FREQ=YEARLY;BYMONTH=3;BYDAY=2SU
END:DAYLIGHT
BEGIN:STANDARD
TZNAME:CST
TZOFFSETFROM:-0500
TZOFFSETTO:-0600
DTSTART:19701101T020000
RRULE:FREQ=YEARLY;BYMONTH=11;BYDAY=1SU
END:STANDARD
END:VTIMEZONE
BEGIN:VEVENT
UID:pupc-61651511-20240213T180000@quickscores.com
DTSTAMP:20260424T151400Z
DTSTART;TZID=America/Chicago:20240213T180000
DURATION:PT0H40M0S
SUMMARY:Schneider/Spence vs. Swenson/Swenson
DESCRIPTION:Latewinter Tuesday Intermediate Lg. - Paddle Up Pickleball Club
LOCATION:Court 3
CATEGORIES:QuickScores, Pickleball Game
TRANSP:OPAQUE
BEGIN:VALARM
TRIGGER:-PT2H
ACTION:DISPLAY
DESCRIPTION:Schneider/Spence vs. Swenson/Swenson
END:VALARM
END:VEVENT
BEGIN:VEVENT
UID:pupc-61651513-20240213T180000@quickscores.com
DTSTAMP:20260424T151400Z
DTSTART;TZID=America/Chicago:20240213T180000
DURATION:PT0H40M0S
SUMMARY:Bauman/Quitschau vs. Donovan/Howell
DESCRIPTION:Latewinter Tuesday Intermediate Lg. - Paddle Up Pickleball Club
LOCATION:Court 1
CATEGORIES:QuickScores, Pickleball Game
TRANSP:OPAQUE
BEGIN:VALARM
TRIGGER:-PT2H
ACTION:DISPLAY
DESCRIPTION:Bauman/Quitschau vs. Donovan/Howell
END:VALARM
END:VEVENT
BEGIN:VEVENT
UID:pupc-61651514-20240213T184000@quickscores.com
DTSTAMP:20260424T151400Z
DTSTART;TZID=America/Chicago:20240213T184000
DURATION:PT0H40M0S
SUMMARY:Bauman/Quitschau vs. Norsen/Norsen
DESCRIPTION:Latewinter Tuesday Intermediate Lg. - Paddle Up Pickleball Club
LOCATION:Court 1
CATEGORIES:QuickScores, Pickleball Game
TRANSP:OPAQUE
BEGIN:VALARM
TRIGGER:-PT2H
ACTION:DISPLAY
DESCRIPTION:Bauman/Quitschau vs. Norsen/Norsen
END:VALARM
END:VEVENT
BEGIN:VEVENT
UID:pupc-61651512-20240213T184000@quickscores.com
DTSTAMP:20260424T151400Z
DTSTART;TZID=America/Chicago:20240213T184000
DURATION:PT0H40M0S
SUMMARY:Schneider/Spence vs. Donovan/Howell
DESCRIPTION:Latewinter Tuesday Intermediate Lg. - Paddle Up Pickleball Club
LOCATION:Court 3
CATEGORIES:QuickScores, Pickleball Game
TRANSP:OPAQUE
BEGIN:VALARM
TRIGGER:-PT2H
ACTION:DISPLAY
DESCRIPTION:Schneider/Spence vs. Donovan/Howell
END:VALARM
END:VEVENT
BEGIN:VEVENT
UID:pupc-61732796-20240213T192000@quickscores.com
DTSTAMP:20260424T151400Z
DTSTART;TZID=America/Chicago:20240213T192000
DURATION:PT0H40M0S
SUMMARY:Swenson/Swenson vs. Durham/Rosenberger
DESCRIPTION:Latewinter Tuesday Intermediate Lg. - Paddle Up Pickleball Club
LOCATION:Court 3
CATEGORIES:QuickScores, Pickleball Game
TRANSP:OPAQUE
BEGIN:VALARM
TRIGGER:-PT2H
ACTION:DISPLAY
DESCRIPTION:Swenson/Swenson vs. Durham/Rosenberger
END:VALARM
END:VEVENT
BEGIN:VEVENT
UID:pupc-61651515-20240213T192000@quickscores.com
DTSTAMP:20260424T151400Z
DTSTART;TZID=America/Chicago:20240213T192000
DURATION:PT0H40M0S
SUMMARY:Norsen/Norsen vs. Lamb/Bryles
DESCRIPTION:Latewinter Tuesday Intermediate Lg. - Paddle Up Pickleball Club
LOCATION:Court 1
CATEGORIES:QuickScores, Pickleball Game
TRANSP:OPAQUE
BEGIN:VALARM
TRIGGER:-PT2H
ACTION:DISPLAY
DESCRIPTION:Norsen/Norsen vs. Lamb/Bryles
END:VALARM
END:VEVENT
BEGIN:VEVENT
UID:pupc-61651507-20240213T200000@quickscores.com
DTSTAMP:20260424T151400Z
DTSTART;TZID=America/Chicago:20240213T200000
DURATION:PT0H40M0S
SUMMARY:Lamb/Bryles vs. Riebel/Herbert
DESCRIPTION:Latewinter Tuesday Intermediate Lg. - Paddle Up Pickleball Club
LOCATION:Court 1
CATEGORIES:QuickScores, Pickleball Game
TRANSP:OPAQUE
BEGIN:VALARM
TRIGGER:-PT2H
ACTION:DISPLAY
DESCRIPTION:Lamb/Bryles vs. Riebel/Herbert
END:VALARM
END:VEVENT
BEGIN:VEVENT
UID:pupc-61651509-20240213T204000@quickscores.com
DTSTAMP:20260424T151400Z
DTSTART;TZID=America/Chicago:20240213T204000
DURATION:PT0H40M0S
SUMMARY:Finkes/Finkes vs. Durham/Rosenberger
DESCRIPTION:Latewinter Tuesday Intermediate Lg. - Paddle Up Pickleball Club
LOCATION:Court 1
CATEGORIES:QuickScores, Pickleball Game
TRANSP:OPAQUE
BEGIN:VALARM
TRIGGER:-PT2H
ACTION:DISPLAY
DESCRIPTION:Finkes/Finkes vs. Durham/Rosenberger
END:VALARM
END:VEVENT
BEGIN:VEVENT
UID:pupc-61651508-20240213T212000@quickscores.com
DTSTAMP:20260424T151400Z
DTSTART;TZID=America/Chicago:20240213T212000
DURATION:PT0H40M0S
SUMMARY:Riebel/Herbert vs. Finkes/Finkes
DESCRIPTION:Latewinter Tuesday Intermediate Lg. - Paddle Up Pickleball Club
LOCATION:Court 1
CATEGORIES:QuickScores, Pickleball Game
TRANSP:OPAQUE
BEGIN:VALARM
TRIGGER:-PT2H
ACTION:DISPLAY
DESCRIPTION:Riebel/Herbert vs. Finkes/Finkes
END:VALARM
END:VEVENT
BEGIN:VEVENT
UID:pupc-61651518-20240220T180000@quickscores.com
DTSTAMP:20260424T151400Z
DTSTART;TZID=America/Chicago:20240220T180000
DURATION:PT0H40M0S
SUMMARY:Lamb/Bryles vs. Durham/Rosenberger
DESCRIPTION:Latewinter Tuesday Intermediate Lg. - Paddle Up Pickleball Club
LOCATION:Court 1
CATEGORIES:QuickScores, Pickleball Game
TRANSP:OPAQUE
BEGIN:VALARM
TRIGGER:-PT2H
ACTION:DISPLAY
DESCRIPTION:Lamb/Bryles vs. Durham/Rosenberger
END:VALARM
END:VEVENT
BEGIN:VEVENT
UID:pupc-61651521-20240220T180000@quickscores.com
DTSTAMP:20260424T151400Z
DTSTART;TZID=America/Chicago:20240220T180000
DURATION:PT0H40M0S
SUMMARY:Schneider/Spence vs. Norsen/Norsen
DESCRIPTION:Latewinter Tuesday Intermediate Lg. - Paddle Up Pickleball Club
LOCATION:Court 3
CATEGORIES:QuickScores, Pickleball Game
TRANSP:OPAQUE
BEGIN:VALARM
TRIGGER:-PT2H
ACTION:DISPLAY
DESCRIPTION:Schneider/Spence vs. Norsen/Norsen
END:VALARM
END:VEVENT
BEGIN:VEVENT
UID:pupc-61651517-20240220T184000@quickscores.com
DTSTAMP:20260424T151400Z
DTSTART;TZID=America/Chicago:20240220T184000
DURATION:PT0H40M0S
SUMMARY:Durham/Rosenberger vs. Donovan/Howell
DESCRIPTION:Latewinter Tuesday Intermediate Lg. - Paddle Up Pickleball Club
LOCATION:Court 1
CATEGORIES:QuickScores, Pickleball Game
TRANSP:OPAQUE
BEGIN:VALARM
TRIGGER:-PT2H
ACTION:DISPLAY
DESCRIPTION:Durham/Rosenberger vs. Donovan/Howell
END:VALARM
END:VEVENT
BEGIN:VEVENT
UID:pupc-61651520-20240220T184000@quickscores.com
DTSTAMP:20260424T151400Z
DTSTART;TZID=America/Chicago:20240220T184000
DURATION:PT0H40M0S
SUMMARY:Finkes/Finkes vs. Schneider/Spence
DESCRIPTION:Latewinter Tuesday Intermediate Lg. - Paddle Up Pickleball Club
LOCATION:Court 3
CATEGORIES:QuickScores, Pickleball Game
TRANSP:OPAQUE
BEGIN:VALARM
TRIGGER:-PT2H
ACTION:DISPLAY
DESCRIPTION:Finkes/Finkes vs. Schneider/Spence
END:VALARM
END:VEVENT
BEGIN:VEVENT
UID:pupc-61651519-20240220T192000@quickscores.com
DTSTAMP:20260424T151400Z
DTSTART;TZID=America/Chicago:20240220T192000
DURATION:PT0H40M0S
SUMMARY:Finkes/Finkes vs. Lamb/Bryles
DESCRIPTION:Latewinter Tuesday Intermediate Lg. - Paddle Up Pickleball Club
LOCATION:Court 3
CATEGORIES:QuickScores, Pickleball Game
TRANSP:OPAQUE
BEGIN:VALARM
TRIGGER:-PT2H
ACTION:DISPLAY
DESCRIPTION:Finkes/Finkes vs. Lamb/Bryles
END:VALARM
END:VEVENT
BEGIN:VEVENT
UID:pupc-61651516-20240220T192000@quickscores.com
DTSTAMP:20260424T151400Z
DTSTART;TZID=America/Chicago:20240220T192000
DURATION:PT0H40M0S
SUMMARY:Norsen/Norsen vs. Donovan/Howell
DESCRIPTION:Latewinter Tuesday Intermediate Lg. - Paddle Up Pickleball Club
LOCATION:Court 1
CATEGORIES:QuickScores, Pickleball Game
TRANSP:OPAQUE
BEGIN:VALARM
TRIGGER:-PT2H
ACTION:DISPLAY
DESCRIPTION:Norsen/Norsen vs. Donovan/Howell
END:VALARM
END:VEVENT
BEGIN:VEVENT
UID:pupc-61651523-20240220T200000@quickscores.com
DTSTAMP:20260424T151400Z
DTSTART;TZID=America/Chicago:20240220T200000
DURATION:PT0H40M0S
SUMMARY:Swenson/Swenson vs. Riebel/Herbert
DESCRIPTION:Latewinter Tuesday Intermediate Lg. - Paddle Up Pickleball Club
LOCATION:Court 1
CATEGORIES:QuickScores, Pickleball Game
TRANSP:OPAQUE
BEGIN:VALARM
TRIGGER:-PT2H
ACTION:DISPLAY
DESCRIPTION:Swenson/Swenson vs. Riebel/Herbert
END:VALARM
END:VEVENT
BEGIN:VEVENT
UID:pupc-61651524-20240220T204000@quickscores.com
DTSTAMP:20260424T151400Z
DTSTART;TZID=America/Chicago:20240220T204000
DURATION:PT0H40M0S
SUMMARY:Riebel/Herbert vs. Bauman/Quitschau
DESCRIPTION:Latewinter Tuesday Intermediate Lg. - Paddle Up Pickleball Club
LOCATION:Court 1
CATEGORIES:QuickScores, Pickleball Game
TRANSP:OPAQUE
BEGIN:VALARM
TRIGGER:-PT2H
ACTION:DISPLAY
DESCRIPTION:Riebel/Herbert vs. Bauman/Quitschau
END:VALARM
END:VEVENT
BEGIN:VEVENT
UID:pupc-61651522-20240220T212000@quickscores.com
DTSTAMP:20260424T151400Z
DTSTART;TZID=America/Chicago:20240220T212000
DURATION:PT0H40M0S
SUMMARY:Bauman/Quitschau vs. Swenson/Swenson
DESCRIPTION:Latewinter Tuesday Intermediate Lg. - Paddle Up Pickleball Club
LOCATION:Court 1
CATEGORIES:QuickScores, Pickleball Game
TRANSP:OPAQUE
BEGIN:VALARM
TRIGGER:-PT2H
ACTION:DISPLAY
DESCRIPTION:Bauman/Quitschau vs. Swenson/Swenson
END:VALARM
END:VEVENT
BEGIN:VEVENT
UID:pupc-61651526-20240227T180000@quickscores.com
DTSTAMP:20260424T151400Z
DTSTART;TZID=America/Chicago:20240227T180000
DURATION:PT0H40M0S
SUMMARY:Durham/Rosenberger vs. Norsen/Norsen
DESCRIPTION:Latewinter Tuesday Intermediate Lg. - Paddle Up Pickleball Club
LOCATION:Court 3
CATEGORIES:QuickScores, Pickleball Game
TRANSP:OPAQUE
BEGIN:VALARM
TRIGGER:-PT2H
ACTION:DISPLAY
DESCRIPTION:Durham/Rosenberger vs. Norsen/Norsen
END:VALARM
END:VEVENT
BEGIN:VEVENT
UID:pupc-61651528-20240227T180000@quickscores.com
DTSTAMP:20260424T151400Z
DTSTART;TZID=America/Chicago:20240227T180000
DURATION:PT0H40M0S
SUMMARY:Swenson/Swenson vs. Lamb/Bryles
DESCRIPTION:Latewinter Tuesday Intermediate Lg. - Paddle Up Pickleball Club
LOCATION:Court 1
CATEGORIES:QuickScores, Pickleball Game
TRANSP:OPAQUE
BEGIN:VALARM
TRIGGER:-PT2H
ACTION:DISPLAY
DESCRIPTION:Swenson/Swenson vs. Lamb/Bryles
END:VALARM
END:VEVENT
BEGIN:VEVENT
UID:pupc-61651527-20240227T184000@quickscores.com
DTSTAMP:20260424T151400Z
DTSTART;TZID=America/Chicago:20240227T184000
DURATION:PT0H40M0S
SUMMARY:Norsen/Norsen vs. Swenson/Swenson
DESCRIPTION:Latewinter Tuesday Intermediate Lg. - Paddle Up Pickleball Club
LOCATION:Court 3
CATEGORIES:QuickScores, Pickleball Game
TRANSP:OPAQUE
BEGIN:VALARM
TRIGGER:-PT2H
ACTION:DISPLAY
DESCRIPTION:Norsen/Norsen vs. Swenson/Swenson
END:VALARM
END:VEVENT
BEGIN:VEVENT
UID:pupc-61651529-20240227T184000@quickscores.com
DTSTAMP:20260424T151400Z
DTSTART;TZID=America/Chicago:20240227T184000
DURATION:PT0H40M0S
SUMMARY:Schneider/Spence vs. Lamb/Bryles
DESCRIPTION:Latewinter Tuesday Intermediate Lg. - Paddle Up Pickleball Club
LOCATION:Court 1
CATEGORIES:QuickScores, Pickleball Game
TRANSP:OPAQUE
BEGIN:VALARM
TRIGGER:-PT2H
ACTION:DISPLAY
DESCRIPTION:Schneider/Spence vs. Lamb/Bryles
END:VALARM
END:VEVENT
BEGIN:VEVENT
UID:pupc-61651525-20240227T192000@quickscores.com
DTSTAMP:20260424T151400Z
DTSTART;TZID=America/Chicago:20240227T192000
DURATION:PT0H40M0S
SUMMARY:Riebel/Herbert vs. Durham/Rosenberger
DESCRIPTION:Latewinter Tuesday Intermediate Lg. - Paddle Up Pickleball Club
LOCATION:Court 3
CATEGORIES:QuickScores, Pickleball Game
TRANSP:OPAQUE
BEGIN:VALARM
TRIGGER:-PT2H
ACTION:DISPLAY
DESCRIPTION:Riebel/Herbert vs. Durham/Rosenberger
END:VALARM
END:VEVENT
BEGIN:VEVENT
UID:pupc-61651530-20240227T192000@quickscores.com
DTSTAMP:20260424T151400Z
DTSTART;TZID=America/Chicago:20240227T192000
DURATION:PT0H40M0S
SUMMARY:Bauman/Quitschau vs. Schneider/Spence
DESCRIPTION:Latewinter Tuesday Intermediate Lg. - Paddle Up Pickleball Club
LOCATION:Court 1
CATEGORIES:QuickScores, Pickleball Game
TRANSP:OPAQUE
BEGIN:VALARM
TRIGGER:-PT2H
ACTION:DISPLAY
DESCRIPTION:Bauman/Quitschau vs. Schneider/Spence
END:VALARM
END:VEVENT
BEGIN:VEVENT
UID:pupc-61651531-20240227T200000@quickscores.com
DTSTAMP:20260424T151400Z
DTSTART;TZID=America/Chicago:20240227T200000
DURATION:PT0H40M0S
SUMMARY:Finkes/Finkes vs. Bauman/Quitschau
DESCRIPTION:Latewinter Tuesday Intermediate Lg. - Paddle Up Pickleball Club
LOCATION:Court 1
CATEGORIES:QuickScores, Pickleball Game
TRANSP:OPAQUE
BEGIN:VALARM
TRIGGER:-PT2H
ACTION:DISPLAY
DESCRIPTION:Finkes/Finkes vs. Bauman/Quitschau
END:VALARM
END:VEVENT
BEGIN:VEVENT
UID:pupc-61651533-20240227T204000@quickscores.com
DTSTAMP:20260424T151400Z
DTSTART;TZID=America/Chicago:20240227T204000
DURATION:PT0H40M0S
SUMMARY:Donovan/Howell vs. Riebel/Herbert
DESCRIPTION:Latewinter Tuesday Intermediate Lg. - Paddle Up Pickleball Club
LOCATION:Court 1
CATEGORIES:QuickScores, Pickleball Game
TRANSP:OPAQUE
BEGIN:VALARM
TRIGGER:-PT2H
ACTION:DISPLAY
DESCRIPTION:Donovan/Howell vs. Riebel/Herbert
END:VALARM
END:VEVENT
BEGIN:VEVENT
UID:pupc-61651532-20240227T212000@quickscores.com
DTSTAMP:20260424T151400Z
DTSTART;TZID=America/Chicago:20240227T212000
DURATION:PT0H40M0S
SUMMARY:Donovan/Howell vs. Finkes/Finkes
DESCRIPTION:Latewinter Tuesday Intermediate Lg. - Paddle Up Pickleball Club
LOCATION:Court 1
CATEGORIES:QuickScores, Pickleball Game
TRANSP:OPAQUE
BEGIN:VALARM
TRIGGER:-PT2H
ACTION:DISPLAY
DESCRIPTION:Donovan/Howell vs. Finkes/Finkes
END:VALARM
END:VEVENT
BEGIN:VEVENT
UID:pupc-61651535-20240305T180000@quickscores.com
DTSTAMP:20260424T151400Z
DTSTART;TZID=America/Chicago:20240305T180000
DURATION:PT0H40M0S
SUMMARY:Swenson/Swenson vs. Finkes/Finkes
DESCRIPTION:Latewinter Tuesday Intermediate Lg. - Paddle Up Pickleball Club
LOCATION:Court 1
CATEGORIES:QuickScores, Pickleball Game
TRANSP:OPAQUE
BEGIN:VALARM
TRIGGER:-PT2H
ACTION:DISPLAY
DESCRIPTION:Swenson/Swenson vs. Finkes/Finkes
END:VALARM
END:VEVENT
BEGIN:VEVENT
UID:pupc-61651542-20240305T180000@quickscores.com
DTSTAMP:20260424T151400Z
DTSTART;TZID=America/Chicago:20240305T180000
DURATION:PT0H40M0S
SUMMARY:Lamb/Bryles vs. Donovan/Howell
DESCRIPTION:Latewinter Tuesday Intermediate Lg. - Paddle Up Pickleball Club
LOCATION:Court 3
CATEGORIES:QuickScores, Pickleball Game
TRANSP:OPAQUE
BEGIN:VALARM
TRIGGER:-PT2H
ACTION:DISPLAY
DESCRIPTION:Lamb/Bryles vs. Donovan/Howell
END:VALARM
END:VEVENT
BEGIN:VEVENT
UID:pupc-61651534-20240305T184000@quickscores.com
DTSTAMP:20260424T151400Z
DTSTART;TZID=America/Chicago:20240305T184000
DURATION:PT0H40M0S
SUMMARY:Donovan/Howell vs. Swenson/Swenson
DESCRIPTION:Latewinter Tuesday Intermediate Lg. - Paddle Up Pickleball Club
LOCATION:Court 3
CATEGORIES:QuickScores, Pickleball Game
TRANSP:OPAQUE
BEGIN:VALARM
TRIGGER:-PT2H
ACTION:DISPLAY
DESCRIPTION:Donovan/Howell vs. Swenson/Swenson
END:VALARM
END:VEVENT
BEGIN:VEVENT
UID:pupc-61651536-20240305T184000@quickscores.com
DTSTAMP:20260424T151400Z
DTSTART;TZID=America/Chicago:20240305T184000
DURATION:PT0H40M0S
SUMMARY:Finkes/Finkes vs. Norsen/Norsen
DESCRIPTION:Latewinter Tuesday Intermediate Lg. - Paddle Up Pickleball Club
LOCATION:Court 1
CATEGORIES:QuickScores, Pickleball Game
TRANSP:OPAQUE
BEGIN:VALARM
TRIGGER:-PT2H
ACTION:DISPLAY
DESCRIPTION:Finkes/Finkes vs. Norsen/Norsen
END:VALARM
END:VEVENT
BEGIN:VEVENT
UID:pupc-61651537-20240305T192000@quickscores.com
DTSTAMP:20260424T151400Z
DTSTART;TZID=America/Chicago:20240305T192000
DURATION:PT0H40M0S
SUMMARY:Norsen/Norsen vs. Riebel/Herbert
DESCRIPTION:Latewinter Tuesday Intermediate Lg. - Paddle Up Pickleball Club
LOCATION:Court 1
CATEGORIES:QuickScores, Pickleball Game
TRANSP:OPAQUE
BEGIN:VALARM
TRIGGER:-PT2H
ACTION:DISPLAY
DESCRIPTION:Norsen/Norsen vs. Riebel/Herbert
END:VALARM
END:VEVENT
BEGIN:VEVENT
UID:pupc-61651541-20240305T192000@quickscores.com
DTSTAMP:20260424T151400Z
DTSTART;TZID=America/Chicago:20240305T192000
DURATION:PT0H40M0S
SUMMARY:Lamb/Bryles vs. Bauman/Quitschau
DESCRIPTION:Latewinter Tuesday Intermediate Lg. - Paddle Up Pickleball Club
LOCATION:Court 3
CATEGORIES:QuickScores, Pickleball Game
TRANSP:OPAQUE
BEGIN:VALARM
TRIGGER:-PT2H
ACTION:DISPLAY
DESCRIPTION:Lamb/Bryles vs. Bauman/Quitschau
END:VALARM
END:VEVENT
BEGIN:VEVENT
UID:pupc-61651538-20240305T200000@quickscores.com
DTSTAMP:20260424T151400Z
DTSTART;TZID=America/Chicago:20240305T200000
DURATION:PT0H40M0S
SUMMARY:Riebel/Herbert vs. Schneider/Spence
DESCRIPTION:Latewinter Tuesday Intermediate Lg. - Paddle Up Pickleball Club
LOCATION:Court 1
CATEGORIES:QuickScores, Pickleball Game
TRANSP:OPAQUE
BEGIN:VALARM
TRIGGER:-PT2H
ACTION:DISPLAY
DESCRIPTION:Riebel/Herbert vs. Schneider/Spence
END:VALARM
END:VEVENT
BEGIN:VEVENT
UID:pupc-61651540-20240305T204000@quickscores.com
DTSTAMP:20260424T151400Z
DTSTART;TZID=America/Chicago:20240305T204000
DURATION:PT0H40M0S
SUMMARY:Durham/Rosenberger vs. Bauman/Quitschau
DESCRIPTION:Latewinter Tuesday Intermediate Lg. - Paddle Up Pickleball Club
LOCATION:Court 1
CATEGORIES:QuickScores, Pickleball Game
TRANSP:OPAQUE
BEGIN:VALARM
TRIGGER:-PT2H
ACTION:DISPLAY
DESCRIPTION:Durham/Rosenberger vs. Bauman/Quitschau
END:VALARM
END:VEVENT
BEGIN:VEVENT
UID:pupc-61651539-20240305T212000@quickscores.com
DTSTAMP:20260424T151400Z
DTSTART;TZID=America/Chicago:20240305T212000
DURATION:PT0H40M0S
SUMMARY:Durham/Rosenberger vs. Schneider/Spence
DESCRIPTION:Latewinter Tuesday Intermediate Lg. - Paddle Up Pickleball Club
LOCATION:Court 1
CATEGORIES:QuickScores, Pickleball Game
TRANSP:OPAQUE
BEGIN:VALARM
TRIGGER:-PT2H
ACTION:DISPLAY
DESCRIPTION:Durham/Rosenberger vs. Schneider/Spence
END:VALARM
END:VEVENT
BEGIN:VEVENT
UID:pupc-61651546-20240312T180000@quickscores.com
DTSTAMP:20260424T151400Z
DTSTART;TZID=America/Chicago:20240312T180000
DURATION:PT0H40M0S
SUMMARY:Bauman/Quitschau vs. Finkes/Finkes
DESCRIPTION:Latewinter Tuesday Intermediate Lg. - Paddle Up Pickleball Club
LOCATION:Court 3
CATEGORIES:QuickScores, Pickleball Game
TRANSP:OPAQUE
BEGIN:VALARM
TRIGGER:-PT2H
ACTION:DISPLAY
DESCRIPTION:Bauman/Quitschau vs. Finkes/Finkes
END:VALARM
END:VEVENT
BEGIN:VEVENT
UID:pupc-61651543-20240312T180000@quickscores.com
DTSTAMP:20260424T151400Z
DTSTART;TZID=America/Chicago:20240312T180000
DURATION:PT0H40M0S
SUMMARY:Donovan/Howell vs. Riebel/Herbert
DESCRIPTION:Latewinter Tuesday Intermediate Lg. - Paddle Up Pickleball Club
LOCATION:Court 1
CATEGORIES:QuickScores, Pickleball Game
TRANSP:OPAQUE
BEGIN:VALARM
TRIGGER:-PT2H
ACTION:DISPLAY
DESCRIPTION:Donovan/Howell vs. Riebel/Herbert
END:VALARM
END:VEVENT
BEGIN:VEVENT
UID:pupc-61651545-20240312T184000@quickscores.com
DTSTAMP:20260424T151400Z
DTSTART;TZID=America/Chicago:20240312T184000
DURATION:PT0H40M0S
SUMMARY:Schneider/Spence vs. Bauman/Quitschau
DESCRIPTION:Latewinter Tuesday Intermediate Lg. - Paddle Up Pickleball Club
LOCATION:Court 3
CATEGORIES:QuickScores, Pickleball Game
TRANSP:OPAQUE
BEGIN:VALARM
TRIGGER:-PT2H
ACTION:DISPLAY
DESCRIPTION:Schneider/Spence vs. Bauman/Quitschau
END:VALARM
END:VEVENT
BEGIN:VEVENT
UID:pupc-61651548-20240312T184000@quickscores.com
DTSTAMP:20260424T151400Z
DTSTART;TZID=America/Chicago:20240312T184000
DURATION:PT0H40M0S
SUMMARY:Riebel/Herbert vs. Durham/Rosenberger
DESCRIPTION:Latewinter Tuesday Intermediate Lg. - Paddle Up Pickleball Club
LOCATION:Court 1
CATEGORIES:QuickScores, Pickleball Game
TRANSP:OPAQUE
BEGIN:VALARM
TRIGGER:-PT2H
ACTION:DISPLAY
DESCRIPTION:Riebel/Herbert vs. Durham/Rosenberger
END:VALARM
END:VEVENT
BEGIN:VEVENT
UID:pupc-61651544-20240312T192000@quickscores.com
DTSTAMP:20260424T151400Z
DTSTART;TZID=America/Chicago:20240312T192000
DURATION:PT0H40M0S
SUMMARY:Donovan/Howell vs. Durham/Rosenberger
DESCRIPTION:Latewinter Tuesday Intermediate Lg. - Paddle Up Pickleball Club
LOCATION:Court 3
CATEGORIES:QuickScores, Pickleball Game
TRANSP:OPAQUE
BEGIN:VALARM
TRIGGER:-PT2H
ACTION:DISPLAY
DESCRIPTION:Donovan/Howell vs. Durham/Rosenberger
END:VALARM
END:VEVENT
BEGIN:VEVENT
UID:pupc-61651547-20240312T192000@quickscores.com
DTSTAMP:20260424T151400Z
DTSTART;TZID=America/Chicago:20240312T192000
DURATION:PT0H40M0S
SUMMARY:Schneider/Spence vs. Finkes/Finkes
DESCRIPTION:Latewinter Tuesday Intermediate Lg. - Paddle Up Pickleball Club
LOCATION:Court 1
CATEGORIES:QuickScores, Pickleball Game
TRANSP:OPAQUE
BEGIN:VALARM
TRIGGER:-PT2H
ACTION:DISPLAY
DESCRIPTION:Schneider/Spence vs. Finkes/Finkes
END:VALARM
END:VEVENT
BEGIN:VEVENT
UID:pupc-61651549-20240312T200000@quickscores.com
DTSTAMP:20260424T151400Z
DTSTART;TZID=America/Chicago:20240312T200000
DURATION:PT0H40M0S
SUMMARY:Swenson/Swenson vs. Lamb/Bryles
DESCRIPTION:Latewinter Tuesday Intermediate Lg. - Paddle Up Pickleball Club
LOCATION:Court 1
CATEGORIES:QuickScores, Pickleball Game
TRANSP:OPAQUE
BEGIN:VALARM
TRIGGER:-PT2H
ACTION:DISPLAY
DESCRIPTION:Swenson/Swenson vs. Lamb/Bryles
END:VALARM
END:VEVENT
BEGIN:VEVENT
UID:pupc-61651550-20240312T204000@quickscores.com
DTSTAMP:20260424T151400Z
DTSTART;TZID=America/Chicago:20240312T204000
DURATION:PT0H40M0S
SUMMARY:Norsen/Norsen vs. Swenson/Swenson
DESCRIPTION:Latewinter Tuesday Intermediate Lg. - Paddle Up Pickleball Club
LOCATION:Court 1
CATEGORIES:QuickScores, Pickleball Game
TRANSP:OPAQUE
BEGIN:VALARM
TRIGGER:-PT2H
ACTION:DISPLAY
DESCRIPTION:Norsen/Norsen vs. Swenson/Swenson
END:VALARM
END:VEVENT
BEGIN:VEVENT
UID:pupc-61651551-20240312T212000@quickscores.com
DTSTAMP:20260424T151400Z
DTSTART;TZID=America/Chicago:20240312T212000
DURATION:PT0H40M0S
SUMMARY:Lamb/Bryles vs. Norsen/Norsen
DESCRIPTION:Latewinter Tuesday Intermediate Lg. - Paddle Up Pickleball Club
LOCATION:Court 1
CATEGORIES:QuickScores, Pickleball Game
TRANSP:OPAQUE
BEGIN:VALARM
TRIGGER:-PT2H
ACTION:DISPLAY
DESCRIPTION:Lamb/Bryles vs. Norsen/Norsen
END:VALARM
END:VEVENT
BEGIN:VEVENT
UID:pupc-62188710-20240319T183500@quickscores.com
DTSTAMP:20260424T151400Z
DTSTART;TZID=America/Chicago:20240319T183500
DURATION:PT0H35M0S
SUMMARY:[8] Bauman/Quitschau vs. [9] Norsen/Norsen
DESCRIPTION:Latewinter Tuesday Intermediate Lg. - Paddle Up Pickleball Club
LOCATION:Court 7
CATEGORIES:QuickScores, Pickleball Game
TRANSP:OPAQUE
BEGIN:VALARM
TRIGGER:-PT2H
ACTION:DISPLAY
DESCRIPTION:[8] Bauman/Quitschau vs. [9] Norsen/Norsen
END:VALARM
END:VEVENT
BEGIN:VEVENT
UID:pupc-62188717-20240319T191000@quickscores.com
DTSTAMP:20260424T151400Z
DTSTART;TZID=America/Chicago:20240319T191000
DURATION:PT0H35M0S
SUMMARY:[1] Swenson/Swenson vs. Winner of Game 1
DESCRIPTION:Latewinter Tuesday Intermediate Lg. - Paddle Up Pickleball Club
LOCATION:Court 7
CATEGORIES:QuickScores, Pickleball Game
TRANSP:OPAQUE
BEGIN:VALARM
TRIGGER:-PT2H
ACTION:DISPLAY
DESCRIPTION:[1] Swenson/Swenson vs. Winner of Game 1
END:VALARM
END:VEVENT
BEGIN:VEVENT
UID:pupc-62188720-20240319T191000@quickscores.com
DTSTAMP:20260424T151400Z
DTSTART;TZID=America/Chicago:20240319T191000
DURATION:PT0H35M0S
SUMMARY:[3] Finkes/Finkes vs. [6] Schneider/Spence
DESCRIPTION:Latewinter Tuesday Intermediate Lg. - Paddle Up Pickleball Club
LOCATION:Court 6
CATEGORIES:QuickScores, Pickleball Game
TRANSP:OPAQUE
BEGIN:VALARM
TRIGGER:-PT2H
ACTION:DISPLAY
DESCRIPTION:[3] Finkes/Finkes vs. [6] Schneider/Spence
END:VALARM
END:VEVENT
BEGIN:VEVENT
UID:pupc-62188719-20240319T194500@quickscores.com
DTSTAMP:20260424T151400Z
DTSTART;TZID=America/Chicago:20240319T194500
DURATION:PT0H35M0S
SUMMARY:[2] Durham/Rosenberger vs. [7] Lamb/Bryles
DESCRIPTION:Latewinter Tuesday Intermediate Lg. - Paddle Up Pickleball Club
LOCATION:Court 6
CATEGORIES:QuickScores, Pickleball Game
TRANSP:OPAQUE
BEGIN:VALARM
TRIGGER:-PT2H
ACTION:DISPLAY
DESCRIPTION:[2] Durham/Rosenberger vs. [7] Lamb/Bryles
END:VALARM
END:VEVENT
BEGIN:VEVENT
UID:pupc-62188718-20240319T194500@quickscores.com
DTSTAMP:20260424T151400Z
DTSTART;TZID=America/Chicago:20240319T194500
DURATION:PT0H35M0S
SUMMARY:[4] Riebel/Herbert vs. [5] Donovan/Howell
DESCRIPTION:Latewinter Tuesday Intermediate Lg. - Paddle Up Pickleball Club
LOCATION:Court 3
CATEGORIES:QuickScores, Pickleball Game
TRANSP:OPAQUE
BEGIN:VALARM
TRIGGER:-PT2H
ACTION:DISPLAY
DESCRIPTION:[4] Riebel/Herbert vs. [5] Donovan/Howell
END:VALARM
END:VEVENT
BEGIN:VEVENT
UID:pupc-62188721-20240319T202000@quickscores.com
DTSTAMP:20260424T151400Z
DTSTART;TZID=America/Chicago:20240319T202000
DURATION:PT0H35M0S
SUMMARY:Winner of Game 5 vs. Winner of Game 2
DESCRIPTION:Latewinter Tuesday Intermediate Lg. - Paddle Up Pickleball Club
LOCATION:Court 4
CATEGORIES:QuickScores, Pickleball Game
TRANSP:OPAQUE
BEGIN:VALARM
TRIGGER:-PT2H
ACTION:DISPLAY
DESCRIPTION:Winner of Game 5 vs. Winner of Game 2
END:VALARM
END:VEVENT
BEGIN:VEVENT
UID:pupc-62188722-20240319T202000@quickscores.com
DTSTAMP:20260424T151400Z
DTSTART;TZID=America/Chicago:20240319T202000
DURATION:PT0H35M0S
SUMMARY:Winner of Game 3 vs. Winner of Game 4
DESCRIPTION:Latewinter Tuesday Intermediate Lg. - Paddle Up Pickleball Club
LOCATION:Court 6
CATEGORIES:QuickScores, Pickleball Game
TRANSP:OPAQUE
BEGIN:VALARM
TRIGGER:-PT2H
ACTION:DISPLAY
DESCRIPTION:Winner of Game 3 vs. Winner of Game 4
END:VALARM
END:VEVENT
BEGIN:VEVENT
UID:pupc-62188723-20240319T205500@quickscores.com
DTSTAMP:20260424T151400Z
DTSTART;TZID=America/Chicago:20240319T205500
DURATION:PT0H35M0S
SUMMARY:Winner of Game 6 vs. Winner of Game 7
DESCRIPTION:Latewinter Tuesday Intermediate Lg. - Paddle Up Pickleball Club
LOCATION:Court 1
CATEGORIES:QuickScores, Pickleball Game
TRANSP:OPAQUE
BEGIN:VALARM
TRIGGER:-PT2H
ACTION:DISPLAY
DESCRIPTION:Winner of Game 6 vs. Winner of Game 7
END:VALARM
END:VEVENT
END:VCALENDAR
