BEGIN:VCALENDAR
VERSION:2.0
PRODID:-//QuickScores.com//BQ Dynamic iCal Creator//EN
METHOD:PUBLISH
X-WR-CALNAME:Sunday Coed C2 - 2024 Winter Volleyball
X-WR-CALDESC:QuickScores game calendar
X-PUBLISHED-TTL:PT24H
REFRESH-INTERVAL;VALUE=DURATION:PT24H
CALSCALE:GREGORIAN
BEGIN:VTIMEZONE
TZID:America/Los_Angeles
X-LIC-LOCATION:America/Los_Angeles
BEGIN:DAYLIGHT
TZNAME:PDT
TZOFFSETFROM:-0800
TZOFFSETTO:-0700
DTSTART:19700308T020000
RRULE:FREQ=YEARLY;BYMONTH=3;BYDAY=2SU
END:DAYLIGHT
BEGIN:STANDARD
TZNAME:PST
TZOFFSETFROM:-0700
TZOFFSETTO:-0800
DTSTART:19701101T020000
RRULE:FREQ=YEARLY;BYMONTH=11;BYDAY=1SU
END:STANDARD
END:VTIMEZONE
BEGIN:VEVENT
UID:crpd-61115123-20240107T183000@quickscores.com
DTSTAMP:20260419T150100Z
DTSTART;TZID=America/Los_Angeles:20240107T183000
DURATION:PT1H0M0S
SUMMARY:Serves You Right vs. Can You Dig It?
DESCRIPTION:Sunday Coed C2 - Conejo Recreation and Park District
LOCATION:Thousand Oaks Community Center Court #2
CATEGORIES:QuickScores, Volleyball - Adult Game
TRANSP:OPAQUE
BEGIN:VALARM
TRIGGER:-PT2H
ACTION:DISPLAY
DESCRIPTION:Serves You Right vs. Can You Dig It?
END:VALARM
END:VEVENT
BEGIN:VEVENT
UID:crpd-61115124-20240107T193000@quickscores.com
DTSTAMP:20260419T150100Z
DTSTART;TZID=America/Los_Angeles:20240107T193000
DURATION:PT1H0M0S
SUMMARY:Brahmas vs. Ball Diggers
DESCRIPTION:Sunday Coed C2 - Conejo Recreation and Park District
LOCATION:Thousand Oaks Community Center Court #1
CATEGORIES:QuickScores, Volleyball - Adult Game
TRANSP:OPAQUE
BEGIN:VALARM
TRIGGER:-PT2H
ACTION:DISPLAY
DESCRIPTION:Brahmas vs. Ball Diggers
END:VALARM
END:VEVENT
BEGIN:VEVENT
UID:crpd-61115125-20240107T193000@quickscores.com
DTSTAMP:20260419T150100Z
DTSTART;TZID=America/Los_Angeles:20240107T193000
DURATION:PT1H0M0S
SUMMARY:Joy of Sets vs. Spikeological Warfare
DESCRIPTION:Sunday Coed C2 - Conejo Recreation and Park District
LOCATION:Thousand Oaks Community Center Court #2
CATEGORIES:QuickScores, Volleyball - Adult Game
TRANSP:OPAQUE
BEGIN:VALARM
TRIGGER:-PT2H
ACTION:DISPLAY
DESCRIPTION:Joy of Sets vs. Spikeological Warfare
END:VALARM
END:VEVENT
BEGIN:VEVENT
UID:crpd-61115127-20240114T183000@quickscores.com
DTSTAMP:20260419T150100Z
DTSTART;TZID=America/Los_Angeles:20240114T183000
DURATION:PT1H0M0S
SUMMARY:Ball Diggers vs. Big Dig Energy
DESCRIPTION:Sunday Coed C2 - Conejo Recreation and Park District
LOCATION:Thousand Oaks Community Center Court #2
CATEGORIES:QuickScores, Volleyball - Adult Game
TRANSP:OPAQUE
BEGIN:VALARM
TRIGGER:-PT2H
ACTION:DISPLAY
DESCRIPTION:Ball Diggers vs. Big Dig Energy
END:VALARM
END:VEVENT
BEGIN:VEVENT
UID:crpd-61115128-20240114T193000@quickscores.com
DTSTAMP:20260419T150100Z
DTSTART;TZID=America/Los_Angeles:20240114T193000
DURATION:PT1H0M0S
SUMMARY:Can You Dig It? vs. Joy of Sets
DESCRIPTION:Sunday Coed C2 - Conejo Recreation and Park District
LOCATION:Thousand Oaks Community Center Court #1
CATEGORIES:QuickScores, Volleyball - Adult Game
TRANSP:OPAQUE
BEGIN:VALARM
TRIGGER:-PT2H
ACTION:DISPLAY
DESCRIPTION:Can You Dig It? vs. Joy of Sets
END:VALARM
END:VEVENT
BEGIN:VEVENT
UID:crpd-61115129-20240114T193000@quickscores.com
DTSTAMP:20260419T150100Z
DTSTART;TZID=America/Los_Angeles:20240114T193000
DURATION:PT1H0M0S
SUMMARY:Spikeological Warfare vs. Brahmas
DESCRIPTION:Sunday Coed C2 - Conejo Recreation and Park District
LOCATION:Thousand Oaks Community Center Court #2
CATEGORIES:QuickScores, Volleyball - Adult Game
TRANSP:OPAQUE
BEGIN:VALARM
TRIGGER:-PT2H
ACTION:DISPLAY
DESCRIPTION:Spikeological Warfare vs. Brahmas
END:VALARM
END:VEVENT
BEGIN:VEVENT
UID:crpd-61115131-20240121T183000@quickscores.com
DTSTAMP:20260419T150100Z
DTSTART;TZID=America/Los_Angeles:20240121T183000
DURATION:PT1H0M0S
SUMMARY:Big Dig Energy vs. Brahmas
DESCRIPTION:Sunday Coed C2 - Conejo Recreation and Park District
LOCATION:Thousand Oaks Community Center Court #2
CATEGORIES:QuickScores, Volleyball - Adult Game
TRANSP:OPAQUE
BEGIN:VALARM
TRIGGER:-PT2H
ACTION:DISPLAY
DESCRIPTION:Big Dig Energy vs. Brahmas
END:VALARM
END:VEVENT
BEGIN:VEVENT
UID:crpd-61115132-20240121T193000@quickscores.com
DTSTAMP:20260419T150100Z
DTSTART;TZID=America/Los_Angeles:20240121T193000
DURATION:PT1H0M0S
SUMMARY:Serves You Right vs. Spikeological Warfare
DESCRIPTION:Sunday Coed C2 - Conejo Recreation and Park District
LOCATION:Thousand Oaks Community Center Court #1
CATEGORIES:QuickScores, Volleyball - Adult Game
TRANSP:OPAQUE
BEGIN:VALARM
TRIGGER:-PT2H
ACTION:DISPLAY
DESCRIPTION:Serves You Right vs. Spikeological Warfare
END:VALARM
END:VEVENT
BEGIN:VEVENT
UID:crpd-61115133-20240121T193000@quickscores.com
DTSTAMP:20260419T150100Z
DTSTART;TZID=America/Los_Angeles:20240121T193000
DURATION:PT1H0M0S
SUMMARY:Ball Diggers vs. Joy of Sets
DESCRIPTION:Sunday Coed C2 - Conejo Recreation and Park District
LOCATION:Thousand Oaks Community Center Court #2
CATEGORIES:QuickScores, Volleyball - Adult Game
TRANSP:OPAQUE
BEGIN:VALARM
TRIGGER:-PT2H
ACTION:DISPLAY
DESCRIPTION:Ball Diggers vs. Joy of Sets
END:VALARM
END:VEVENT
BEGIN:VEVENT
UID:crpd-61115135-20240128T183000@quickscores.com
DTSTAMP:20260419T150100Z
DTSTART;TZID=America/Los_Angeles:20240128T183000
DURATION:PT1H0M0S
SUMMARY:Joy of Sets vs. Serves You Right
DESCRIPTION:Sunday Coed C2 - Conejo Recreation and Park District
LOCATION:Thousand Oaks Community Center Court #2
CATEGORIES:QuickScores, Volleyball - Adult Game
TRANSP:OPAQUE
BEGIN:VALARM
TRIGGER:-PT2H
ACTION:DISPLAY
DESCRIPTION:Joy of Sets vs. Serves You Right
END:VALARM
END:VEVENT
BEGIN:VEVENT
UID:crpd-61115137-20240128T193000@quickscores.com
DTSTAMP:20260419T150100Z
DTSTART;TZID=America/Los_Angeles:20240128T193000
DURATION:PT1H0M0S
SUMMARY:Brahmas vs. Can You Dig It?
DESCRIPTION:Sunday Coed C2 - Conejo Recreation and Park District
LOCATION:Thousand Oaks Community Center Court #2
CATEGORIES:QuickScores, Volleyball - Adult Game
TRANSP:OPAQUE
BEGIN:VALARM
TRIGGER:-PT2H
ACTION:DISPLAY
DESCRIPTION:Brahmas vs. Can You Dig It?
END:VALARM
END:VEVENT
BEGIN:VEVENT
UID:crpd-61115136-20240128T193000@quickscores.com
DTSTAMP:20260419T150100Z
DTSTART;TZID=America/Los_Angeles:20240128T193000
DURATION:PT1H0M0S
SUMMARY:Spikeological Warfare vs. Big Dig Energy
DESCRIPTION:Sunday Coed C2 - Conejo Recreation and Park District
LOCATION:Thousand Oaks Community Center Court #1
CATEGORIES:QuickScores, Volleyball - Adult Game
TRANSP:OPAQUE
BEGIN:VALARM
TRIGGER:-PT2H
ACTION:DISPLAY
DESCRIPTION:Spikeological Warfare vs. Big Dig Energy
END:VALARM
END:VEVENT
BEGIN:VEVENT
UID:crpd-61115139-20240204T183000@quickscores.com
DTSTAMP:20260419T150100Z
DTSTART;TZID=America/Los_Angeles:20240204T183000
DURATION:PT1H0M0S
SUMMARY:Can You Dig It? vs. Spikeological Warfare
DESCRIPTION:Sunday Coed C2 - Conejo Recreation and Park District
LOCATION:Thousand Oaks Community Center Court #2
CATEGORIES:QuickScores, Volleyball - Adult Game
TRANSP:OPAQUE
BEGIN:VALARM
TRIGGER:-PT2H
ACTION:DISPLAY
DESCRIPTION:Can You Dig It? vs. Spikeological Warfare
END:VALARM
END:VEVENT
BEGIN:VEVENT
UID:crpd-61115140-20240204T193000@quickscores.com
DTSTAMP:20260419T150100Z
DTSTART;TZID=America/Los_Angeles:20240204T193000
DURATION:PT1H0M0S
SUMMARY:Big Dig Energy vs. Joy of Sets
DESCRIPTION:Sunday Coed C2 - Conejo Recreation and Park District
LOCATION:Thousand Oaks Community Center Court #1
CATEGORIES:QuickScores, Volleyball - Adult Game
TRANSP:OPAQUE
BEGIN:VALARM
TRIGGER:-PT2H
ACTION:DISPLAY
DESCRIPTION:Big Dig Energy vs. Joy of Sets
END:VALARM
END:VEVENT
BEGIN:VEVENT
UID:crpd-61115141-20240204T193000@quickscores.com
DTSTAMP:20260419T150100Z
DTSTART;TZID=America/Los_Angeles:20240204T193000
DURATION:PT1H0M0S
SUMMARY:Serves You Right vs. Ball Diggers
DESCRIPTION:Sunday Coed C2 - Conejo Recreation and Park District
LOCATION:Thousand Oaks Community Center Court #2
CATEGORIES:QuickScores, Volleyball - Adult Game
TRANSP:OPAQUE
BEGIN:VALARM
TRIGGER:-PT2H
ACTION:DISPLAY
DESCRIPTION:Serves You Right vs. Ball Diggers
END:VALARM
END:VEVENT
BEGIN:VEVENT
UID:crpd-61115144-20240225T183000@quickscores.com
DTSTAMP:20260419T150100Z
DTSTART;TZID=America/Los_Angeles:20240225T183000
DURATION:PT1H0M0S
SUMMARY:Brahmas vs. Serves You Right
DESCRIPTION:Sunday Coed C2 - Conejo Recreation and Park District
LOCATION:Thousand Oaks Community Center Court #2
CATEGORIES:QuickScores, Volleyball - Adult Game
TRANSP:OPAQUE
BEGIN:VALARM
TRIGGER:-PT2H
ACTION:DISPLAY
DESCRIPTION:Brahmas vs. Serves You Right
END:VALARM
END:VEVENT
BEGIN:VEVENT
UID:crpd-61115145-20240225T193000@quickscores.com
DTSTAMP:20260419T150100Z
DTSTART;TZID=America/Los_Angeles:20240225T193000
DURATION:PT1H0M0S
SUMMARY:Can You Dig It? vs. Big Dig Energy
DESCRIPTION:Sunday Coed C2 - Conejo Recreation and Park District
LOCATION:Thousand Oaks Community Center Court #2
CATEGORIES:QuickScores, Volleyball - Adult Game
TRANSP:OPAQUE
BEGIN:VALARM
TRIGGER:-PT2H
ACTION:DISPLAY
DESCRIPTION:Can You Dig It? vs. Big Dig Energy
END:VALARM
END:VEVENT
BEGIN:VEVENT
UID:crpd-61115143-20240225T193000@quickscores.com
DTSTAMP:20260419T150100Z
DTSTART;TZID=America/Los_Angeles:20240225T193000
DURATION:PT1H0M0S
SUMMARY:Spikeological Warfare vs. Ball Diggers
DESCRIPTION:Sunday Coed C2 - Conejo Recreation and Park District
LOCATION:Thousand Oaks Community Center Court #1
CATEGORIES:QuickScores, Volleyball - Adult Game
TRANSP:OPAQUE
BEGIN:VALARM
TRIGGER:-PT2H
ACTION:DISPLAY
DESCRIPTION:Spikeological Warfare vs. Ball Diggers
END:VALARM
END:VEVENT
BEGIN:VEVENT
UID:crpd-61115148-20240303T183000@quickscores.com
DTSTAMP:20260419T150100Z
DTSTART;TZID=America/Los_Angeles:20240303T183000
DURATION:PT1H0M0S
SUMMARY:Brahmas vs. Joy of Sets
DESCRIPTION:Sunday Coed C2 - Conejo Recreation and Park District
LOCATION:Thousand Oaks Community Center Court #2
CATEGORIES:QuickScores, Volleyball - Adult Game
TRANSP:OPAQUE
BEGIN:VALARM
TRIGGER:-PT2H
ACTION:DISPLAY
DESCRIPTION:Brahmas vs. Joy of Sets
END:VALARM
END:VEVENT
BEGIN:VEVENT
UID:crpd-61115149-20240303T193000@quickscores.com
DTSTAMP:20260419T150100Z
DTSTART;TZID=America/Los_Angeles:20240303T193000
DURATION:PT1H0M0S
SUMMARY:Can You Dig It? vs. Ball Diggers
DESCRIPTION:Sunday Coed C2 - Conejo Recreation and Park District
LOCATION:Thousand Oaks Community Center Court #1
CATEGORIES:QuickScores, Volleyball - Adult Game
TRANSP:OPAQUE
BEGIN:VALARM
TRIGGER:-PT2H
ACTION:DISPLAY
DESCRIPTION:Can You Dig It? vs. Ball Diggers
END:VALARM
END:VEVENT
BEGIN:VEVENT
UID:crpd-61115147-20240303T193000@quickscores.com
DTSTAMP:20260419T150100Z
DTSTART;TZID=America/Los_Angeles:20240303T193000
DURATION:PT1H0M0S
SUMMARY:Big Dig Energy vs. Serves You Right
DESCRIPTION:Sunday Coed C2 - Conejo Recreation and Park District
LOCATION:Thousand Oaks Community Center Court #2
CATEGORIES:QuickScores, Volleyball - Adult Game
TRANSP:OPAQUE
BEGIN:VALARM
TRIGGER:-PT2H
ACTION:DISPLAY
DESCRIPTION:Big Dig Energy vs. Serves You Right
END:VALARM
END:VEVENT
BEGIN:VEVENT
UID:crpd-61115151-20240310T183000@quickscores.com
DTSTAMP:20260419T150100Z
DTSTART;TZID=America/Los_Angeles:20240310T183000
DURATION:PT1H0M0S
SUMMARY:Brahmas vs. Big Dig Energy
DESCRIPTION:Sunday Coed C2 - Conejo Recreation and Park District
LOCATION:Thousand Oaks Community Center Court #2
CATEGORIES:QuickScores, Volleyball - Adult Game
TRANSP:OPAQUE
BEGIN:VALARM
TRIGGER:-PT2H
ACTION:DISPLAY
DESCRIPTION:Brahmas vs. Big Dig Energy
END:VALARM
END:VEVENT
BEGIN:VEVENT
UID:crpd-61115153-20240310T193000@quickscores.com
DTSTAMP:20260419T150100Z
DTSTART;TZID=America/Los_Angeles:20240310T193000
DURATION:PT1H0M0S
SUMMARY:Joy of Sets vs. Ball Diggers
DESCRIPTION:Sunday Coed C2 - Conejo Recreation and Park District
LOCATION:Thousand Oaks Community Center Court #2
CATEGORIES:QuickScores, Volleyball - Adult Game
TRANSP:OPAQUE
BEGIN:VALARM
TRIGGER:-PT2H
ACTION:DISPLAY
DESCRIPTION:Joy of Sets vs. Ball Diggers
END:VALARM
END:VEVENT
BEGIN:VEVENT
UID:crpd-61115152-20240310T193000@quickscores.com
DTSTAMP:20260419T150100Z
DTSTART;TZID=America/Los_Angeles:20240310T193000
DURATION:PT1H0M0S
SUMMARY:Spikeological Warfare vs. Serves You Right
DESCRIPTION:Sunday Coed C2 - Conejo Recreation and Park District
LOCATION:Thousand Oaks Community Center Court #1
CATEGORIES:QuickScores, Volleyball - Adult Game
TRANSP:OPAQUE
BEGIN:VALARM
TRIGGER:-PT2H
ACTION:DISPLAY
DESCRIPTION:Spikeological Warfare vs. Serves You Right
END:VALARM
END:VEVENT
BEGIN:VEVENT
UID:crpd-61115155-20240317T183000@quickscores.com
DTSTAMP:20260419T150100Z
DTSTART;TZID=America/Los_Angeles:20240317T183000
DURATION:PT1H0M0S
SUMMARY:Serves You Right vs. Joy of Sets
DESCRIPTION:Sunday Coed C2 - Conejo Recreation and Park District
LOCATION:Thousand Oaks Community Center Court #2
CATEGORIES:QuickScores, Volleyball - Adult Game
TRANSP:OPAQUE
BEGIN:VALARM
TRIGGER:-PT2H
ACTION:DISPLAY
DESCRIPTION:Serves You Right vs. Joy of Sets
END:VALARM
END:VEVENT
BEGIN:VEVENT
UID:crpd-61115157-20240317T193000@quickscores.com
DTSTAMP:20260419T150100Z
DTSTART;TZID=America/Los_Angeles:20240317T193000
DURATION:PT1H0M0S
SUMMARY:Can You Dig It? vs. Brahmas
DESCRIPTION:Sunday Coed C2 - Conejo Recreation and Park District
LOCATION:Thousand Oaks Community Center Court #1
CATEGORIES:QuickScores, Volleyball - Adult Game
TRANSP:OPAQUE
BEGIN:VALARM
TRIGGER:-PT2H
ACTION:DISPLAY
DESCRIPTION:Can You Dig It? vs. Brahmas
END:VALARM
END:VEVENT
BEGIN:VEVENT
UID:crpd-61115156-20240317T193000@quickscores.com
DTSTAMP:20260419T150100Z
DTSTART;TZID=America/Los_Angeles:20240317T193000
DURATION:PT1H0M0S
SUMMARY:Big Dig Energy vs. Spikeological Warfare
DESCRIPTION:Sunday Coed C2 - Conejo Recreation and Park District
LOCATION:Thousand Oaks Community Center Court #2
CATEGORIES:QuickScores, Volleyball - Adult Game
TRANSP:OPAQUE
BEGIN:VALARM
TRIGGER:-PT2H
ACTION:DISPLAY
DESCRIPTION:Big Dig Energy vs. Spikeological Warfare
END:VALARM
END:VEVENT
BEGIN:VEVENT
UID:crpd-61115159-20240324T183000@quickscores.com
DTSTAMP:20260419T150100Z
DTSTART;TZID=America/Los_Angeles:20240324T183000
DURATION:PT1H0M0S
SUMMARY:Spikeological Warfare vs. Can You Dig It?
DESCRIPTION:Sunday Coed C2 - Conejo Recreation and Park District
LOCATION:Thousand Oaks Community Center Court #2
CATEGORIES:QuickScores, Volleyball - Adult Game
TRANSP:OPAQUE
BEGIN:VALARM
TRIGGER:-PT2H
ACTION:DISPLAY
DESCRIPTION:Spikeological Warfare vs. Can You Dig It?
END:VALARM
END:VEVENT
BEGIN:VEVENT
UID:crpd-61115160-20240324T193000@quickscores.com
DTSTAMP:20260419T150100Z
DTSTART;TZID=America/Los_Angeles:20240324T193000
DURATION:PT1H0M0S
SUMMARY:Joy of Sets vs. Big Dig Energy
DESCRIPTION:Sunday Coed C2 - Conejo Recreation and Park District
LOCATION:Thousand Oaks Community Center Court #1
CATEGORIES:QuickScores, Volleyball - Adult Game
TRANSP:OPAQUE
BEGIN:VALARM
TRIGGER:-PT2H
ACTION:DISPLAY
DESCRIPTION:Joy of Sets vs. Big Dig Energy
END:VALARM
END:VEVENT
BEGIN:VEVENT
UID:crpd-61115161-20240324T193000@quickscores.com
DTSTAMP:20260419T150100Z
DTSTART;TZID=America/Los_Angeles:20240324T193000
DURATION:PT1H0M0S
SUMMARY:Ball Diggers vs. Serves You Right
DESCRIPTION:Sunday Coed C2 - Conejo Recreation and Park District
LOCATION:Thousand Oaks Community Center Court #2
CATEGORIES:QuickScores, Volleyball - Adult Game
TRANSP:OPAQUE
BEGIN:VALARM
TRIGGER:-PT2H
ACTION:DISPLAY
DESCRIPTION:Ball Diggers vs. Serves You Right
END:VALARM
END:VEVENT
BEGIN:VEVENT
UID:crpd-61115163-20240407T163000@quickscores.com
DTSTAMP:20260419T150100Z
DTSTART;TZID=America/Los_Angeles:20240407T163000
DURATION:PT1H0M0S
SUMMARY:Ball Diggers vs. Spikeological Warfare
DESCRIPTION:Sunday Coed C2 - Conejo Recreation and Park District
LOCATION:Thousand Oaks Community Center Court #2
CATEGORIES:QuickScores, Volleyball - Adult Game
TRANSP:OPAQUE
BEGIN:VALARM
TRIGGER:-PT2H
ACTION:DISPLAY
DESCRIPTION:Ball Diggers vs. Spikeological Warfare
END:VALARM
END:VEVENT
BEGIN:VEVENT
UID:crpd-61115165-20240407T173000@quickscores.com
DTSTAMP:20260419T150100Z
DTSTART;TZID=America/Los_Angeles:20240407T173000
DURATION:PT1H0M0S
SUMMARY:Big Dig Energy vs. Can You Dig It?
DESCRIPTION:Sunday Coed C2 - Conejo Recreation and Park District
LOCATION:Thousand Oaks Community Center Court #2
CATEGORIES:QuickScores, Volleyball - Adult Game
TRANSP:OPAQUE
BEGIN:VALARM
TRIGGER:-PT2H
ACTION:DISPLAY
DESCRIPTION:Big Dig Energy vs. Can You Dig It?
END:VALARM
END:VEVENT
BEGIN:VEVENT
UID:crpd-61115164-20240407T183000@quickscores.com
DTSTAMP:20260419T150100Z
DTSTART;TZID=America/Los_Angeles:20240407T183000
DURATION:PT1H0M0S
SUMMARY:Serves You Right vs. Brahmas
DESCRIPTION:Sunday Coed C2 - Conejo Recreation and Park District
LOCATION:Thousand Oaks Community Center Court #2
CATEGORIES:QuickScores, Volleyball - Adult Game
TRANSP:OPAQUE
BEGIN:VALARM
TRIGGER:-PT2H
ACTION:DISPLAY
DESCRIPTION:Serves You Right vs. Brahmas
END:VALARM
END:VEVENT
BEGIN:VEVENT
UID:crpd-61115168-20240414T163000@quickscores.com
DTSTAMP:20260419T150100Z
DTSTART;TZID=America/Los_Angeles:20240414T163000
DURATION:PT1H0M0S
SUMMARY:Ball Diggers vs. Can You Dig It?
DESCRIPTION:Sunday Coed C2 - Conejo Recreation and Park District
LOCATION:Thousand Oaks Community Center Court #1
CATEGORIES:QuickScores, Volleyball - Adult Game
TRANSP:OPAQUE
BEGIN:VALARM
TRIGGER:-PT2H
ACTION:DISPLAY
DESCRIPTION:Ball Diggers vs. Can You Dig It?
END:VALARM
END:VEVENT
BEGIN:VEVENT
UID:crpd-61115167-20240414T173000@quickscores.com
DTSTAMP:20260419T150100Z
DTSTART;TZID=America/Los_Angeles:20240414T173000
DURATION:PT1H0M0S
SUMMARY:Joy of Sets vs. Brahmas
DESCRIPTION:Sunday Coed C2 - Conejo Recreation and Park District
LOCATION:Thousand Oaks Community Center Court #1
CATEGORIES:QuickScores, Volleyball - Adult Game
TRANSP:OPAQUE
BEGIN:VALARM
TRIGGER:-PT2H
ACTION:DISPLAY
DESCRIPTION:Joy of Sets vs. Brahmas
END:VALARM
END:VEVENT
END:VCALENDAR
