BEGIN:VCALENDAR
VERSION:2.0
PRODID:-//QuickScores.com//BQ Dynamic iCal Creator//EN
METHOD:PUBLISH
X-WR-CALNAME:Men 50 Aaa - 2023 ISSA Winter Worlds & USA Championships
X-WR-CALDESC:QuickScores game calendar
X-PUBLISHED-TTL:PT24H
REFRESH-INTERVAL;VALUE=DURATION:PT24H
CALSCALE:GREGORIAN
BEGIN:VTIMEZONE
TZID:America/New_York
X-LIC-LOCATION:America/New_York
BEGIN:DAYLIGHT
TZNAME:EDT
TZOFFSETFROM:-0500
TZOFFSETTO:-0400
DTSTART:19700308T020000
RRULE:FREQ=YEARLY;BYMONTH=3;BYDAY=2SU
END:DAYLIGHT
BEGIN:STANDARD
TZNAME:EST
TZOFFSETFROM:-0400
TZOFFSETTO:-0500
DTSTART:19701101T020000
RRULE:FREQ=YEARLY;BYMONTH=11;BYDAY=1SU
END:STANDARD
END:VTIMEZONE
BEGIN:VEVENT
UID:issa-60295987-20231103T130000@quickscores.com
DTSTAMP:20260421T034500Z
DTSTART;TZID=America/New_York:20231103T130000
DURATION:PT1H30M0S
SUMMARY:HEX.COM/Misfits vs. Bangers
DESCRIPTION:Men 50 Aaa - International Senior Softball Association<br>ISSA
LOCATION:BSC-B2
CATEGORIES:QuickScores, Softball Game
TRANSP:OPAQUE
BEGIN:VALARM
TRIGGER:-PT2H
ACTION:DISPLAY
DESCRIPTION:HEX.COM/Misfits vs. Bangers
END:VALARM
END:VEVENT
BEGIN:VEVENT
UID:issa-60295981-20231103T130000@quickscores.com
DTSTAMP:20260421T034500Z
DTSTART;TZID=America/New_York:20231103T130000
DURATION:PT1H30M0S
SUMMARY:Palmetto Mutiny vs. Tennessee Select/LP Sports 50's
DESCRIPTION:USA Championship Game --- Men 50 Aaa - International Senior Softball Association<br>ISSA
LOCATION:BSC-B3
CATEGORIES:QuickScores, Softball Game
TRANSP:OPAQUE
BEGIN:VALARM
TRIGGER:-PT2H
ACTION:DISPLAY
DESCRIPTION:Palmetto Mutiny vs. Tennessee Select/LP Sports 50's
END:VALARM
END:VEVENT
BEGIN:VEVENT
UID:issa-60295982-20231103T130000@quickscores.com
DTSTAMP:20260421T034500Z
DTSTART;TZID=America/New_York:20231103T130000
DURATION:PT1H30M0S
SUMMARY:Men of Honor vs. Reapers
DESCRIPTION:Men 50 Aaa - International Senior Softball Association<br>ISSA
LOCATION:BSC-B4
CATEGORIES:QuickScores, Softball Game
TRANSP:OPAQUE
BEGIN:VALARM
TRIGGER:-PT2H
ACTION:DISPLAY
DESCRIPTION:Men of Honor vs. Reapers
END:VALARM
END:VEVENT
BEGIN:VEVENT
UID:issa-60295978-20231103T143000@quickscores.com
DTSTAMP:20260421T034500Z
DTSTART;TZID=America/New_York:20231103T143000
DURATION:PT1H30M0S
SUMMARY:Backside vs. Men of Honor
DESCRIPTION:Men 50 Aaa - International Senior Softball Association<br>ISSA
LOCATION:BSC-B4
CATEGORIES:QuickScores, Softball Game
TRANSP:OPAQUE
BEGIN:VALARM
TRIGGER:-PT2H
ACTION:DISPLAY
DESCRIPTION:Backside vs. Men of Honor
END:VALARM
END:VEVENT
BEGIN:VEVENT
UID:issa-60295985-20231103T143000@quickscores.com
DTSTAMP:20260421T034500Z
DTSTART;TZID=America/New_York:20231103T143000
DURATION:PT1H30M0S
SUMMARY:MC Improvements vs. Palmetto Mutiny
DESCRIPTION:USA Championship Game --- Men 50 Aaa - International Senior Softball Association<br>ISSA
LOCATION:BSC-B3
CATEGORIES:QuickScores, Softball Game
TRANSP:OPAQUE
BEGIN:VALARM
TRIGGER:-PT2H
ACTION:DISPLAY
DESCRIPTION:MC Improvements vs. Palmetto Mutiny
END:VALARM
END:VEVENT
BEGIN:VEVENT
UID:issa-60295979-20231103T143000@quickscores.com
DTSTAMP:20260421T034500Z
DTSTART;TZID=America/New_York:20231103T143000
DURATION:PT1H30M0S
SUMMARY:Bangers vs. Dirty Sports Seniors
DESCRIPTION:Men 50 Aaa - International Senior Softball Association<br>ISSA
LOCATION:BSC-B2
CATEGORIES:QuickScores, Softball Game
TRANSP:OPAQUE
BEGIN:VALARM
TRIGGER:-PT2H
ACTION:DISPLAY
DESCRIPTION:Bangers vs. Dirty Sports Seniors
END:VALARM
END:VEVENT
BEGIN:VEVENT
UID:issa-60295984-20231103T160000@quickscores.com
DTSTAMP:20260421T034500Z
DTSTART;TZID=America/New_York:20231103T160000
DURATION:PT1H30M0S
SUMMARY:Tennessee Select/LP Sports 50's vs. MC Improvements
DESCRIPTION:USA Championship Game --- Men 50 Aaa - International Senior Softball Association<br>ISSA
LOCATION:BSC-B3
CATEGORIES:QuickScores, Softball Game
TRANSP:OPAQUE
BEGIN:VALARM
TRIGGER:-PT2H
ACTION:DISPLAY
DESCRIPTION:Tennessee Select/LP Sports 50's vs. MC Improvements
END:VALARM
END:VEVENT
BEGIN:VEVENT
UID:issa-60295986-20231103T160000@quickscores.com
DTSTAMP:20260421T034500Z
DTSTART;TZID=America/New_York:20231103T160000
DURATION:PT1H30M0S
SUMMARY:Reapers vs. Backside
DESCRIPTION:Men 50 Aaa - International Senior Softball Association<br>ISSA
LOCATION:BSC-B4
CATEGORIES:QuickScores, Softball Game
TRANSP:OPAQUE
BEGIN:VALARM
TRIGGER:-PT2H
ACTION:DISPLAY
DESCRIPTION:Reapers vs. Backside
END:VALARM
END:VEVENT
BEGIN:VEVENT
UID:issa-60295983-20231103T173000@quickscores.com
DTSTAMP:20260421T034500Z
DTSTART;TZID=America/New_York:20231103T173000
DURATION:PT1H30M0S
SUMMARY:Dirty Sports Seniors vs. HEX.COM/Misfits
DESCRIPTION:Men 50 Aaa - International Senior Softball Association<br>ISSA
LOCATION:BSC-B3
CATEGORIES:QuickScores, Softball Game
TRANSP:OPAQUE
BEGIN:VALARM
TRIGGER:-PT2H
ACTION:DISPLAY
DESCRIPTION:Dirty Sports Seniors vs. HEX.COM/Misfits
END:VALARM
END:VEVENT
BEGIN:VEVENT
UID:issa-60296025-20231104T083000@quickscores.com
DTSTAMP:20260421T034500Z
DTSTART;TZID=America/New_York:20231104T083000
DURATION:PT1H30M0S
SUMMARY:[C3] Dirty Sports Seniors vs. [B3] Men of Honor
DESCRIPTION:Men 50 Aaa - International Senior Softball Association<br>ISSA
LOCATION:BSC-B1
CATEGORIES:QuickScores, Softball Game
TRANSP:OPAQUE
BEGIN:VALARM
TRIGGER:-PT2H
ACTION:DISPLAY
DESCRIPTION:[C3] Dirty Sports Seniors vs. [B3] Men of Honor
END:VALARM
END:VEVENT
BEGIN:VEVENT
UID:issa-60296035-20231104T100000@quickscores.com
DTSTAMP:20260421T034500Z
DTSTART;TZID=America/New_York:20231104T100000
DURATION:PT1H30M0S
SUMMARY:[A3] Tennessee Select/LP Sports 50's vs. [C2] Bangers
DESCRIPTION:Men 50 Aaa - International Senior Softball Association<br>ISSA
LOCATION:BSC-B2
CATEGORIES:QuickScores, Softball Game
TRANSP:OPAQUE
BEGIN:VALARM
TRIGGER:-PT2H
ACTION:DISPLAY
DESCRIPTION:[A3] Tennessee Select/LP Sports 50's vs. [C2] Bangers
END:VALARM
END:VEVENT
BEGIN:VEVENT
UID:issa-60296034-20231104T100000@quickscores.com
DTSTAMP:20260421T034500Z
DTSTART;TZID=America/New_York:20231104T100000
DURATION:PT1H30M0S
SUMMARY:[A2] MC Improvements vs. [B2] Reapers
DESCRIPTION:Men 50 Aaa - International Senior Softball Association<br>ISSA
LOCATION:BSC-B1
CATEGORIES:QuickScores, Softball Game
TRANSP:OPAQUE
BEGIN:VALARM
TRIGGER:-PT2H
ACTION:DISPLAY
DESCRIPTION:[A2] MC Improvements vs. [B2] Reapers
END:VALARM
END:VEVENT
BEGIN:VEVENT
UID:issa-60296033-20231104T100000@quickscores.com
DTSTAMP:20260421T034500Z
DTSTART;TZID=America/New_York:20231104T100000
DURATION:PT1H30M0S
SUMMARY:[C1] HEX.COM/Misfits vs. [B1] Backside
DESCRIPTION:Men 50 Aaa - International Senior Softball Association<br>ISSA
LOCATION:BSC-B3
CATEGORIES:QuickScores, Softball Game
TRANSP:OPAQUE
BEGIN:VALARM
TRIGGER:-PT2H
ACTION:DISPLAY
DESCRIPTION:[C1] HEX.COM/Misfits vs. [B1] Backside
END:VALARM
END:VEVENT
BEGIN:VEVENT
UID:issa-60296032-20231104T113000@quickscores.com
DTSTAMP:20260421T034500Z
DTSTART;TZID=America/New_York:20231104T113000
DURATION:PT1H30M0S
SUMMARY:[A1] Palmetto Mutiny vs. [C3] Dirty Sports Seniors
DESCRIPTION:Men 50 Aaa - International Senior Softball Association<br>ISSA
LOCATION:BSC-B3
CATEGORIES:QuickScores, Softball Game
TRANSP:OPAQUE
BEGIN:VALARM
TRIGGER:-PT2H
ACTION:DISPLAY
DESCRIPTION:[A1] Palmetto Mutiny vs. [C3] Dirty Sports Seniors
END:VALARM
END:VEVENT
BEGIN:VEVENT
UID:issa-60296040-20231104T113000@quickscores.com
DTSTAMP:20260421T034500Z
DTSTART;TZID=America/New_York:20231104T113000
DURATION:PT1H30M0S
SUMMARY:[C2] Bangers vs. [B3] Men of Honor
DESCRIPTION:Men 50 Aaa - International Senior Softball Association<br>ISSA
LOCATION:BSC-B2
CATEGORIES:QuickScores, Softball Game
TRANSP:OPAQUE
BEGIN:VALARM
TRIGGER:-PT2H
ACTION:DISPLAY
DESCRIPTION:[C2] Bangers vs. [B3] Men of Honor
END:VALARM
END:VEVENT
BEGIN:VEVENT
UID:issa-60296045-20231104T130000@quickscores.com
DTSTAMP:20260421T034500Z
DTSTART;TZID=America/New_York:20231104T130000
DURATION:PT1H30M0S
SUMMARY:[A2] MC Improvements vs. [A3] Tennessee Select/LP Sports 50's
DESCRIPTION:Men 50 Aaa - International Senior Softball Association<br>ISSA
LOCATION:BSC-B1
CATEGORIES:QuickScores, Softball Game
TRANSP:OPAQUE
BEGIN:VALARM
TRIGGER:-PT2H
ACTION:DISPLAY
DESCRIPTION:[A2] MC Improvements vs. [A3] Tennessee Select/LP Sports 50's
END:VALARM
END:VEVENT
BEGIN:VEVENT
UID:issa-60296044-20231104T143000@quickscores.com
DTSTAMP:20260421T034500Z
DTSTART;TZID=America/New_York:20231104T143000
DURATION:PT1H30M0S
SUMMARY:[C3] Dirty Sports Seniors vs. [B1] Backside
DESCRIPTION:Men 50 Aaa - International Senior Softball Association<br>ISSA
LOCATION:BSC-B5
CATEGORIES:QuickScores, Softball Game
TRANSP:OPAQUE
BEGIN:VALARM
TRIGGER:-PT2H
ACTION:DISPLAY
DESCRIPTION:[C3] Dirty Sports Seniors vs. [B1] Backside
END:VALARM
END:VEVENT
BEGIN:VEVENT
UID:issa-60296046-20231104T143000@quickscores.com
DTSTAMP:20260421T034500Z
DTSTART;TZID=America/New_York:20231104T143000
DURATION:PT1H30M0S
SUMMARY:[C2] Bangers vs. [B2] Reapers
DESCRIPTION:Men 50 Aaa - International Senior Softball Association<br>ISSA
LOCATION:BSC-B2
CATEGORIES:QuickScores, Softball Game
TRANSP:OPAQUE
BEGIN:VALARM
TRIGGER:-PT2H
ACTION:DISPLAY
DESCRIPTION:[C2] Bangers vs. [B2] Reapers
END:VALARM
END:VEVENT
BEGIN:VEVENT
UID:issa-60296050-20231104T160000@quickscores.com
DTSTAMP:20260421T034500Z
DTSTART;TZID=America/New_York:20231104T160000
DURATION:PT1H30M0S
SUMMARY:[B1] Backside vs. [A2] MC Improvements
DESCRIPTION:Men 50 Aaa - International Senior Softball Association<br>ISSA
LOCATION:BSC-B5
CATEGORIES:QuickScores, Softball Game
TRANSP:OPAQUE
BEGIN:VALARM
TRIGGER:-PT2H
ACTION:DISPLAY
DESCRIPTION:[B1] Backside vs. [A2] MC Improvements
END:VALARM
END:VEVENT
BEGIN:VEVENT
UID:issa-60296048-20231104T160000@quickscores.com
DTSTAMP:20260421T034500Z
DTSTART;TZID=America/New_York:20231104T160000
DURATION:PT1H30M0S
SUMMARY:[C3] Dirty Sports Seniors vs. [C2] Bangers
DESCRIPTION:Men 50 Aaa - International Senior Softball Association<br>ISSA
LOCATION:BSC-B2
CATEGORIES:QuickScores, Softball Game
TRANSP:OPAQUE
BEGIN:VALARM
TRIGGER:-PT2H
ACTION:DISPLAY
DESCRIPTION:[C3] Dirty Sports Seniors vs. [C2] Bangers
END:VALARM
END:VEVENT
BEGIN:VEVENT
UID:issa-60296047-20231104T160000@quickscores.com
DTSTAMP:20260421T034500Z
DTSTART;TZID=America/New_York:20231104T160000
DURATION:PT1H30M0S
SUMMARY:[C1] HEX.COM/Misfits vs. [A1] Palmetto Mutiny
DESCRIPTION:Men 50 Aaa - International Senior Softball Association<br>ISSA
LOCATION:BSC-B3
CATEGORIES:QuickScores, Softball Game
TRANSP:OPAQUE
BEGIN:VALARM
TRIGGER:-PT2H
ACTION:DISPLAY
DESCRIPTION:[C1] HEX.COM/Misfits vs. [A1] Palmetto Mutiny
END:VALARM
END:VEVENT
BEGIN:VEVENT
UID:issa-60296049-20231104T173000@quickscores.com
DTSTAMP:20260421T034500Z
DTSTART;TZID=America/New_York:20231104T173000
DURATION:PT1H30M0S
SUMMARY:[A3] Tennessee Select/LP Sports 50's vs. [A1] Palmetto Mutiny
DESCRIPTION:Men 50 Aaa - International Senior Softball Association<br>ISSA
LOCATION:BSC-B3
CATEGORIES:QuickScores, Softball Game
TRANSP:OPAQUE
BEGIN:VALARM
TRIGGER:-PT2H
ACTION:DISPLAY
DESCRIPTION:[A3] Tennessee Select/LP Sports 50's vs. [A1] Palmetto Mutiny
END:VALARM
END:VEVENT
BEGIN:VEVENT
UID:issa-60296051-20231105T083000@quickscores.com
DTSTAMP:20260421T034500Z
DTSTART;TZID=America/New_York:20231105T083000
DURATION:PT1H30M0S
SUMMARY:[C2] Bangers vs. [A1] Palmetto Mutiny
DESCRIPTION:Men 50 Aaa - International Senior Softball Association<br>ISSA
LOCATION:BSC-B5
CATEGORIES:QuickScores, Softball Game
TRANSP:OPAQUE
BEGIN:VALARM
TRIGGER:-PT2H
ACTION:DISPLAY
DESCRIPTION:[C2] Bangers vs. [A1] Palmetto Mutiny
END:VALARM
END:VEVENT
BEGIN:VEVENT
UID:issa-60296052-20231105T100000@quickscores.com
DTSTAMP:20260421T034500Z
DTSTART;TZID=America/New_York:20231105T100000
DURATION:PT1H30M0S
SUMMARY:[B1] Backside vs. [A1] Palmetto Mutiny
DESCRIPTION:Men 50 Aaa - International Senior Softball Association<br>ISSA
LOCATION:BSC-B5
CATEGORIES:QuickScores, Softball Game
TRANSP:OPAQUE
BEGIN:VALARM
TRIGGER:-PT2H
ACTION:DISPLAY
DESCRIPTION:[B1] Backside vs. [A1] Palmetto Mutiny
END:VALARM
END:VEVENT
BEGIN:VEVENT
UID:issa-60296053-20231105T113000@quickscores.com
DTSTAMP:20260421T034500Z
DTSTART;TZID=America/New_York:20231105T113000
DURATION:PT1H30M0S
SUMMARY:[A2] MC Improvements vs. [A1] Palmetto Mutiny
DESCRIPTION:Men 50 Aaa - International Senior Softball Association<br>ISSA
LOCATION:BSC-B5
CATEGORIES:QuickScores, Softball Game
TRANSP:OPAQUE
BEGIN:VALARM
TRIGGER:-PT2H
ACTION:DISPLAY
DESCRIPTION:[A2] MC Improvements vs. [A1] Palmetto Mutiny
END:VALARM
END:VEVENT
END:VCALENDAR
