BEGIN:VCALENDAR
VERSION:2.0
PRODID:-//QuickScores.com//BQ Dynamic iCal Creator//EN
METHOD:PUBLISH
X-WR-CALNAME:Fall 2023 Adult League Softball - Fall 2023
X-WR-CALDESC:QuickScores game calendar
X-PUBLISHED-TTL:PT24H
REFRESH-INTERVAL;VALUE=DURATION:PT24H
CALSCALE:GREGORIAN
BEGIN:VTIMEZONE
TZID:America/New_York
X-LIC-LOCATION:America/New_York
BEGIN:DAYLIGHT
TZNAME:EDT
TZOFFSETFROM:-0500
TZOFFSETTO:-0400
DTSTART:19700308T020000
RRULE:FREQ=YEARLY;BYMONTH=3;BYDAY=2SU
END:DAYLIGHT
BEGIN:STANDARD
TZNAME:EST
TZOFFSETFROM:-0400
TZOFFSETTO:-0500
DTSTART:19701101T020000
RRULE:FREQ=YEARLY;BYMONTH=11;BYDAY=1SU
END:STANDARD
END:VTIMEZONE
BEGIN:VEVENT
UID:wheelingwv-59366693-20230820T090000@quickscores.com
DTSTAMP:20260422T075600Z
DTSTART;TZID=America/New_York:20230820T090000
DURATION:PT1H0M0S
SUMMARY:John's Bombers vs. Wheeling Fire
DESCRIPTION:Fall 2023 Adult League Softball - Wheeling, WV Parks and Recreation
LOCATION:35th Street, South Wheeling
CATEGORIES:QuickScores, Softball - Adult Game
TRANSP:OPAQUE
BEGIN:VALARM
TRIGGER:-PT2H
ACTION:DISPLAY
DESCRIPTION:John's Bombers vs. Wheeling Fire
END:VALARM
END:VEVENT
BEGIN:VEVENT
UID:wheelingwv-59366697-20230820T100000@quickscores.com
DTSTAMP:20260422T075600Z
DTSTART;TZID=America/New_York:20230820T100000
DURATION:PT1H0M0S
SUMMARY:Wheeling Fire vs. John's Bombers
DESCRIPTION:Fall 2023 Adult League Softball - Wheeling, WV Parks and Recreation
LOCATION:35th Street, South Wheeling
CATEGORIES:QuickScores, Softball - Adult Game
TRANSP:OPAQUE
BEGIN:VALARM
TRIGGER:-PT2H
ACTION:DISPLAY
DESCRIPTION:Wheeling Fire vs. John's Bombers
END:VALARM
END:VEVENT
BEGIN:VEVENT
UID:wheelingwv-59366695-20230820T110000@quickscores.com
DTSTAMP:20260422T075600Z
DTSTART;TZID=America/New_York:20230820T110000
DURATION:PT1H0M0S
SUMMARY:Chaos vs. PAP Club
DESCRIPTION:Fall 2023 Adult League Softball - Wheeling, WV Parks and Recreation
LOCATION:35th Street, South Wheeling
CATEGORIES:QuickScores, Softball - Adult Game
TRANSP:OPAQUE
BEGIN:VALARM
TRIGGER:-PT2H
ACTION:DISPLAY
DESCRIPTION:Chaos vs. PAP Club
END:VALARM
END:VEVENT
BEGIN:VEVENT
UID:wheelingwv-59366698-20230820T120000@quickscores.com
DTSTAMP:20260422T075600Z
DTSTART;TZID=America/New_York:20230820T120000
DURATION:PT1H0M0S
SUMMARY:PAP Club vs. Chaos
DESCRIPTION:Fall 2023 Adult League Softball - Wheeling, WV Parks and Recreation
LOCATION:35th Street, South Wheeling
CATEGORIES:QuickScores, Softball - Adult Game
TRANSP:OPAQUE
BEGIN:VALARM
TRIGGER:-PT2H
ACTION:DISPLAY
DESCRIPTION:PAP Club vs. Chaos
END:VALARM
END:VEVENT
BEGIN:VEVENT
UID:wheelingwv-59366694-20230820T130000@quickscores.com
DTSTAMP:20260422T075600Z
DTSTART;TZID=America/New_York:20230820T130000
DURATION:PT1H0M0S
SUMMARY:The Voo Doo Lounge vs. Taylor's Preowned Autos
DESCRIPTION:Fall 2023 Adult League Softball - Wheeling, WV Parks and Recreation
LOCATION:35th Street, South Wheeling
CATEGORIES:QuickScores, Softball - Adult Game
TRANSP:OPAQUE
BEGIN:VALARM
TRIGGER:-PT2H
ACTION:DISPLAY
DESCRIPTION:The Voo Doo Lounge vs. Taylor's Preowned Autos
END:VALARM
END:VEVENT
BEGIN:VEVENT
UID:wheelingwv-59366696-20230820T140000@quickscores.com
DTSTAMP:20260422T075600Z
DTSTART;TZID=America/New_York:20230820T140000
DURATION:PT1H0M0S
SUMMARY:Taylor's Preowned Autos vs. The Voo Doo Lounge
DESCRIPTION:Fall 2023 Adult League Softball - Wheeling, WV Parks and Recreation
LOCATION:35th Street, South Wheeling
CATEGORIES:QuickScores, Softball - Adult Game
TRANSP:OPAQUE
BEGIN:VALARM
TRIGGER:-PT2H
ACTION:DISPLAY
DESCRIPTION:Taylor's Preowned Autos vs. The Voo Doo Lounge
END:VALARM
END:VEVENT
BEGIN:VEVENT
UID:wheelingwv-59366701-20230827T090000@quickscores.com
DTSTAMP:20260422T075600Z
DTSTART;TZID=America/New_York:20230827T090000
DURATION:PT1H0M0S
SUMMARY:Taylor's Preowned Autos vs. Chaos
DESCRIPTION:Fall 2023 Adult League Softball - Wheeling, WV Parks and Recreation
LOCATION:35th Street, South Wheeling
CATEGORIES:QuickScores, Softball - Adult Game
TRANSP:OPAQUE
BEGIN:VALARM
TRIGGER:-PT2H
ACTION:DISPLAY
DESCRIPTION:Taylor's Preowned Autos vs. Chaos
END:VALARM
END:VEVENT
BEGIN:VEVENT
UID:wheelingwv-59366702-20230827T100000@quickscores.com
DTSTAMP:20260422T075600Z
DTSTART;TZID=America/New_York:20230827T100000
DURATION:PT1H0M0S
SUMMARY:Chaos vs. Taylor's Preowned Autos
DESCRIPTION:Fall 2023 Adult League Softball - Wheeling, WV Parks and Recreation
LOCATION:35th Street, South Wheeling
CATEGORIES:QuickScores, Softball - Adult Game
TRANSP:OPAQUE
BEGIN:VALARM
TRIGGER:-PT2H
ACTION:DISPLAY
DESCRIPTION:Chaos vs. Taylor's Preowned Autos
END:VALARM
END:VEVENT
BEGIN:VEVENT
UID:wheelingwv-59366700-20230827T110000@quickscores.com
DTSTAMP:20260422T075600Z
DTSTART;TZID=America/New_York:20230827T110000
DURATION:PT1H0M0S
SUMMARY:John's Bombers vs. PAP Club
DESCRIPTION:Fall 2023 Adult League Softball - Wheeling, WV Parks and Recreation
LOCATION:35th Street, South Wheeling
CATEGORIES:QuickScores, Softball - Adult Game
TRANSP:OPAQUE
BEGIN:VALARM
TRIGGER:-PT2H
ACTION:DISPLAY
DESCRIPTION:John's Bombers vs. PAP Club
END:VALARM
END:VEVENT
BEGIN:VEVENT
UID:wheelingwv-59366703-20230827T120000@quickscores.com
DTSTAMP:20260422T075600Z
DTSTART;TZID=America/New_York:20230827T120000
DURATION:PT1H0M0S
SUMMARY:PAP Club vs. John's Bombers
DESCRIPTION:Fall 2023 Adult League Softball - Wheeling, WV Parks and Recreation
LOCATION:35th Street, South Wheeling
CATEGORIES:QuickScores, Softball - Adult Game
TRANSP:OPAQUE
BEGIN:VALARM
TRIGGER:-PT2H
ACTION:DISPLAY
DESCRIPTION:PAP Club vs. John's Bombers
END:VALARM
END:VEVENT
BEGIN:VEVENT
UID:wheelingwv-59366699-20230827T130000@quickscores.com
DTSTAMP:20260422T075600Z
DTSTART;TZID=America/New_York:20230827T130000
DURATION:PT1H0M0S
SUMMARY:Wheeling Fire vs. Jokers
DESCRIPTION:Fall 2023 Adult League Softball - Wheeling, WV Parks and Recreation
LOCATION:35th Street, South Wheeling
CATEGORIES:QuickScores, Softball - Adult Game
TRANSP:OPAQUE
BEGIN:VALARM
TRIGGER:-PT2H
ACTION:DISPLAY
DESCRIPTION:Wheeling Fire vs. Jokers
END:VALARM
END:VEVENT
BEGIN:VEVENT
UID:wheelingwv-59366704-20230827T140000@quickscores.com
DTSTAMP:20260422T075600Z
DTSTART;TZID=America/New_York:20230827T140000
DURATION:PT1H0M0S
SUMMARY:Jokers vs. Wheeling Fire
DESCRIPTION:Fall 2023 Adult League Softball - Wheeling, WV Parks and Recreation
LOCATION:35th Street, South Wheeling
CATEGORIES:QuickScores, Softball - Adult Game
TRANSP:OPAQUE
BEGIN:VALARM
TRIGGER:-PT2H
ACTION:DISPLAY
DESCRIPTION:Jokers vs. Wheeling Fire
END:VALARM
END:VEVENT
BEGIN:VEVENT
UID:wheelingwv-59366709-20230903T090000@quickscores.com
DTSTAMP:20260422T075600Z
DTSTART;TZID=America/New_York:20230903T090000
DURATION:PT1H0M0S
SUMMARY:Chaos vs. Jokers
DESCRIPTION:Fall 2023 Adult League Softball - Wheeling, WV Parks and Recreation
LOCATION:35th Street, South Wheeling
CATEGORIES:QuickScores, Softball - Adult Game
TRANSP:OPAQUE
BEGIN:VALARM
TRIGGER:-PT2H
ACTION:DISPLAY
DESCRIPTION:Chaos vs. Jokers
END:VALARM
END:VEVENT
BEGIN:VEVENT
UID:wheelingwv-59366707-20230903T100000@quickscores.com
DTSTAMP:20260422T075600Z
DTSTART;TZID=America/New_York:20230903T100000
DURATION:PT1H0M0S
SUMMARY:Jokers vs. Chaos
DESCRIPTION:Fall 2023 Adult League Softball - Wheeling, WV Parks and Recreation
LOCATION:35th Street, South Wheeling
CATEGORIES:QuickScores, Softball - Adult Game
TRANSP:OPAQUE
BEGIN:VALARM
TRIGGER:-PT2H
ACTION:DISPLAY
DESCRIPTION:Jokers vs. Chaos
END:VALARM
END:VEVENT
BEGIN:VEVENT
UID:wheelingwv-59366708-20230903T110000@quickscores.com
DTSTAMP:20260422T075600Z
DTSTART;TZID=America/New_York:20230903T110000
DURATION:PT1H0M0S
SUMMARY:The Voo Doo Lounge vs. Wheeling Fire
DESCRIPTION:Fall 2023 Adult League Softball - Wheeling, WV Parks and Recreation
LOCATION:35th Street, South Wheeling
CATEGORIES:QuickScores, Softball - Adult Game
TRANSP:OPAQUE
BEGIN:VALARM
TRIGGER:-PT2H
ACTION:DISPLAY
DESCRIPTION:The Voo Doo Lounge vs. Wheeling Fire
END:VALARM
END:VEVENT
BEGIN:VEVENT
UID:wheelingwv-59366705-20230903T120000@quickscores.com
DTSTAMP:20260422T075600Z
DTSTART;TZID=America/New_York:20230903T120000
DURATION:PT1H0M0S
SUMMARY:Wheeling Fire vs. The Voo Doo Lounge
DESCRIPTION:Fall 2023 Adult League Softball - Wheeling, WV Parks and Recreation
LOCATION:35th Street, South Wheeling
CATEGORIES:QuickScores, Softball - Adult Game
TRANSP:OPAQUE
BEGIN:VALARM
TRIGGER:-PT2H
ACTION:DISPLAY
DESCRIPTION:Wheeling Fire vs. The Voo Doo Lounge
END:VALARM
END:VEVENT
BEGIN:VEVENT
UID:wheelingwv-59366710-20230903T130000@quickscores.com
DTSTAMP:20260422T075600Z
DTSTART;TZID=America/New_York:20230903T130000
DURATION:PT1H0M0S
SUMMARY:Taylor's Preowned Autos vs. PAP Club
DESCRIPTION:Fall 2023 Adult League Softball - Wheeling, WV Parks and Recreation
LOCATION:35th Street, South Wheeling
CATEGORIES:QuickScores, Softball - Adult Game
TRANSP:OPAQUE
BEGIN:VALARM
TRIGGER:-PT2H
ACTION:DISPLAY
DESCRIPTION:Taylor's Preowned Autos vs. PAP Club
END:VALARM
END:VEVENT
BEGIN:VEVENT
UID:wheelingwv-59366706-20230903T140000@quickscores.com
DTSTAMP:20260422T075600Z
DTSTART;TZID=America/New_York:20230903T140000
DURATION:PT1H0M0S
SUMMARY:PAP Club vs. Taylor's Preowned Autos
DESCRIPTION:Fall 2023 Adult League Softball - Wheeling, WV Parks and Recreation
LOCATION:35th Street, South Wheeling
CATEGORIES:QuickScores, Softball - Adult Game
TRANSP:OPAQUE
BEGIN:VALARM
TRIGGER:-PT2H
ACTION:DISPLAY
DESCRIPTION:PAP Club vs. Taylor's Preowned Autos
END:VALARM
END:VEVENT
BEGIN:VEVENT
UID:wheelingwv-59366715-20230910T090000@quickscores.com
DTSTAMP:20260422T075600Z
DTSTART;TZID=America/New_York:20230910T090000
DURATION:PT1H0M0S
SUMMARY:PAP Club vs. The Voo Doo Lounge
DESCRIPTION:Fall 2023 Adult League Softball - Wheeling, WV Parks and Recreation
LOCATION:35th Street, South Wheeling
CATEGORIES:QuickScores, Softball - Adult Game
TRANSP:OPAQUE
BEGIN:VALARM
TRIGGER:-PT2H
ACTION:DISPLAY
DESCRIPTION:PAP Club vs. The Voo Doo Lounge
END:VALARM
END:VEVENT
BEGIN:VEVENT
UID:wheelingwv-59366713-20230910T100000@quickscores.com
DTSTAMP:20260422T075600Z
DTSTART;TZID=America/New_York:20230910T100000
DURATION:PT1H0M0S
SUMMARY:The Voo Doo Lounge vs. PAP Club
DESCRIPTION:Fall 2023 Adult League Softball - Wheeling, WV Parks and Recreation
LOCATION:35th Street, South Wheeling
CATEGORIES:QuickScores, Softball - Adult Game
TRANSP:OPAQUE
BEGIN:VALARM
TRIGGER:-PT2H
ACTION:DISPLAY
DESCRIPTION:The Voo Doo Lounge vs. PAP Club
END:VALARM
END:VEVENT
BEGIN:VEVENT
UID:wheelingwv-59366714-20230910T110000@quickscores.com
DTSTAMP:20260422T075600Z
DTSTART;TZID=America/New_York:20230910T110000
DURATION:PT1H0M0S
SUMMARY:Chaos vs. Wheeling Fire
DESCRIPTION:Fall 2023 Adult League Softball - Wheeling, WV Parks and Recreation
LOCATION:35th Street, South Wheeling
CATEGORIES:QuickScores, Softball - Adult Game
TRANSP:OPAQUE
BEGIN:VALARM
TRIGGER:-PT2H
ACTION:DISPLAY
DESCRIPTION:Chaos vs. Wheeling Fire
END:VALARM
END:VEVENT
BEGIN:VEVENT
UID:wheelingwv-59366711-20230910T120000@quickscores.com
DTSTAMP:20260422T075600Z
DTSTART;TZID=America/New_York:20230910T120000
DURATION:PT1H0M0S
SUMMARY:Wheeling Fire vs. Chaos
DESCRIPTION:Fall 2023 Adult League Softball - Wheeling, WV Parks and Recreation
LOCATION:35th Street, South Wheeling
CATEGORIES:QuickScores, Softball - Adult Game
TRANSP:OPAQUE
BEGIN:VALARM
TRIGGER:-PT2H
ACTION:DISPLAY
DESCRIPTION:Wheeling Fire vs. Chaos
END:VALARM
END:VEVENT
BEGIN:VEVENT
UID:wheelingwv-59366716-20230910T130000@quickscores.com
DTSTAMP:20260422T075600Z
DTSTART;TZID=America/New_York:20230910T130000
DURATION:PT1H0M0S
SUMMARY:Jokers vs. John's Bombers
DESCRIPTION:Fall 2023 Adult League Softball - Wheeling, WV Parks and Recreation
LOCATION:35th Street, South Wheeling
CATEGORIES:QuickScores, Softball - Adult Game
TRANSP:OPAQUE
BEGIN:VALARM
TRIGGER:-PT2H
ACTION:DISPLAY
DESCRIPTION:Jokers vs. John's Bombers
END:VALARM
END:VEVENT
BEGIN:VEVENT
UID:wheelingwv-59366712-20230910T140000@quickscores.com
DTSTAMP:20260422T075600Z
DTSTART;TZID=America/New_York:20230910T140000
DURATION:PT1H0M0S
SUMMARY:John's Bombers vs. Jokers
DESCRIPTION:Fall 2023 Adult League Softball - Wheeling, WV Parks and Recreation
LOCATION:35th Street, South Wheeling
CATEGORIES:QuickScores, Softball - Adult Game
TRANSP:OPAQUE
BEGIN:VALARM
TRIGGER:-PT2H
ACTION:DISPLAY
DESCRIPTION:John's Bombers vs. Jokers
END:VALARM
END:VEVENT
BEGIN:VEVENT
UID:wheelingwv-59366719-20230917T090000@quickscores.com
DTSTAMP:20260422T075600Z
DTSTART;TZID=America/New_York:20230917T090000
DURATION:PT1H0M0S
SUMMARY:The Voo Doo Lounge vs. John's Bombers
DESCRIPTION:Fall 2023 Adult League Softball - Wheeling, WV Parks and Recreation
LOCATION:35th Street, South Wheeling
CATEGORIES:QuickScores, Softball - Adult Game
TRANSP:OPAQUE
BEGIN:VALARM
TRIGGER:-PT2H
ACTION:DISPLAY
DESCRIPTION:The Voo Doo Lounge vs. John's Bombers
END:VALARM
END:VEVENT
BEGIN:VEVENT
UID:wheelingwv-59366720-20230917T100000@quickscores.com
DTSTAMP:20260422T075600Z
DTSTART;TZID=America/New_York:20230917T100000
DURATION:PT1H0M0S
SUMMARY:John's Bombers vs. The Voo Doo Lounge
DESCRIPTION:Fall 2023 Adult League Softball - Wheeling, WV Parks and Recreation
LOCATION:35th Street, South Wheeling
CATEGORIES:QuickScores, Softball - Adult Game
TRANSP:OPAQUE
BEGIN:VALARM
TRIGGER:-PT2H
ACTION:DISPLAY
DESCRIPTION:John's Bombers vs. The Voo Doo Lounge
END:VALARM
END:VEVENT
BEGIN:VEVENT
UID:wheelingwv-59366718-20230917T110000@quickscores.com
DTSTAMP:20260422T075600Z
DTSTART;TZID=America/New_York:20230917T110000
DURATION:PT1H0M0S
SUMMARY:Taylor's Preowned Autos vs. Jokers
DESCRIPTION:Fall 2023 Adult League Softball - Wheeling, WV Parks and Recreation
LOCATION:35th Street, South Wheeling
CATEGORIES:QuickScores, Softball - Adult Game
TRANSP:OPAQUE
BEGIN:VALARM
TRIGGER:-PT2H
ACTION:DISPLAY
DESCRIPTION:Taylor's Preowned Autos vs. Jokers
END:VALARM
END:VEVENT
BEGIN:VEVENT
UID:wheelingwv-59366721-20230917T120000@quickscores.com
DTSTAMP:20260422T075600Z
DTSTART;TZID=America/New_York:20230917T120000
DURATION:PT1H0M0S
SUMMARY:Jokers vs. Taylor's Preowned Autos
DESCRIPTION:Fall 2023 Adult League Softball - Wheeling, WV Parks and Recreation
LOCATION:35th Street, South Wheeling
CATEGORIES:QuickScores, Softball - Adult Game
TRANSP:OPAQUE
BEGIN:VALARM
TRIGGER:-PT2H
ACTION:DISPLAY
DESCRIPTION:Jokers vs. Taylor's Preowned Autos
END:VALARM
END:VEVENT
BEGIN:VEVENT
UID:wheelingwv-59366717-20230917T130000@quickscores.com
DTSTAMP:20260422T075600Z
DTSTART;TZID=America/New_York:20230917T130000
DURATION:PT1H0M0S
SUMMARY:PAP Club vs. Wheeling Fire
DESCRIPTION:Fall 2023 Adult League Softball - Wheeling, WV Parks and Recreation
LOCATION:35th Street, South Wheeling
CATEGORIES:QuickScores, Softball - Adult Game
TRANSP:OPAQUE
BEGIN:VALARM
TRIGGER:-PT2H
ACTION:DISPLAY
DESCRIPTION:PAP Club vs. Wheeling Fire
END:VALARM
END:VEVENT
BEGIN:VEVENT
UID:wheelingwv-59366722-20230917T140000@quickscores.com
DTSTAMP:20260422T075600Z
DTSTART;TZID=America/New_York:20230917T140000
DURATION:PT1H0M0S
SUMMARY:Wheeling Fire vs. PAP Club
DESCRIPTION:Fall 2023 Adult League Softball - Wheeling, WV Parks and Recreation
LOCATION:35th Street, South Wheeling
CATEGORIES:QuickScores, Softball - Adult Game
TRANSP:OPAQUE
BEGIN:VALARM
TRIGGER:-PT2H
ACTION:DISPLAY
DESCRIPTION:Wheeling Fire vs. PAP Club
END:VALARM
END:VEVENT
BEGIN:VEVENT
UID:wheelingwv-59366725-20230924T090000@quickscores.com
DTSTAMP:20260422T075600Z
DTSTART;TZID=America/New_York:20230924T090000
DURATION:PT1H0M0S
SUMMARY:Wheeling Fire vs. Taylor's Preowned Autos
DESCRIPTION:Fall 2023 Adult League Softball - Wheeling, WV Parks and Recreation
LOCATION:35th Street, South Wheeling
CATEGORIES:QuickScores, Softball - Adult Game
TRANSP:OPAQUE
BEGIN:VALARM
TRIGGER:-PT2H
ACTION:DISPLAY
DESCRIPTION:Wheeling Fire vs. Taylor's Preowned Autos
END:VALARM
END:VEVENT
BEGIN:VEVENT
UID:wheelingwv-59366726-20230924T100000@quickscores.com
DTSTAMP:20260422T075600Z
DTSTART;TZID=America/New_York:20230924T100000
DURATION:PT1H0M0S
SUMMARY:Taylor's Preowned Autos vs. Wheeling Fire
DESCRIPTION:Fall 2023 Adult League Softball - Wheeling, WV Parks and Recreation
LOCATION:35th Street, South Wheeling
CATEGORIES:QuickScores, Softball - Adult Game
TRANSP:OPAQUE
BEGIN:VALARM
TRIGGER:-PT2H
ACTION:DISPLAY
DESCRIPTION:Taylor's Preowned Autos vs. Wheeling Fire
END:VALARM
END:VEVENT
BEGIN:VEVENT
UID:wheelingwv-59366724-20230924T110000@quickscores.com
DTSTAMP:20260422T075600Z
DTSTART;TZID=America/New_York:20230924T110000
DURATION:PT1H0M0S
SUMMARY:Jokers vs. The Voo Doo Lounge
DESCRIPTION:Fall 2023 Adult League Softball - Wheeling, WV Parks and Recreation
LOCATION:35th Street, South Wheeling
CATEGORIES:QuickScores, Softball - Adult Game
TRANSP:OPAQUE
BEGIN:VALARM
TRIGGER:-PT2H
ACTION:DISPLAY
DESCRIPTION:Jokers vs. The Voo Doo Lounge
END:VALARM
END:VEVENT
BEGIN:VEVENT
UID:wheelingwv-59366727-20230924T120000@quickscores.com
DTSTAMP:20260422T075600Z
DTSTART;TZID=America/New_York:20230924T120000
DURATION:PT1H0M0S
SUMMARY:The Voo Doo Lounge vs. Jokers
DESCRIPTION:Fall 2023 Adult League Softball - Wheeling, WV Parks and Recreation
LOCATION:35th Street, South Wheeling
CATEGORIES:QuickScores, Softball - Adult Game
TRANSP:OPAQUE
BEGIN:VALARM
TRIGGER:-PT2H
ACTION:DISPLAY
DESCRIPTION:The Voo Doo Lounge vs. Jokers
END:VALARM
END:VEVENT
BEGIN:VEVENT
UID:wheelingwv-59366723-20230924T130000@quickscores.com
DTSTAMP:20260422T075600Z
DTSTART;TZID=America/New_York:20230924T130000
DURATION:PT1H0M0S
SUMMARY:Chaos vs. John's Bombers
DESCRIPTION:Fall 2023 Adult League Softball - Wheeling, WV Parks and Recreation
LOCATION:35th Street, South Wheeling
CATEGORIES:QuickScores, Softball - Adult Game
TRANSP:OPAQUE
BEGIN:VALARM
TRIGGER:-PT2H
ACTION:DISPLAY
DESCRIPTION:Chaos vs. John's Bombers
END:VALARM
END:VEVENT
BEGIN:VEVENT
UID:wheelingwv-59366728-20230924T140000@quickscores.com
DTSTAMP:20260422T075600Z
DTSTART;TZID=America/New_York:20230924T140000
DURATION:PT1H0M0S
SUMMARY:John's Bombers vs. Chaos
DESCRIPTION:Fall 2023 Adult League Softball - Wheeling, WV Parks and Recreation
LOCATION:35th Street, South Wheeling
CATEGORIES:QuickScores, Softball - Adult Game
TRANSP:OPAQUE
BEGIN:VALARM
TRIGGER:-PT2H
ACTION:DISPLAY
DESCRIPTION:John's Bombers vs. Chaos
END:VALARM
END:VEVENT
BEGIN:VEVENT
UID:wheelingwv-59366734-20231001T090000@quickscores.com
DTSTAMP:20260422T075600Z
DTSTART;TZID=America/New_York:20231001T090000
DURATION:PT1H0M0S
SUMMARY:Jokers vs. PAP Club
DESCRIPTION:Fall 2023 Adult League Softball - Wheeling, WV Parks and Recreation
LOCATION:35th Street, South Wheeling
CATEGORIES:QuickScores, Softball - Adult Game
TRANSP:OPAQUE
BEGIN:VALARM
TRIGGER:-PT2H
ACTION:DISPLAY
DESCRIPTION:Jokers vs. PAP Club
END:VALARM
END:VEVENT
BEGIN:VEVENT
UID:wheelingwv-59366729-20231001T100000@quickscores.com
DTSTAMP:20260422T075600Z
DTSTART;TZID=America/New_York:20231001T100000
DURATION:PT1H0M0S
SUMMARY:PAP Club vs. Jokers
DESCRIPTION:Fall 2023 Adult League Softball - Wheeling, WV Parks and Recreation
LOCATION:35th Street, South Wheeling
CATEGORIES:QuickScores, Softball - Adult Game
TRANSP:OPAQUE
BEGIN:VALARM
TRIGGER:-PT2H
ACTION:DISPLAY
DESCRIPTION:PAP Club vs. Jokers
END:VALARM
END:VEVENT
BEGIN:VEVENT
UID:wheelingwv-59366733-20231001T110000@quickscores.com
DTSTAMP:20260422T075600Z
DTSTART;TZID=America/New_York:20231001T110000
DURATION:PT1H0M0S
SUMMARY:John's Bombers vs. Taylor's Preowned Autos
DESCRIPTION:Fall 2023 Adult League Softball - Wheeling, WV Parks and Recreation
LOCATION:35th Street, South Wheeling
CATEGORIES:QuickScores, Softball - Adult Game
TRANSP:OPAQUE
BEGIN:VALARM
TRIGGER:-PT2H
ACTION:DISPLAY
DESCRIPTION:John's Bombers vs. Taylor's Preowned Autos
END:VALARM
END:VEVENT
BEGIN:VEVENT
UID:wheelingwv-59366730-20231001T120000@quickscores.com
DTSTAMP:20260422T075600Z
DTSTART;TZID=America/New_York:20231001T120000
DURATION:PT1H0M0S
SUMMARY:Taylor's Preowned Autos vs. John's Bombers
DESCRIPTION:Fall 2023 Adult League Softball - Wheeling, WV Parks and Recreation
LOCATION:35th Street, South Wheeling
CATEGORIES:QuickScores, Softball - Adult Game
TRANSP:OPAQUE
BEGIN:VALARM
TRIGGER:-PT2H
ACTION:DISPLAY
DESCRIPTION:Taylor's Preowned Autos vs. John's Bombers
END:VALARM
END:VEVENT
BEGIN:VEVENT
UID:wheelingwv-59366732-20231001T130000@quickscores.com
DTSTAMP:20260422T075600Z
DTSTART;TZID=America/New_York:20231001T130000
DURATION:PT1H0M0S
SUMMARY:Chaos vs. The Voo Doo Lounge
DESCRIPTION:Fall 2023 Adult League Softball - Wheeling, WV Parks and Recreation
LOCATION:35th Street, South Wheeling
CATEGORIES:QuickScores, Softball - Adult Game
TRANSP:OPAQUE
BEGIN:VALARM
TRIGGER:-PT2H
ACTION:DISPLAY
DESCRIPTION:Chaos vs. The Voo Doo Lounge
END:VALARM
END:VEVENT
BEGIN:VEVENT
UID:wheelingwv-59366731-20231001T140000@quickscores.com
DTSTAMP:20260422T075600Z
DTSTART;TZID=America/New_York:20231001T140000
DURATION:PT1H0M0S
SUMMARY:The Voo Doo Lounge vs. Chaos
DESCRIPTION:Fall 2023 Adult League Softball - Wheeling, WV Parks and Recreation
LOCATION:35th Street, South Wheeling
CATEGORIES:QuickScores, Softball - Adult Game
TRANSP:OPAQUE
BEGIN:VALARM
TRIGGER:-PT2H
ACTION:DISPLAY
DESCRIPTION:The Voo Doo Lounge vs. Chaos
END:VALARM
END:VEVENT
END:VCALENDAR
