BEGIN:VCALENDAR
VERSION:2.0
PRODID:-//QuickScores.com//BQ Dynamic iCal Creator//EN
METHOD:PUBLISH
X-WR-CALNAME:Men 60 Major/65 Major Gold - 2023 ISSA Senior Softball World Series
X-WR-CALDESC:QuickScores game calendar
X-PUBLISHED-TTL:PT24H
REFRESH-INTERVAL;VALUE=DURATION:PT24H
CALSCALE:GREGORIAN
BEGIN:VTIMEZONE
TZID:America/New_York
X-LIC-LOCATION:America/New_York
BEGIN:DAYLIGHT
TZNAME:EDT
TZOFFSETFROM:-0500
TZOFFSETTO:-0400
DTSTART:19700308T020000
RRULE:FREQ=YEARLY;BYMONTH=3;BYDAY=2SU
END:DAYLIGHT
BEGIN:STANDARD
TZNAME:EST
TZOFFSETFROM:-0400
TZOFFSETTO:-0500
DTSTART:19701101T020000
RRULE:FREQ=YEARLY;BYMONTH=11;BYDAY=1SU
END:STANDARD
END:VTIMEZONE
BEGIN:VEVENT
UID:issa-58177955-20230519T120000@quickscores.com
DTSTAMP:20260424T000400Z
DTSTART;TZID=America/New_York:20230519T120000
DURATION:PT1H30M0S
SUMMARY:Seaglass vs. Undisputed Truth 60
DESCRIPTION:Men 60 Major/65 Major Gold - International Senior Softball Association<br>ISSA
LOCATION:CSC-TX 5(Yellow)
CATEGORIES:QuickScores, Softball Game
TRANSP:OPAQUE
BEGIN:VALARM
TRIGGER:-PT2H
ACTION:DISPLAY
DESCRIPTION:Seaglass vs. Undisputed Truth 60
END:VALARM
END:VEVENT
BEGIN:VEVENT
UID:issa-58177953-20230519T133000@quickscores.com
DTSTAMP:20260424T000400Z
DTSTART;TZID=America/New_York:20230519T133000
DURATION:PT1H30M0S
SUMMARY:Texas Heat vs. Houston Fire
DESCRIPTION:Men 60 Major/65 Major Gold - International Senior Softball Association<br>ISSA
LOCATION:CSC-TX 5(Yellow)
CATEGORIES:QuickScores, Softball Game
TRANSP:OPAQUE
BEGIN:VALARM
TRIGGER:-PT2H
ACTION:DISPLAY
DESCRIPTION:Texas Heat vs. Houston Fire
END:VALARM
END:VEVENT
BEGIN:VEVENT
UID:issa-58177954-20230519T150000@quickscores.com
DTSTAMP:20260424T000400Z
DTSTART;TZID=America/New_York:20230519T150000
DURATION:PT1H30M0S
SUMMARY:Windy City vs. Seaglass
DESCRIPTION:Men 60 Major/65 Major Gold - International Senior Softball Association<br>ISSA
LOCATION:CSC-TX 5(Yellow)
CATEGORIES:QuickScores, Softball Game
TRANSP:OPAQUE
BEGIN:VALARM
TRIGGER:-PT2H
ACTION:DISPLAY
DESCRIPTION:Windy City vs. Seaglass
END:VALARM
END:VEVENT
BEGIN:VEVENT
UID:issa-58177956-20230519T163000@quickscores.com
DTSTAMP:20260424T000400Z
DTSTART;TZID=America/New_York:20230519T163000
DURATION:PT1H30M0S
SUMMARY:Houston Fire vs. Windy City
DESCRIPTION:Men 60 Major/65 Major Gold - International Senior Softball Association<br>ISSA
LOCATION:CSC-TX 4(Red)
CATEGORIES:QuickScores, Softball Game
TRANSP:OPAQUE
BEGIN:VALARM
TRIGGER:-PT2H
ACTION:DISPLAY
DESCRIPTION:Houston Fire vs. Windy City
END:VALARM
END:VEVENT
BEGIN:VEVENT
UID:issa-58177957-20230519T163000@quickscores.com
DTSTAMP:20260424T000400Z
DTSTART;TZID=America/New_York:20230519T163000
DURATION:PT1H30M0S
SUMMARY:Undisputed Truth 60 vs. Texas Heat
DESCRIPTION:Men 60 Major/65 Major Gold - International Senior Softball Association<br>ISSA
LOCATION:CSC-TX 5(Yellow)
CATEGORIES:QuickScores, Softball Game
TRANSP:OPAQUE
BEGIN:VALARM
TRIGGER:-PT2H
ACTION:DISPLAY
DESCRIPTION:Undisputed Truth 60 vs. Texas Heat
END:VALARM
END:VEVENT
BEGIN:VEVENT
UID:issa-58177963-20230520T090000@quickscores.com
DTSTAMP:20260424T000400Z
DTSTART;TZID=America/New_York:20230520T090000
DURATION:PT1H30M0S
SUMMARY:Texas Heat vs. Houston Fire
DESCRIPTION:Men 60 Major/65 Major Gold - International Senior Softball Association<br>ISSA
LOCATION:CSC-TX 5(Yellow)
CATEGORIES:QuickScores, Softball Game
TRANSP:OPAQUE
BEGIN:VALARM
TRIGGER:-PT2H
ACTION:DISPLAY
DESCRIPTION:Texas Heat vs. Houston Fire
END:VALARM
END:VEVENT
BEGIN:VEVENT
UID:issa-58177959-20230520T090000@quickscores.com
DTSTAMP:20260424T000400Z
DTSTART;TZID=America/New_York:20230520T090000
DURATION:PT1H30M0S
SUMMARY:Undisputed Truth 60 vs. Windy City
DESCRIPTION:Men 60 Major/65 Major Gold - International Senior Softball Association<br>ISSA
LOCATION:CSC-TX 1(Green)
CATEGORIES:QuickScores, Softball Game
TRANSP:OPAQUE
BEGIN:VALARM
TRIGGER:-PT2H
ACTION:DISPLAY
DESCRIPTION:Undisputed Truth 60 vs. Windy City
END:VALARM
END:VEVENT
BEGIN:VEVENT
UID:issa-58177962-20230520T103000@quickscores.com
DTSTAMP:20260424T000400Z
DTSTART;TZID=America/New_York:20230520T103000
DURATION:PT1H30M0S
SUMMARY:Seaglass vs. Undisputed Truth 60
DESCRIPTION:Men 60 Major/65 Major Gold - International Senior Softball Association<br>ISSA
LOCATION:CSC-TX 1(Green)
CATEGORIES:QuickScores, Softball Game
TRANSP:OPAQUE
BEGIN:VALARM
TRIGGER:-PT2H
ACTION:DISPLAY
DESCRIPTION:Seaglass vs. Undisputed Truth 60
END:VALARM
END:VEVENT
BEGIN:VEVENT
UID:issa-58177966-20230520T133000@quickscores.com
DTSTAMP:20260424T000400Z
DTSTART;TZID=America/New_York:20230520T133000
DURATION:PT1H30M0S
SUMMARY:Houston Fire vs. Windy City
DESCRIPTION:Men 60 Major/65 Major Gold - International Senior Softball Association<br>ISSA
LOCATION:CSC-TX 2(White)
CATEGORIES:QuickScores, Softball Game
TRANSP:OPAQUE
BEGIN:VALARM
TRIGGER:-PT2H
ACTION:DISPLAY
DESCRIPTION:Houston Fire vs. Windy City
END:VALARM
END:VEVENT
BEGIN:VEVENT
UID:issa-58177968-20230520T133000@quickscores.com
DTSTAMP:20260424T000400Z
DTSTART;TZID=America/New_York:20230520T133000
DURATION:PT1H30M0S
SUMMARY:Seaglass vs. Texas Heat
DESCRIPTION:Men 60 Major/65 Major Gold - International Senior Softball Association<br>ISSA
LOCATION:CSC-TX 5(Yellow)
CATEGORIES:QuickScores, Softball Game
TRANSP:OPAQUE
BEGIN:VALARM
TRIGGER:-PT2H
ACTION:DISPLAY
DESCRIPTION:Seaglass vs. Texas Heat
END:VALARM
END:VEVENT
BEGIN:VEVENT
UID:issa-58177969-20230520T150000@quickscores.com
DTSTAMP:20260424T000400Z
DTSTART;TZID=America/New_York:20230520T150000
DURATION:PT1H30M0S
SUMMARY:Windy City vs. Undisputed Truth 60
DESCRIPTION:Men 60 Major/65 Major Gold - International Senior Softball Association<br>ISSA
LOCATION:CSC-TX 2(White)
CATEGORIES:QuickScores, Softball Game
TRANSP:OPAQUE
BEGIN:VALARM
TRIGGER:-PT2H
ACTION:DISPLAY
DESCRIPTION:Windy City vs. Undisputed Truth 60
END:VALARM
END:VEVENT
BEGIN:VEVENT
UID:issa-58177970-20230521T083000@quickscores.com
DTSTAMP:20260424T000400Z
DTSTART;TZID=America/New_York:20230521T083000
DURATION:PT1H30M0S
SUMMARY:Seaglass vs. Windy City
DESCRIPTION:Men 60 Major/65 Major Gold - International Senior Softball Association<br>ISSA
LOCATION:CSC-TX 5(Yellow)
CATEGORIES:QuickScores, Softball Game
TRANSP:OPAQUE
BEGIN:VALARM
TRIGGER:-PT2H
ACTION:DISPLAY
DESCRIPTION:Seaglass vs. Windy City
END:VALARM
END:VEVENT
BEGIN:VEVENT
UID:issa-58177971-20230521T100000@quickscores.com
DTSTAMP:20260424T000400Z
DTSTART;TZID=America/New_York:20230521T100000
DURATION:PT1H30M0S
SUMMARY:Texas Heat vs. Seaglass
DESCRIPTION:Men 60 Major/65 Major Gold - International Senior Softball Association<br>ISSA
LOCATION:CSC-TX 5(Yellow)
CATEGORIES:QuickScores, Softball Game
TRANSP:OPAQUE
BEGIN:VALARM
TRIGGER:-PT2H
ACTION:DISPLAY
DESCRIPTION:Texas Heat vs. Seaglass
END:VALARM
END:VEVENT
BEGIN:VEVENT
UID:issa-58177972-20230521T113000@quickscores.com
DTSTAMP:20260424T000400Z
DTSTART;TZID=America/New_York:20230521T113000
DURATION:PT1H30M0S
SUMMARY:Seaglass vs. Texas Heat
DESCRIPTION:Men 60 Major/65 Major Gold - International Senior Softball Association<br>ISSA
LOCATION:CSC-TX 5(Yellow)
CATEGORIES:QuickScores, Softball Game
TRANSP:OPAQUE
BEGIN:VALARM
TRIGGER:-PT2H
ACTION:DISPLAY
DESCRIPTION:Seaglass vs. Texas Heat
END:VALARM
END:VEVENT
END:VCALENDAR
