BEGIN:VCALENDAR
VERSION:2.0
PRODID:-//QuickScores.com//BQ Dynamic iCal Creator//EN
METHOD:PUBLISH
X-WR-CALNAME:Men 50 Aaa - 2023 ISSA Eastern Spring Nationals
X-WR-CALDESC:QuickScores game calendar
X-PUBLISHED-TTL:PT24H
REFRESH-INTERVAL;VALUE=DURATION:PT24H
CALSCALE:GREGORIAN
BEGIN:VTIMEZONE
TZID:America/New_York
X-LIC-LOCATION:America/New_York
BEGIN:DAYLIGHT
TZNAME:EDT
TZOFFSETFROM:-0500
TZOFFSETTO:-0400
DTSTART:19700308T020000
RRULE:FREQ=YEARLY;BYMONTH=3;BYDAY=2SU
END:DAYLIGHT
BEGIN:STANDARD
TZNAME:EST
TZOFFSETFROM:-0400
TZOFFSETTO:-0500
DTSTART:19701101T020000
RRULE:FREQ=YEARLY;BYMONTH=11;BYDAY=1SU
END:STANDARD
END:VTIMEZONE
BEGIN:VEVENT
UID:issa-57565868-20230505T113000@quickscores.com
DTSTAMP:20260424T193100Z
DTSTART;TZID=America/New_York:20230505T113000
DURATION:PT1H30M0S
SUMMARY:Carolina Power vs. Backside
DESCRIPTION:Men 50 Aaa - International Senior Softball Association<br>ISSA
LOCATION:FLP 4
CATEGORIES:QuickScores, Softball Game
TRANSP:OPAQUE
BEGIN:VALARM
TRIGGER:-PT2H
ACTION:DISPLAY
DESCRIPTION:Carolina Power vs. Backside
END:VALARM
END:VEVENT
BEGIN:VEVENT
UID:issa-57565875-20230505T113000@quickscores.com
DTSTAMP:20260424T193100Z
DTSTART;TZID=America/New_York:20230505T113000
DURATION:PT1H30M0S
SUMMARY:FFE 50'S vs. Ryan Steel
DESCRIPTION:Men 50 Aaa - International Senior Softball Association<br>ISSA
LOCATION:FLP 3
CATEGORIES:QuickScores, Softball Game
TRANSP:OPAQUE
BEGIN:VALARM
TRIGGER:-PT2H
ACTION:DISPLAY
DESCRIPTION:FFE 50'S vs. Ryan Steel
END:VALARM
END:VEVENT
BEGIN:VEVENT
UID:issa-57565872-20230505T130000@quickscores.com
DTSTAMP:20260424T193100Z
DTSTART;TZID=America/New_York:20230505T130000
DURATION:PT1H30M0S
SUMMARY:Ryan Steel vs. The Misfits Cape Coral
DESCRIPTION:Men 50 Aaa - International Senior Softball Association<br>ISSA
LOCATION:FLP 3
CATEGORIES:QuickScores, Softball Game
TRANSP:OPAQUE
BEGIN:VALARM
TRIGGER:-PT2H
ACTION:DISPLAY
DESCRIPTION:Ryan Steel vs. The Misfits Cape Coral
END:VALARM
END:VEVENT
BEGIN:VEVENT
UID:issa-57565874-20230505T130000@quickscores.com
DTSTAMP:20260424T193100Z
DTSTART;TZID=America/New_York:20230505T130000
DURATION:PT1H30M0S
SUMMARY:Palmetto Mutiny vs. Carolina Power
DESCRIPTION:Men 50 Aaa - International Senior Softball Association<br>ISSA
LOCATION:FLP 4
CATEGORIES:QuickScores, Softball Game
TRANSP:OPAQUE
BEGIN:VALARM
TRIGGER:-PT2H
ACTION:DISPLAY
DESCRIPTION:Palmetto Mutiny vs. Carolina Power
END:VALARM
END:VEVENT
BEGIN:VEVENT
UID:issa-57565870-20230505T143000@quickscores.com
DTSTAMP:20260424T193100Z
DTSTART;TZID=America/New_York:20230505T143000
DURATION:PT1H30M0S
SUMMARY:The Misfits Cape Coral vs. FFE 50'S
DESCRIPTION:Men 50 Aaa - International Senior Softball Association<br>ISSA
LOCATION:FLP 3
CATEGORIES:QuickScores, Softball Game
TRANSP:OPAQUE
BEGIN:VALARM
TRIGGER:-PT2H
ACTION:DISPLAY
DESCRIPTION:The Misfits Cape Coral vs. FFE 50'S
END:VALARM
END:VEVENT
BEGIN:VEVENT
UID:issa-57565871-20230505T143000@quickscores.com
DTSTAMP:20260424T193100Z
DTSTART;TZID=America/New_York:20230505T143000
DURATION:PT1H30M0S
SUMMARY:Backside vs. Palmetto Mutiny
DESCRIPTION:Men 50 Aaa - International Senior Softball Association<br>ISSA
LOCATION:FLP 4
CATEGORIES:QuickScores, Softball Game
TRANSP:OPAQUE
BEGIN:VALARM
TRIGGER:-PT2H
ACTION:DISPLAY
DESCRIPTION:Backside vs. Palmetto Mutiny
END:VALARM
END:VEVENT
BEGIN:VEVENT
UID:issa-57773357-20230506T103000@quickscores.com
DTSTAMP:20260424T193100Z
DTSTART;TZID=America/New_York:20230506T103000
DURATION:PT1H30M0S
SUMMARY:[A2] Palmetto Mutiny vs. [B3] FFE 50'S
DESCRIPTION:Men 50 Aaa - International Senior Softball Association<br>ISSA
LOCATION:FLP 1
CATEGORIES:QuickScores, Softball Game
TRANSP:OPAQUE
BEGIN:VALARM
TRIGGER:-PT2H
ACTION:DISPLAY
DESCRIPTION:[A2] Palmetto Mutiny vs. [B3] FFE 50'S
END:VALARM
END:VEVENT
BEGIN:VEVENT
UID:issa-57773355-20230506T120000@quickscores.com
DTSTAMP:20260424T193100Z
DTSTART;TZID=America/New_York:20230506T120000
DURATION:PT1H30M0S
SUMMARY:[B2] The Misfits Cape Coral vs. [A3] Backside
DESCRIPTION:Men 50 Aaa - International Senior Softball Association<br>ISSA
LOCATION:FLP 2
CATEGORIES:QuickScores, Softball Game
TRANSP:OPAQUE
BEGIN:VALARM
TRIGGER:-PT2H
ACTION:DISPLAY
DESCRIPTION:[B2] The Misfits Cape Coral vs. [A3] Backside
END:VALARM
END:VEVENT
BEGIN:VEVENT
UID:issa-57773359-20230506T120000@quickscores.com
DTSTAMP:20260424T193100Z
DTSTART;TZID=America/New_York:20230506T120000
DURATION:PT1H30M0S
SUMMARY:[B1] Ryan Steel vs. [B3] FFE 50'S
DESCRIPTION:Men 50 Aaa - International Senior Softball Association<br>ISSA
LOCATION:FLP 1
CATEGORIES:QuickScores, Softball Game
TRANSP:OPAQUE
BEGIN:VALARM
TRIGGER:-PT2H
ACTION:DISPLAY
DESCRIPTION:[B1] Ryan Steel vs. [B3] FFE 50'S
END:VALARM
END:VEVENT
BEGIN:VEVENT
UID:issa-57773358-20230506T133000@quickscores.com
DTSTAMP:20260424T193100Z
DTSTART;TZID=America/New_York:20230506T133000
DURATION:PT1H30M0S
SUMMARY:[A1] Carolina Power vs. [A3] Backside
DESCRIPTION:Men 50 Aaa - International Senior Softball Association<br>ISSA
LOCATION:FLP 2
CATEGORIES:QuickScores, Softball Game
TRANSP:OPAQUE
BEGIN:VALARM
TRIGGER:-PT2H
ACTION:DISPLAY
DESCRIPTION:[A1] Carolina Power vs. [A3] Backside
END:VALARM
END:VEVENT
BEGIN:VEVENT
UID:issa-57773362-20230506T163000@quickscores.com
DTSTAMP:20260424T193100Z
DTSTART;TZID=America/New_York:20230506T163000
DURATION:PT1H30M0S
SUMMARY:[B1] Ryan Steel vs. [B2] The Misfits Cape Coral
DESCRIPTION:Men 50 Aaa - International Senior Softball Association<br>ISSA
LOCATION:FLP 3
CATEGORIES:QuickScores, Softball Game
TRANSP:OPAQUE
BEGIN:VALARM
TRIGGER:-PT2H
ACTION:DISPLAY
DESCRIPTION:[B1] Ryan Steel vs. [B2] The Misfits Cape Coral
END:VALARM
END:VEVENT
BEGIN:VEVENT
UID:issa-57773363-20230506T163000@quickscores.com
DTSTAMP:20260424T193100Z
DTSTART;TZID=America/New_York:20230506T163000
DURATION:PT1H30M0S
SUMMARY:[A3] Backside vs. [A2] Palmetto Mutiny
DESCRIPTION:Men 50 Aaa - International Senior Softball Association<br>ISSA
LOCATION:FLP 4
CATEGORIES:QuickScores, Softball Game
TRANSP:OPAQUE
BEGIN:VALARM
TRIGGER:-PT2H
ACTION:DISPLAY
DESCRIPTION:[A3] Backside vs. [A2] Palmetto Mutiny
END:VALARM
END:VEVENT
BEGIN:VEVENT
UID:issa-57773364-20230506T163000@quickscores.com
DTSTAMP:20260424T193100Z
DTSTART;TZID=America/New_York:20230506T163000
DURATION:PT1H30M0S
SUMMARY:[A1] Carolina Power vs. [B3] FFE 50'S
DESCRIPTION:Men 50 Aaa - International Senior Softball Association<br>ISSA
LOCATION:FLP 2
CATEGORIES:QuickScores, Softball Game
TRANSP:OPAQUE
BEGIN:VALARM
TRIGGER:-PT2H
ACTION:DISPLAY
DESCRIPTION:[A1] Carolina Power vs. [B3] FFE 50'S
END:VALARM
END:VEVENT
BEGIN:VEVENT
UID:issa-57773365-20230506T180000@quickscores.com
DTSTAMP:20260424T193100Z
DTSTART;TZID=America/New_York:20230506T180000
DURATION:PT1H30M0S
SUMMARY:[B1] Ryan Steel vs. [A2] Palmetto Mutiny
DESCRIPTION:Men 50 Aaa - International Senior Softball Association<br>ISSA
LOCATION:FLP 4
CATEGORIES:QuickScores, Softball Game
TRANSP:OPAQUE
BEGIN:VALARM
TRIGGER:-PT2H
ACTION:DISPLAY
DESCRIPTION:[B1] Ryan Steel vs. [A2] Palmetto Mutiny
END:VALARM
END:VEVENT
BEGIN:VEVENT
UID:issa-57773366-20230507T090000@quickscores.com
DTSTAMP:20260424T193100Z
DTSTART;TZID=America/New_York:20230507T090000
DURATION:PT1H30M0S
SUMMARY:[A1] Carolina Power vs. [B1] Ryan Steel
DESCRIPTION:Men 50 Aaa - International Senior Softball Association<br>ISSA
LOCATION:FLP 2
CATEGORIES:QuickScores, Softball Game
TRANSP:OPAQUE
BEGIN:VALARM
TRIGGER:-PT2H
ACTION:DISPLAY
DESCRIPTION:[A1] Carolina Power vs. [B1] Ryan Steel
END:VALARM
END:VEVENT
BEGIN:VEVENT
UID:issa-57773367-20230507T103000@quickscores.com
DTSTAMP:20260424T193100Z
DTSTART;TZID=America/New_York:20230507T103000
DURATION:PT1H30M0S
SUMMARY:[B3] FFE 50'S vs. [A1] Carolina Power
DESCRIPTION:Men 50 Aaa - International Senior Softball Association<br>ISSA
LOCATION:FLP 2
CATEGORIES:QuickScores, Softball Game
TRANSP:OPAQUE
BEGIN:VALARM
TRIGGER:-PT2H
ACTION:DISPLAY
DESCRIPTION:[B3] FFE 50'S vs. [A1] Carolina Power
END:VALARM
END:VEVENT
END:VCALENDAR
