BEGIN:VCALENDAR
VERSION:2.0
PRODID:-//QuickScores.com//BQ Dynamic iCal Creator//EN
METHOD:PUBLISH
X-WR-CALNAME:Men 70 Major/major Gold - 2023 ISSA The Myrtle Beach Tournament
X-WR-CALDESC:QuickScores game calendar
X-PUBLISHED-TTL:PT24H
REFRESH-INTERVAL;VALUE=DURATION:PT24H
CALSCALE:GREGORIAN
BEGIN:VTIMEZONE
TZID:America/New_York
X-LIC-LOCATION:America/New_York
BEGIN:DAYLIGHT
TZNAME:EDT
TZOFFSETFROM:-0500
TZOFFSETTO:-0400
DTSTART:19700308T020000
RRULE:FREQ=YEARLY;BYMONTH=3;BYDAY=2SU
END:DAYLIGHT
BEGIN:STANDARD
TZNAME:EST
TZOFFSETFROM:-0400
TZOFFSETTO:-0500
DTSTART:19701101T020000
RRULE:FREQ=YEARLY;BYMONTH=11;BYDAY=1SU
END:STANDARD
END:VTIMEZONE
BEGIN:VEVENT
UID:issa-56698828-20230314T090000@quickscores.com
DTSTAMP:20260421T110500Z
DTSTART;TZID=America/New_York:20230314T090000
DURATION:PT1H30M0S
SUMMARY:Carolina Cobras vs. Pill and Pill 70s
DESCRIPTION:Men 70 Major/major Gold - International Senior Softball Association<br>ISSA
LOCATION:CFC 2
CATEGORIES:QuickScores, Softball Game
TRANSP:OPAQUE
BEGIN:VALARM
TRIGGER:-PT2H
ACTION:DISPLAY
DESCRIPTION:Carolina Cobras vs. Pill and Pill 70s
END:VALARM
END:VEVENT
BEGIN:VEVENT
UID:issa-56698827-20230314T103000@quickscores.com
DTSTAMP:20260421T110500Z
DTSTART;TZID=America/New_York:20230314T103000
DURATION:PT1H30M0S
SUMMARY:Pill and Pill 70s vs. Via Citrus
DESCRIPTION:Men 70 Major/major Gold - International Senior Softball Association<br>ISSA
LOCATION:CFC 2
CATEGORIES:QuickScores, Softball Game
TRANSP:OPAQUE
BEGIN:VALARM
TRIGGER:-PT2H
ACTION:DISPLAY
DESCRIPTION:Pill and Pill 70s vs. Via Citrus
END:VALARM
END:VEVENT
BEGIN:VEVENT
UID:issa-56698829-20230314T120000@quickscores.com
DTSTAMP:20260421T110500Z
DTSTART;TZID=America/New_York:20230314T120000
DURATION:PT1H30M0S
SUMMARY:FINEST ATHLETICS vs. Carolina Cobras
DESCRIPTION:Men 70 Major/major Gold - International Senior Softball Association<br>ISSA
LOCATION:CFC 2
CATEGORIES:QuickScores, Softball Game
TRANSP:OPAQUE
BEGIN:VALARM
TRIGGER:-PT2H
ACTION:DISPLAY
DESCRIPTION:FINEST ATHLETICS vs. Carolina Cobras
END:VALARM
END:VEVENT
BEGIN:VEVENT
UID:issa-56698830-20230314T133000@quickscores.com
DTSTAMP:20260421T110500Z
DTSTART;TZID=America/New_York:20230314T133000
DURATION:PT1H30M0S
SUMMARY:Via Citrus vs. High Street Bucs 70
DESCRIPTION:Men 70 Major/major Gold - International Senior Softball Association<br>ISSA
LOCATION:CFC 2
CATEGORIES:QuickScores, Softball Game
TRANSP:OPAQUE
BEGIN:VALARM
TRIGGER:-PT2H
ACTION:DISPLAY
DESCRIPTION:Via Citrus vs. High Street Bucs 70
END:VALARM
END:VEVENT
BEGIN:VEVENT
UID:issa-56698831-20230314T150000@quickscores.com
DTSTAMP:20260421T110500Z
DTSTART;TZID=America/New_York:20230314T150000
DURATION:PT1H30M0S
SUMMARY:High Street Bucs 70 vs. FINEST ATHLETICS
DESCRIPTION:Men 70 Major/major Gold - International Senior Softball Association<br>ISSA
LOCATION:CFC 2
CATEGORIES:QuickScores, Softball Game
TRANSP:OPAQUE
BEGIN:VALARM
TRIGGER:-PT2H
ACTION:DISPLAY
DESCRIPTION:High Street Bucs 70 vs. FINEST ATHLETICS
END:VALARM
END:VEVENT
BEGIN:VEVENT
UID:issa-56698833-20230315T083000@quickscores.com
DTSTAMP:20260421T110500Z
DTSTART;TZID=America/New_York:20230315T083000
DURATION:PT1H30M0S
SUMMARY:Pill and Pill 70s vs. FINEST ATHLETICS
DESCRIPTION:Men 70 Major/major Gold - International Senior Softball Association<br>ISSA
LOCATION:CFC 2
CATEGORIES:QuickScores, Softball Game
TRANSP:OPAQUE
BEGIN:VALARM
TRIGGER:-PT2H
ACTION:DISPLAY
DESCRIPTION:Pill and Pill 70s vs. FINEST ATHLETICS
END:VALARM
END:VEVENT
BEGIN:VEVENT
UID:issa-56698837-20230315T083000@quickscores.com
DTSTAMP:20260421T110500Z
DTSTART;TZID=America/New_York:20230315T083000
DURATION:PT1H30M0S
SUMMARY:Via Citrus vs. High Street Bucs 70
DESCRIPTION:Men 70 Major/major Gold - International Senior Softball Association<br>ISSA
LOCATION:CFC 3
CATEGORIES:QuickScores, Softball Game
TRANSP:OPAQUE
BEGIN:VALARM
TRIGGER:-PT2H
ACTION:DISPLAY
DESCRIPTION:Via Citrus vs. High Street Bucs 70
END:VALARM
END:VEVENT
BEGIN:VEVENT
UID:issa-56698836-20230315T100000@quickscores.com
DTSTAMP:20260421T110500Z
DTSTART;TZID=America/New_York:20230315T100000
DURATION:PT1H30M0S
SUMMARY:Carolina Cobras vs. FINEST ATHLETICS
DESCRIPTION:Men 70 Major/major Gold - International Senior Softball Association<br>ISSA
LOCATION:CFC 2
CATEGORIES:QuickScores, Softball Game
TRANSP:OPAQUE
BEGIN:VALARM
TRIGGER:-PT2H
ACTION:DISPLAY
DESCRIPTION:Carolina Cobras vs. FINEST ATHLETICS
END:VALARM
END:VEVENT
BEGIN:VEVENT
UID:issa-56698840-20230315T130000@quickscores.com
DTSTAMP:20260421T110500Z
DTSTART;TZID=America/New_York:20230315T130000
DURATION:PT1H30M0S
SUMMARY:Via Citrus vs. Pill and Pill 70s
DESCRIPTION:Men 70 Major/major Gold - International Senior Softball Association<br>ISSA
LOCATION:CFC 3
CATEGORIES:QuickScores, Softball Game
TRANSP:OPAQUE
BEGIN:VALARM
TRIGGER:-PT2H
ACTION:DISPLAY
DESCRIPTION:Via Citrus vs. Pill and Pill 70s
END:VALARM
END:VEVENT
BEGIN:VEVENT
UID:issa-56698842-20230315T143000@quickscores.com
DTSTAMP:20260421T110500Z
DTSTART;TZID=America/New_York:20230315T143000
DURATION:PT1H30M0S
SUMMARY:FINEST ATHLETICS vs. High Street Bucs 70
DESCRIPTION:Men 70 Major/major Gold - International Senior Softball Association<br>ISSA
LOCATION:CFC 3
CATEGORIES:QuickScores, Softball Game
TRANSP:OPAQUE
BEGIN:VALARM
TRIGGER:-PT2H
ACTION:DISPLAY
DESCRIPTION:FINEST ATHLETICS vs. High Street Bucs 70
END:VALARM
END:VEVENT
BEGIN:VEVENT
UID:issa-56698843-20230315T143000@quickscores.com
DTSTAMP:20260421T110500Z
DTSTART;TZID=America/New_York:20230315T143000
DURATION:PT1H30M0S
SUMMARY:Via Citrus vs. Carolina Cobras
DESCRIPTION:Men 70 Major/major Gold - International Senior Softball Association<br>ISSA
LOCATION:CFC 2
CATEGORIES:QuickScores, Softball Game
TRANSP:OPAQUE
BEGIN:VALARM
TRIGGER:-PT2H
ACTION:DISPLAY
DESCRIPTION:Via Citrus vs. Carolina Cobras
END:VALARM
END:VEVENT
BEGIN:VEVENT
UID:issa-56698844-20230316T083000@quickscores.com
DTSTAMP:20260421T110500Z
DTSTART;TZID=America/New_York:20230316T083000
DURATION:PT1H30M0S
SUMMARY:FINEST ATHLETICS vs. Carolina Cobras
DESCRIPTION:Men 70 Major/major Gold - International Senior Softball Association<br>ISSA
LOCATION:CFC 2
CATEGORIES:QuickScores, Softball Game
TRANSP:OPAQUE
BEGIN:VALARM
TRIGGER:-PT2H
ACTION:DISPLAY
DESCRIPTION:FINEST ATHLETICS vs. Carolina Cobras
END:VALARM
END:VEVENT
BEGIN:VEVENT
UID:issa-56698845-20230316T100000@quickscores.com
DTSTAMP:20260421T110500Z
DTSTART;TZID=America/New_York:20230316T100000
DURATION:PT1H30M0S
SUMMARY:High Street Bucs 70 vs. Carolina Cobras
DESCRIPTION:Men 70 Major/major Gold - International Senior Softball Association<br>ISSA
LOCATION:CFC 2
CATEGORIES:QuickScores, Softball Game
TRANSP:OPAQUE
BEGIN:VALARM
TRIGGER:-PT2H
ACTION:DISPLAY
DESCRIPTION:High Street Bucs 70 vs. Carolina Cobras
END:VALARM
END:VEVENT
END:VCALENDAR
