BEGIN:VCALENDAR
VERSION:2.0
PRODID:-//QuickScores.com//BQ Dynamic iCal Creator//EN
METHOD:PUBLISH
X-WR-CALNAME:Women 50 Aaa - 2023 ISSA/WBSC World Tournament of Champions
X-WR-CALDESC:QuickScores game calendar
X-PUBLISHED-TTL:PT24H
REFRESH-INTERVAL;VALUE=DURATION:PT24H
CALSCALE:GREGORIAN
BEGIN:VTIMEZONE
TZID:America/New_York
X-LIC-LOCATION:America/New_York
BEGIN:DAYLIGHT
TZNAME:EDT
TZOFFSETFROM:-0500
TZOFFSETTO:-0400
DTSTART:19700308T020000
RRULE:FREQ=YEARLY;BYMONTH=3;BYDAY=2SU
END:DAYLIGHT
BEGIN:STANDARD
TZNAME:EST
TZOFFSETFROM:-0400
TZOFFSETTO:-0500
DTSTART:19701101T020000
RRULE:FREQ=YEARLY;BYMONTH=11;BYDAY=1SU
END:STANDARD
END:VTIMEZONE
BEGIN:VEVENT
UID:issa-56041713-20230204T080000@quickscores.com
DTSTAMP:20260425T120100Z
DTSTART;TZID=America/New_York:20230204T080000
DURATION:PT1H30M0S
SUMMARY:[B #3] Lady Vipers vs. [C #3]JWP
DESCRIPTION:Women 50 Aaa - International Senior Softball Association<br>ISSA
LOCATION:NTP 3
CATEGORIES:QuickScores, Softball Game
TRANSP:OPAQUE
BEGIN:VALARM
TRIGGER:-PT2H
ACTION:DISPLAY
DESCRIPTION:[B #3] Lady Vipers vs. [C #3]JWP
END:VALARM
END:VEVENT
BEGIN:VEVENT
UID:issa-56041721-20230204T080000@quickscores.com
DTSTAMP:20260425T120100Z
DTSTART;TZID=America/New_York:20230204T080000
DURATION:PT1H30M0S
SUMMARY:[A #2] High Octane vs. [C #2] NW Lady Warriors Miken
DESCRIPTION:Women 50 Aaa - International Senior Softball Association<br>ISSA
LOCATION:NTP 2
CATEGORIES:QuickScores, Softball Game
TRANSP:OPAQUE
BEGIN:VALARM
TRIGGER:-PT2H
ACTION:DISPLAY
DESCRIPTION:[A #2] High Octane vs. [C #2] NW Lady Warriors Miken
END:VALARM
END:VEVENT
BEGIN:VEVENT
UID:issa-56041722-20230204T080000@quickscores.com
DTSTAMP:20260425T120100Z
DTSTART;TZID=America/New_York:20230204T080000
DURATION:PT1H30M0S
SUMMARY:[B #1] 50 and Over Ballers vs. [A #3]Golden Girls 50/ Lew’s Crew
DESCRIPTION:Women 50 Aaa - International Senior Softball Association<br>ISSA
LOCATION:NTP 1
CATEGORIES:QuickScores, Softball Game
TRANSP:OPAQUE
BEGIN:VALARM
TRIGGER:-PT2H
ACTION:DISPLAY
DESCRIPTION:[B #1] 50 and Over Ballers vs. [A #3]Golden Girls 50/ Lew’s Crew
END:VALARM
END:VEVENT
BEGIN:VEVENT
UID:issa-56041723-20230204T080000@quickscores.com
DTSTAMP:20260425T120100Z
DTSTART;TZID=America/New_York:20230204T080000
DURATION:PT1H30M0S
SUMMARY:[C #1] Unfazed vs. [B #2]B2B
DESCRIPTION:Women 50 Aaa - International Senior Softball Association<br>ISSA
LOCATION:NTP 4
CATEGORIES:QuickScores, Softball Game
TRANSP:OPAQUE
BEGIN:VALARM
TRIGGER:-PT2H
ACTION:DISPLAY
DESCRIPTION:[C #1] Unfazed vs. [B #2]B2B
END:VALARM
END:VEVENT
BEGIN:VEVENT
UID:issa-56041720-20230204T093000@quickscores.com
DTSTAMP:20260425T120100Z
DTSTART;TZID=America/New_York:20230204T093000
DURATION:PT1H30M0S
SUMMARY:[A #1]Bags vs. [C #3]JWP
DESCRIPTION:Women 50 Aaa - International Senior Softball Association<br>ISSA
LOCATION:NTP 3
CATEGORIES:QuickScores, Softball Game
TRANSP:OPAQUE
BEGIN:VALARM
TRIGGER:-PT2H
ACTION:DISPLAY
DESCRIPTION:[A #1]Bags vs. [C #3]JWP
END:VALARM
END:VEVENT
BEGIN:VEVENT
UID:issa-56041728-20230204T110000@quickscores.com
DTSTAMP:20260425T120100Z
DTSTART;TZID=America/New_York:20230204T110000
DURATION:PT1H30M0S
SUMMARY:[C #1] Unfazed vs. [B #3] Lady Vipers
DESCRIPTION:Women 50 Aaa - International Senior Softball Association<br>ISSA
LOCATION:NTP 3
CATEGORIES:QuickScores, Softball Game
TRANSP:OPAQUE
BEGIN:VALARM
TRIGGER:-PT2H
ACTION:DISPLAY
DESCRIPTION:[C #1] Unfazed vs. [B #3] Lady Vipers
END:VALARM
END:VEVENT
BEGIN:VEVENT
UID:issa-56041735-20230204T123000@quickscores.com
DTSTAMP:20260425T120100Z
DTSTART;TZID=America/New_York:20230204T123000
DURATION:PT1H30M0S
SUMMARY:[C #2] NW Lady Warriors Miken vs. [A #1]Bags
DESCRIPTION:Women 50 Aaa - International Senior Softball Association<br>ISSA
LOCATION:NTP 4
CATEGORIES:QuickScores, Softball Game
TRANSP:OPAQUE
BEGIN:VALARM
TRIGGER:-PT2H
ACTION:DISPLAY
DESCRIPTION:[C #2] NW Lady Warriors Miken vs. [A #1]Bags
END:VALARM
END:VEVENT
BEGIN:VEVENT
UID:issa-56041734-20230204T123000@quickscores.com
DTSTAMP:20260425T120100Z
DTSTART;TZID=America/New_York:20230204T123000
DURATION:PT1H30M0S
SUMMARY:[C #1] Unfazed vs. [A #3]Golden Girls 50/ Lew’s Crew
DESCRIPTION:Women 50 Aaa - International Senior Softball Association<br>ISSA
LOCATION:NTP 3
CATEGORIES:QuickScores, Softball Game
TRANSP:OPAQUE
BEGIN:VALARM
TRIGGER:-PT2H
ACTION:DISPLAY
DESCRIPTION:[C #1] Unfazed vs. [A #3]Golden Girls 50/ Lew’s Crew
END:VALARM
END:VEVENT
BEGIN:VEVENT
UID:issa-56041733-20230204T123000@quickscores.com
DTSTAMP:20260425T120100Z
DTSTART;TZID=America/New_York:20230204T123000
DURATION:PT1H30M0S
SUMMARY:[B #1] 50 and Over Ballers vs. [B #2]B2B
DESCRIPTION:Women 50 Aaa - International Senior Softball Association<br>ISSA
LOCATION:NTP 2
CATEGORIES:QuickScores, Softball Game
TRANSP:OPAQUE
BEGIN:VALARM
TRIGGER:-PT2H
ACTION:DISPLAY
DESCRIPTION:[B #1] 50 and Over Ballers vs. [B #2]B2B
END:VALARM
END:VEVENT
BEGIN:VEVENT
UID:issa-56041732-20230204T123000@quickscores.com
DTSTAMP:20260425T120100Z
DTSTART;TZID=America/New_York:20230204T123000
DURATION:PT1H30M0S
SUMMARY:[C #3]JWP vs. [A #2] High Octane
DESCRIPTION:Women 50 Aaa - International Senior Softball Association<br>ISSA
LOCATION:NTP 1
CATEGORIES:QuickScores, Softball Game
TRANSP:OPAQUE
BEGIN:VALARM
TRIGGER:-PT2H
ACTION:DISPLAY
DESCRIPTION:[C #3]JWP vs. [A #2] High Octane
END:VALARM
END:VEVENT
BEGIN:VEVENT
UID:issa-56041738-20230204T140000@quickscores.com
DTSTAMP:20260425T120100Z
DTSTART;TZID=America/New_York:20230204T140000
DURATION:PT1H30M0S
SUMMARY:[A #2] High Octane vs. [B #1] 50 and Over Ballers
DESCRIPTION:Women 50 Aaa - International Senior Softball Association<br>ISSA
LOCATION:NTP 1
CATEGORIES:QuickScores, Softball Game
TRANSP:OPAQUE
BEGIN:VALARM
TRIGGER:-PT2H
ACTION:DISPLAY
DESCRIPTION:[A #2] High Octane vs. [B #1] 50 and Over Ballers
END:VALARM
END:VEVENT
BEGIN:VEVENT
UID:issa-56041736-20230204T153000@quickscores.com
DTSTAMP:20260425T120100Z
DTSTART;TZID=America/New_York:20230204T153000
DURATION:PT1H30M0S
SUMMARY:[C #3]JWP vs. [A #3]Golden Girls 50/ Lew’s Crew
DESCRIPTION:Women 50 Aaa - International Senior Softball Association<br>ISSA
LOCATION:NTP 1
CATEGORIES:QuickScores, Softball Game
TRANSP:OPAQUE
BEGIN:VALARM
TRIGGER:-PT2H
ACTION:DISPLAY
DESCRIPTION:[C #3]JWP vs. [A #3]Golden Girls 50/ Lew’s Crew
END:VALARM
END:VEVENT
BEGIN:VEVENT
UID:issa-56041737-20230204T153000@quickscores.com
DTSTAMP:20260425T120100Z
DTSTART;TZID=America/New_York:20230204T153000
DURATION:PT1H30M0S
SUMMARY:[B #2]B2B vs. [A #1]Bags
DESCRIPTION:Women 50 Aaa - International Senior Softball Association<br>ISSA
LOCATION:NTP 2
CATEGORIES:QuickScores, Softball Game
TRANSP:OPAQUE
BEGIN:VALARM
TRIGGER:-PT2H
ACTION:DISPLAY
DESCRIPTION:[B #2]B2B vs. [A #1]Bags
END:VALARM
END:VEVENT
BEGIN:VEVENT
UID:issa-56041739-20230205T080000@quickscores.com
DTSTAMP:20260425T120100Z
DTSTART;TZID=America/New_York:20230205T080000
DURATION:PT1H30M0S
SUMMARY:[A #3]Golden Girls 50/ Lew’s Crew vs. [A #1]Bags
DESCRIPTION:Women 50 Aaa - International Senior Softball Association<br>ISSA
LOCATION:NTP 1
CATEGORIES:QuickScores, Softball Game
TRANSP:OPAQUE
BEGIN:VALARM
TRIGGER:-PT2H
ACTION:DISPLAY
DESCRIPTION:[A #3]Golden Girls 50/ Lew’s Crew vs. [A #1]Bags
END:VALARM
END:VEVENT
BEGIN:VEVENT
UID:issa-56041740-20230205T093000@quickscores.com
DTSTAMP:20260425T120100Z
DTSTART;TZID=America/New_York:20230205T093000
DURATION:PT1H30M0S
SUMMARY:[A #2] High Octane vs. [A #1]Bags
DESCRIPTION:Women 50 Aaa - International Senior Softball Association<br>ISSA
LOCATION:NTP 1
CATEGORIES:QuickScores, Softball Game
TRANSP:OPAQUE
BEGIN:VALARM
TRIGGER:-PT2H
ACTION:DISPLAY
DESCRIPTION:[A #2] High Octane vs. [A #1]Bags
END:VALARM
END:VEVENT
BEGIN:VEVENT
UID:issa-56041741-20230205T110000@quickscores.com
DTSTAMP:20260425T120100Z
DTSTART;TZID=America/New_York:20230205T110000
DURATION:PT1H30M0S
SUMMARY:[B #1] 50 and Over Ballers vs. [A #2] High Octane
DESCRIPTION:Women 50 Aaa - International Senior Softball Association<br>ISSA
LOCATION:NTP 1
CATEGORIES:QuickScores, Softball Game
TRANSP:OPAQUE
BEGIN:VALARM
TRIGGER:-PT2H
ACTION:DISPLAY
DESCRIPTION:[B #1] 50 and Over Ballers vs. [A #2] High Octane
END:VALARM
END:VEVENT
BEGIN:VEVENT
UID:issa-56041742-20230205T123000@quickscores.com
DTSTAMP:20260425T120100Z
DTSTART;TZID=America/New_York:20230205T123000
DURATION:PT1H30M0S
SUMMARY:[A #2] High Octane vs. [B #1] 50 and Over Ballers
DESCRIPTION:Women 50 Aaa - International Senior Softball Association<br>ISSA
LOCATION:NTP 1
CATEGORIES:QuickScores, Softball Game
TRANSP:OPAQUE
BEGIN:VALARM
TRIGGER:-PT2H
ACTION:DISPLAY
DESCRIPTION:[A #2] High Octane vs. [B #1] 50 and Over Ballers
END:VALARM
END:VEVENT
END:VCALENDAR
