BEGIN:VCALENDAR
VERSION:2.0
PRODID:-//QuickScores.com//BQ Dynamic iCal Creator//EN
METHOD:PUBLISH
X-WR-CALNAME:8u/9uaa - Fall 2022
X-WR-CALDESC:QuickScores game calendar
X-PUBLISHED-TTL:PT24H
REFRESH-INTERVAL;VALUE=DURATION:PT24H
CALSCALE:GREGORIAN
BEGIN:VTIMEZONE
TZID:America/Los_Angeles
X-LIC-LOCATION:America/Los_Angeles
BEGIN:DAYLIGHT
TZNAME:PDT
TZOFFSETFROM:-0800
TZOFFSETTO:-0700
DTSTART:19700308T020000
RRULE:FREQ=YEARLY;BYMONTH=3;BYDAY=2SU
END:DAYLIGHT
BEGIN:STANDARD
TZNAME:PST
TZOFFSETFROM:-0700
TZOFFSETTO:-0800
DTSTART:19701101T020000
RRULE:FREQ=YEARLY;BYMONTH=11;BYDAY=1SU
END:STANDARD
END:VTIMEZONE
BEGIN:VEVENT
UID:baseball365-54996848-20220911T103000@quickscores.com
DTSTAMP:20260424T052000Z
DTSTART;TZID=America/Los_Angeles:20220911T103000
DURATION:PT1H30M0S
SUMMARY:Wilshire Warriors 8U vs. Pali Riptide 8U
DESCRIPTION:8u/9uaa - Top Prospect Athletics
LOCATION:2a
CATEGORIES:QuickScores, Baseball Game
TRANSP:OPAQUE
BEGIN:VALARM
TRIGGER:-PT2H
ACTION:DISPLAY
DESCRIPTION:Wilshire Warriors 8U vs. Pali Riptide 8U
END:VALARM
END:VEVENT
BEGIN:VEVENT
UID:baseball365-54996849-20220911T123000@quickscores.com
DTSTAMP:20260424T052000Z
DTSTART;TZID=America/Los_Angeles:20220911T123000
DURATION:PT1H30M0S
SUMMARY:Pali Riptide 8U vs. 365 Shockers 8U
DESCRIPTION:8u/9uaa - Top Prospect Athletics
LOCATION:2a
CATEGORIES:QuickScores, Baseball Game
TRANSP:OPAQUE
BEGIN:VALARM
TRIGGER:-PT2H
ACTION:DISPLAY
DESCRIPTION:Pali Riptide 8U vs. 365 Shockers 8U
END:VALARM
END:VEVENT
BEGIN:VEVENT
UID:baseball365-54996847-20220911T143000@quickscores.com
DTSTAMP:20260424T052000Z
DTSTART;TZID=America/Los_Angeles:20220911T143000
DURATION:PT1H30M0S
SUMMARY:SO Sharks 8U vs. EnFuego
DESCRIPTION:8u/9uaa - Top Prospect Athletics
LOCATION:2a
CATEGORIES:QuickScores, Baseball Game
TRANSP:OPAQUE
BEGIN:VALARM
TRIGGER:-PT2H
ACTION:DISPLAY
DESCRIPTION:SO Sharks 8U vs. EnFuego
END:VALARM
END:VEVENT
BEGIN:VEVENT
UID:baseball365-54996828-20220911T163000@quickscores.com
DTSTAMP:20260424T052000Z
DTSTART;TZID=America/Los_Angeles:20220911T163000
DURATION:PT1H30M0S
SUMMARY:365 Shockers 9U vs. EnFuego
DESCRIPTION:8u/9uaa - Top Prospect Athletics
LOCATION:4
CATEGORIES:QuickScores, Baseball Game
TRANSP:OPAQUE
BEGIN:VALARM
TRIGGER:-PT2H
ACTION:DISPLAY
DESCRIPTION:365 Shockers 9U vs. EnFuego
END:VALARM
END:VEVENT
BEGIN:VEVENT
UID:baseball365-55099811-20220918T103000@quickscores.com
DTSTAMP:20260424T052000Z
DTSTART;TZID=America/Los_Angeles:20220918T103000
DURATION:PT1H30M0S
SUMMARY:365 Shockers 9U vs. Wilshire Warriors 8U
DESCRIPTION:8u/9uaa - Top Prospect Athletics
LOCATION:2a
CATEGORIES:QuickScores, Baseball Game
TRANSP:OPAQUE
BEGIN:VALARM
TRIGGER:-PT2H
ACTION:DISPLAY
DESCRIPTION:365 Shockers 9U vs. Wilshire Warriors 8U
END:VALARM
END:VEVENT
BEGIN:VEVENT
UID:baseball365-55099812-20220918T123000@quickscores.com
DTSTAMP:20260424T052000Z
DTSTART;TZID=America/Los_Angeles:20220918T123000
DURATION:PT1H30M0S
SUMMARY:365 Shockers 8U vs. SO Sharks 8U
DESCRIPTION:8u/9uaa - Top Prospect Athletics
LOCATION:2a
CATEGORIES:QuickScores, Baseball Game
TRANSP:OPAQUE
BEGIN:VALARM
TRIGGER:-PT2H
ACTION:DISPLAY
DESCRIPTION:365 Shockers 8U vs. SO Sharks 8U
END:VALARM
END:VEVENT
BEGIN:VEVENT
UID:baseball365-55165560-20220925T083000@quickscores.com
DTSTAMP:20260424T052000Z
DTSTART;TZID=America/Los_Angeles:20220925T083000
DURATION:PT1H30M0S
SUMMARY:MVP Hustle  Luna vs. EnFuego
DESCRIPTION:8u/9uaa - Top Prospect Athletics
LOCATION:2a
CATEGORIES:QuickScores, Baseball Game
TRANSP:OPAQUE
BEGIN:VALARM
TRIGGER:-PT2H
ACTION:DISPLAY
DESCRIPTION:MVP Hustle  Luna vs. EnFuego
END:VALARM
END:VEVENT
BEGIN:VEVENT
UID:baseball365-55165561-20220925T103000@quickscores.com
DTSTAMP:20260424T052000Z
DTSTART;TZID=America/Los_Angeles:20220925T103000
DURATION:PT1H30M0S
SUMMARY:MVP Hustle  Luna vs. Wilshire Warriors 8U
DESCRIPTION:8u/9uaa - Top Prospect Athletics
LOCATION:2a
CATEGORIES:QuickScores, Baseball Game
TRANSP:OPAQUE
BEGIN:VALARM
TRIGGER:-PT2H
ACTION:DISPLAY
DESCRIPTION:MVP Hustle  Luna vs. Wilshire Warriors 8U
END:VALARM
END:VEVENT
BEGIN:VEVENT
UID:baseball365-55165562-20220925T123000@quickscores.com
DTSTAMP:20260424T052000Z
DTSTART;TZID=America/Los_Angeles:20220925T123000
DURATION:PT1H30M0S
SUMMARY:Pali Riptide 8U vs. SO Sharks 8U
DESCRIPTION:8u/9uaa - Top Prospect Athletics
LOCATION:2a
CATEGORIES:QuickScores, Baseball Game
TRANSP:OPAQUE
BEGIN:VALARM
TRIGGER:-PT2H
ACTION:DISPLAY
DESCRIPTION:Pali Riptide 8U vs. SO Sharks 8U
END:VALARM
END:VEVENT
BEGIN:VEVENT
UID:baseball365-55165563-20220925T143000@quickscores.com
DTSTAMP:20260424T052000Z
DTSTART;TZID=America/Los_Angeles:20220925T143000
DURATION:PT1H30M0S
SUMMARY:Pali Riptide 8U vs. Honeybadgers 8U
DESCRIPTION:8u/9uaa - Top Prospect Athletics
LOCATION:2a
CATEGORIES:QuickScores, Baseball Game
TRANSP:OPAQUE
BEGIN:VALARM
TRIGGER:-PT2H
ACTION:DISPLAY
DESCRIPTION:Pali Riptide 8U vs. Honeybadgers 8U
END:VALARM
END:VEVENT
BEGIN:VEVENT
UID:baseball365-55165564-20220925T163000@quickscores.com
DTSTAMP:20260424T052000Z
DTSTART;TZID=America/Los_Angeles:20220925T163000
DURATION:PT1H30M0S
SUMMARY:Honeybadgers 8U vs. 365 Shockers 8U
DESCRIPTION:8u/9uaa - Top Prospect Athletics
LOCATION:2a
CATEGORIES:QuickScores, Baseball Game
TRANSP:OPAQUE
BEGIN:VALARM
TRIGGER:-PT2H
ACTION:DISPLAY
DESCRIPTION:Honeybadgers 8U vs. 365 Shockers 8U
END:VALARM
END:VEVENT
BEGIN:VEVENT
UID:baseball365-55234147-20221002T080000@quickscores.com
DTSTAMP:20260424T052000Z
DTSTART;TZID=America/Los_Angeles:20221002T080000
DURATION:PT1H30M0S
SUMMARY:MVP Hustle  Luna vs. PALI RIPTIDE GREEN
DESCRIPTION:8u/9uaa - Top Prospect Athletics
LOCATION:2a
CATEGORIES:QuickScores, Baseball Game
TRANSP:OPAQUE
BEGIN:VALARM
TRIGGER:-PT2H
ACTION:DISPLAY
DESCRIPTION:MVP Hustle  Luna vs. PALI RIPTIDE GREEN
END:VALARM
END:VEVENT
BEGIN:VEVENT
UID:baseball365-55234146-20221002T100000@quickscores.com
DTSTAMP:20260424T052000Z
DTSTART;TZID=America/Los_Angeles:20221002T100000
DURATION:PT1H30M0S
SUMMARY:365 Shockers 8U vs. MVP Hustle  Luna
DESCRIPTION:8u/9uaa - Top Prospect Athletics
LOCATION:2a
CATEGORIES:QuickScores, Baseball Game
TRANSP:OPAQUE
BEGIN:VALARM
TRIGGER:-PT2H
ACTION:DISPLAY
DESCRIPTION:365 Shockers 8U vs. MVP Hustle  Luna
END:VALARM
END:VEVENT
BEGIN:VEVENT
UID:baseball365-55234164-20221002T123000@quickscores.com
DTSTAMP:20260424T052000Z
DTSTART;TZID=America/Los_Angeles:20221002T123000
DURATION:PT1H30M0S
SUMMARY:EnFuego vs. Wilshire Warriors 8U
DESCRIPTION:8u/9uaa - Top Prospect Athletics
LOCATION:2a
CATEGORIES:QuickScores, Baseball Game
TRANSP:OPAQUE
BEGIN:VALARM
TRIGGER:-PT2H
ACTION:DISPLAY
DESCRIPTION:EnFuego vs. Wilshire Warriors 8U
END:VALARM
END:VEVENT
BEGIN:VEVENT
UID:baseball365-55234165-20221002T143000@quickscores.com
DTSTAMP:20260424T052000Z
DTSTART;TZID=America/Los_Angeles:20221002T143000
DURATION:PT1H30M0S
SUMMARY:SO Sharks 8U vs. Wilshire Warriors 8U
DESCRIPTION:8u/9uaa - Top Prospect Athletics
LOCATION:2a
CATEGORIES:QuickScores, Baseball Game
TRANSP:OPAQUE
BEGIN:VALARM
TRIGGER:-PT2H
ACTION:DISPLAY
DESCRIPTION:SO Sharks 8U vs. Wilshire Warriors 8U
END:VALARM
END:VEVENT
BEGIN:VEVENT
UID:baseball365-55291181-20221009T080000@quickscores.com
DTSTAMP:20260424T052000Z
DTSTART;TZID=America/Los_Angeles:20221009T080000
DURATION:PT1H30M0S
SUMMARY:SANDLOT vs. 365 Shockers 9U
DESCRIPTION:8u/9uaa - Top Prospect Athletics
LOCATION:2a
CATEGORIES:QuickScores, Baseball Game
TRANSP:OPAQUE
BEGIN:VALARM
TRIGGER:-PT2H
ACTION:DISPLAY
DESCRIPTION:SANDLOT vs. 365 Shockers 9U
END:VALARM
END:VEVENT
BEGIN:VEVENT
UID:baseball365-55291182-20221009T100000@quickscores.com
DTSTAMP:20260424T052000Z
DTSTART;TZID=America/Los_Angeles:20221009T100000
DURATION:PT1H30M0S
SUMMARY:Honeybadgers 8U vs. SANDLOT
DESCRIPTION:8u/9uaa - Top Prospect Athletics
LOCATION:2a
CATEGORIES:QuickScores, Baseball Game
TRANSP:OPAQUE
BEGIN:VALARM
TRIGGER:-PT2H
ACTION:DISPLAY
DESCRIPTION:Honeybadgers 8U vs. SANDLOT
END:VALARM
END:VEVENT
BEGIN:VEVENT
UID:baseball365-55291183-20221009T120000@quickscores.com
DTSTAMP:20260424T052000Z
DTSTART;TZID=America/Los_Angeles:20221009T120000
DURATION:PT1H30M0S
SUMMARY:Honeybadgers 8U vs. Wilshire Warriors 8U
DESCRIPTION:8u/9uaa - Top Prospect Athletics
LOCATION:2a
CATEGORIES:QuickScores, Baseball Game
TRANSP:OPAQUE
BEGIN:VALARM
TRIGGER:-PT2H
ACTION:DISPLAY
DESCRIPTION:Honeybadgers 8U vs. Wilshire Warriors 8U
END:VALARM
END:VEVENT
BEGIN:VEVENT
UID:baseball365-55291189-20221009T143000@quickscores.com
DTSTAMP:20260424T052000Z
DTSTART;TZID=America/Los_Angeles:20221009T143000
DURATION:PT1H30M0S
SUMMARY:EnFuego vs. Pali Riptide 8U
DESCRIPTION:8u/9uaa - Top Prospect Athletics
LOCATION:2a
CATEGORIES:QuickScores, Baseball Game
TRANSP:OPAQUE
BEGIN:VALARM
TRIGGER:-PT2H
ACTION:DISPLAY
DESCRIPTION:EnFuego vs. Pali Riptide 8U
END:VALARM
END:VEVENT
BEGIN:VEVENT
UID:baseball365-55291190-20221009T163000@quickscores.com
DTSTAMP:20260424T052000Z
DTSTART;TZID=America/Los_Angeles:20221009T163000
DURATION:PT1H30M0S
SUMMARY:Pali Riptide 8U vs. SO Sharks 8U
DESCRIPTION:8u/9uaa - Top Prospect Athletics
LOCATION:2a
CATEGORIES:QuickScores, Baseball Game
TRANSP:OPAQUE
BEGIN:VALARM
TRIGGER:-PT2H
ACTION:DISPLAY
DESCRIPTION:Pali Riptide 8U vs. SO Sharks 8U
END:VALARM
END:VEVENT
BEGIN:VEVENT
UID:baseball365-55351830-20221016T080000@quickscores.com
DTSTAMP:20260424T052000Z
DTSTART;TZID=America/Los_Angeles:20221016T080000
DURATION:PT1H30M0S
SUMMARY:MVP Hustle  Luna vs. EnFuego
DESCRIPTION:8u/9uaa - Top Prospect Athletics
LOCATION:2a
CATEGORIES:QuickScores, Baseball Game
TRANSP:OPAQUE
BEGIN:VALARM
TRIGGER:-PT2H
ACTION:DISPLAY
DESCRIPTION:MVP Hustle  Luna vs. EnFuego
END:VALARM
END:VEVENT
BEGIN:VEVENT
UID:baseball365-55326775-20221016T100000@quickscores.com
DTSTAMP:20260424T052000Z
DTSTART;TZID=America/Los_Angeles:20221016T100000
DURATION:PT1H30M0S
SUMMARY:MVP Hustle  Luna vs. SO Sharks 8U
DESCRIPTION:8u/9uaa - Top Prospect Athletics
LOCATION:2a
CATEGORIES:QuickScores, Baseball Game
TRANSP:OPAQUE
BEGIN:VALARM
TRIGGER:-PT2H
ACTION:DISPLAY
DESCRIPTION:MVP Hustle  Luna vs. SO Sharks 8U
END:VALARM
END:VEVENT
BEGIN:VEVENT
UID:baseball365-55326776-20221016T120000@quickscores.com
DTSTAMP:20260424T052000Z
DTSTART;TZID=America/Los_Angeles:20221016T120000
DURATION:PT1H30M0S
SUMMARY:Wilshire Warriors 8U vs. PALI RIPTIDE GREEN
DESCRIPTION:8u/9uaa - Top Prospect Athletics
LOCATION:2a
CATEGORIES:QuickScores, Baseball Game
TRANSP:OPAQUE
BEGIN:VALARM
TRIGGER:-PT2H
ACTION:DISPLAY
DESCRIPTION:Wilshire Warriors 8U vs. PALI RIPTIDE GREEN
END:VALARM
END:VEVENT
BEGIN:VEVENT
UID:baseball365-55351839-20221016T143000@quickscores.com
DTSTAMP:20260424T052000Z
DTSTART;TZID=America/Los_Angeles:20221016T143000
DURATION:PT1H30M0S
SUMMARY:PALI RIPTIDE 9U vs. 365 Shockers 9U
DESCRIPTION:8u/9uaa - Top Prospect Athletics
LOCATION:2a
CATEGORIES:QuickScores, Baseball Game
TRANSP:OPAQUE
BEGIN:VALARM
TRIGGER:-PT2H
ACTION:DISPLAY
DESCRIPTION:PALI RIPTIDE 9U vs. 365 Shockers 9U
END:VALARM
END:VEVENT
BEGIN:VEVENT
UID:baseball365-55335049-20221023T083000@quickscores.com
DTSTAMP:20260424T052000Z
DTSTART;TZID=America/Los_Angeles:20221023T083000
DURATION:PT1H30M0S
SUMMARY:EnFuego vs. Pali Riptide 8U
DESCRIPTION:8u/9uaa - Top Prospect Athletics
LOCATION:2a
CATEGORIES:QuickScores, Baseball Game
TRANSP:OPAQUE
BEGIN:VALARM
TRIGGER:-PT2H
ACTION:DISPLAY
DESCRIPTION:EnFuego vs. Pali Riptide 8U
END:VALARM
END:VEVENT
BEGIN:VEVENT
UID:baseball365-55335048-20221023T103000@quickscores.com
DTSTAMP:20260424T052000Z
DTSTART;TZID=America/Los_Angeles:20221023T103000
DURATION:PT1H30M0S
SUMMARY:Wilshire Warriors 8U vs. Pali Riptide 8U
DESCRIPTION:8u/9uaa - Top Prospect Athletics
LOCATION:2a
CATEGORIES:QuickScores, Baseball Game
TRANSP:OPAQUE
BEGIN:VALARM
TRIGGER:-PT2H
ACTION:DISPLAY
DESCRIPTION:Wilshire Warriors 8U vs. Pali Riptide 8U
END:VALARM
END:VEVENT
BEGIN:VEVENT
UID:baseball365-55335050-20221023T123000@quickscores.com
DTSTAMP:20260424T052000Z
DTSTART;TZID=America/Los_Angeles:20221023T123000
DURATION:PT1H30M0S
SUMMARY:Wilshire Warriors 8U vs. Honeybadgers 8U
DESCRIPTION:8u/9uaa - Top Prospect Athletics
LOCATION:2a
CATEGORIES:QuickScores, Baseball Game
TRANSP:OPAQUE
BEGIN:VALARM
TRIGGER:-PT2H
ACTION:DISPLAY
DESCRIPTION:Wilshire Warriors 8U vs. Honeybadgers 8U
END:VALARM
END:VEVENT
BEGIN:VEVENT
UID:baseball365-55335051-20221023T144500@quickscores.com
DTSTAMP:20260424T052000Z
DTSTART;TZID=America/Los_Angeles:20221023T144500
DURATION:PT1H30M0S
SUMMARY:SO Sharks 8U vs. Honeybadgers 8U
DESCRIPTION:8u/9uaa - Top Prospect Athletics
LOCATION:2a
CATEGORIES:QuickScores, Baseball Game
TRANSP:OPAQUE
BEGIN:VALARM
TRIGGER:-PT2H
ACTION:DISPLAY
DESCRIPTION:SO Sharks 8U vs. Honeybadgers 8U
END:VALARM
END:VEVENT
BEGIN:VEVENT
UID:baseball365-55465427-20221030T100000@quickscores.com
DTSTAMP:20260424T052000Z
DTSTART;TZID=America/Los_Angeles:20221030T100000
DURATION:PT1H30M0S
SUMMARY:Wilshire Warriors 8U vs. EnFuego
DESCRIPTION:8u/9uaa - Top Prospect Athletics
LOCATION:2a
CATEGORIES:QuickScores, Baseball Game
TRANSP:OPAQUE
BEGIN:VALARM
TRIGGER:-PT2H
ACTION:DISPLAY
DESCRIPTION:Wilshire Warriors 8U vs. EnFuego
END:VALARM
END:VEVENT
BEGIN:VEVENT
UID:baseball365-55465428-20221030T120000@quickscores.com
DTSTAMP:20260424T052000Z
DTSTART;TZID=America/Los_Angeles:20221030T120000
DURATION:PT1H30M0S
SUMMARY:365 Shockers 8U vs. PALI RIPTIDE GREEN
DESCRIPTION:8u/9uaa - Top Prospect Athletics
LOCATION:2a
CATEGORIES:QuickScores, Baseball Game
TRANSP:OPAQUE
BEGIN:VALARM
TRIGGER:-PT2H
ACTION:DISPLAY
DESCRIPTION:365 Shockers 8U vs. PALI RIPTIDE GREEN
END:VALARM
END:VEVENT
BEGIN:VEVENT
UID:baseball365-55465429-20221030T143000@quickscores.com
DTSTAMP:20260424T052000Z
DTSTART;TZID=America/Los_Angeles:20221030T143000
DURATION:PT1H30M0S
SUMMARY:SO Sharks 8U vs. 365 Shockers 8U
DESCRIPTION:8u/9uaa - Top Prospect Athletics
LOCATION:2a
CATEGORIES:QuickScores, Baseball Game
TRANSP:OPAQUE
BEGIN:VALARM
TRIGGER:-PT2H
ACTION:DISPLAY
DESCRIPTION:SO Sharks 8U vs. 365 Shockers 8U
END:VALARM
END:VEVENT
BEGIN:VEVENT
UID:baseball365-55546609-20221106T073000@quickscores.com
DTSTAMP:20260424T052000Z
DTSTART;TZID=America/Los_Angeles:20221106T073000
DURATION:PT1H30M0S
SUMMARY:Honeybadgers 8U vs. SO Sharks 8U
DESCRIPTION:8u/9uaa - Top Prospect Athletics
LOCATION:2a
CATEGORIES:QuickScores, Baseball Game
TRANSP:OPAQUE
BEGIN:VALARM
TRIGGER:-PT2H
ACTION:DISPLAY
DESCRIPTION:Honeybadgers 8U vs. SO Sharks 8U
END:VALARM
END:VEVENT
BEGIN:VEVENT
UID:baseball365-55546610-20221106T093000@quickscores.com
DTSTAMP:20260424T052000Z
DTSTART;TZID=America/Los_Angeles:20221106T093000
DURATION:PT1H30M0S
SUMMARY:SANDLOT vs. Honeybadgers 8U
DESCRIPTION:8u/9uaa - Top Prospect Athletics
LOCATION:2a
CATEGORIES:QuickScores, Baseball Game
TRANSP:OPAQUE
BEGIN:VALARM
TRIGGER:-PT2H
ACTION:DISPLAY
DESCRIPTION:SANDLOT vs. Honeybadgers 8U
END:VALARM
END:VEVENT
BEGIN:VEVENT
UID:baseball365-55546611-20221106T113000@quickscores.com
DTSTAMP:20260424T052000Z
DTSTART;TZID=America/Los_Angeles:20221106T113000
DURATION:PT1H30M0S
SUMMARY:SANDLOT vs. 365 Shockers 8U
DESCRIPTION:8u/9uaa - Top Prospect Athletics
LOCATION:2a
CATEGORIES:QuickScores, Baseball Game
TRANSP:OPAQUE
BEGIN:VALARM
TRIGGER:-PT2H
ACTION:DISPLAY
DESCRIPTION:SANDLOT vs. 365 Shockers 8U
END:VALARM
END:VEVENT
BEGIN:VEVENT
UID:baseball365-55546612-20221106T133000@quickscores.com
DTSTAMP:20260424T052000Z
DTSTART;TZID=America/Los_Angeles:20221106T133000
DURATION:PT1H30M0S
SUMMARY:Pali Riptide 8U vs. Wilshire Warriors 8U
DESCRIPTION:8u/9uaa - Top Prospect Athletics
LOCATION:2a
CATEGORIES:QuickScores, Baseball Game
TRANSP:OPAQUE
BEGIN:VALARM
TRIGGER:-PT2H
ACTION:DISPLAY
DESCRIPTION:Pali Riptide 8U vs. Wilshire Warriors 8U
END:VALARM
END:VEVENT
BEGIN:VEVENT
UID:baseball365-55546613-20221106T153000@quickscores.com
DTSTAMP:20260424T052000Z
DTSTART;TZID=America/Los_Angeles:20221106T153000
DURATION:PT1H30M0S
SUMMARY:Pali Riptide 8U vs. EnFuego
DESCRIPTION:8u/9uaa - Top Prospect Athletics
LOCATION:2a
CATEGORIES:QuickScores, Baseball Game
TRANSP:OPAQUE
BEGIN:VALARM
TRIGGER:-PT2H
ACTION:DISPLAY
DESCRIPTION:Pali Riptide 8U vs. EnFuego
END:VALARM
END:VEVENT
BEGIN:VEVENT
UID:baseball365-55616521-20221113T083000@quickscores.com
DTSTAMP:20260424T052000Z
DTSTART;TZID=America/Los_Angeles:20221113T083000
DURATION:PT1H30M0S
SUMMARY:Wilshire Warriors 8U vs. SO Sharks 8U
DESCRIPTION:8u/9uaa - Top Prospect Athletics
LOCATION:2a
CATEGORIES:QuickScores, Baseball Game
TRANSP:OPAQUE
BEGIN:VALARM
TRIGGER:-PT2H
ACTION:DISPLAY
DESCRIPTION:Wilshire Warriors 8U vs. SO Sharks 8U
END:VALARM
END:VEVENT
BEGIN:VEVENT
UID:baseball365-55616522-20221113T123000@quickscores.com
DTSTAMP:20260424T052000Z
DTSTART;TZID=America/Los_Angeles:20221113T123000
DURATION:PT1H30M0S
SUMMARY:EnFuego vs. PALI RIPTIDE GREEN
DESCRIPTION:8u/9uaa - Top Prospect Athletics
LOCATION:2a
CATEGORIES:QuickScores, Baseball Game
TRANSP:OPAQUE
BEGIN:VALARM
TRIGGER:-PT2H
ACTION:DISPLAY
DESCRIPTION:EnFuego vs. PALI RIPTIDE GREEN
END:VALARM
END:VEVENT
BEGIN:VEVENT
UID:baseball365-55690057-20221120T083000@quickscores.com
DTSTAMP:20260424T052000Z
DTSTART;TZID=America/Los_Angeles:20221120T083000
DURATION:PT1H30M0S
SUMMARY:SO Sharks 8U vs. SANDLOT
DESCRIPTION:8u/9uaa - Top Prospect Athletics
LOCATION:2a
CATEGORIES:QuickScores, Baseball Game
TRANSP:OPAQUE
BEGIN:VALARM
TRIGGER:-PT2H
ACTION:DISPLAY
DESCRIPTION:SO Sharks 8U vs. SANDLOT
END:VALARM
END:VEVENT
BEGIN:VEVENT
UID:baseball365-55690058-20221120T103000@quickscores.com
DTSTAMP:20260424T052000Z
DTSTART;TZID=America/Los_Angeles:20221120T103000
DURATION:PT1H30M0S
SUMMARY:Honeybadgers 8U vs. SANDLOT
DESCRIPTION:8u/9uaa - Top Prospect Athletics
LOCATION:2a
CATEGORIES:QuickScores, Baseball Game
TRANSP:OPAQUE
BEGIN:VALARM
TRIGGER:-PT2H
ACTION:DISPLAY
DESCRIPTION:Honeybadgers 8U vs. SANDLOT
END:VALARM
END:VEVENT
BEGIN:VEVENT
UID:baseball365-55690059-20221120T123000@quickscores.com
DTSTAMP:20260424T052000Z
DTSTART;TZID=America/Los_Angeles:20221120T123000
DURATION:PT1H30M0S
SUMMARY:Honeybadgers 8U vs. Wilshire Warriors 8U
DESCRIPTION:8u/9uaa - Top Prospect Athletics
LOCATION:2a
CATEGORIES:QuickScores, Baseball Game
TRANSP:OPAQUE
BEGIN:VALARM
TRIGGER:-PT2H
ACTION:DISPLAY
DESCRIPTION:Honeybadgers 8U vs. Wilshire Warriors 8U
END:VALARM
END:VEVENT
END:VCALENDAR
