BEGIN:VCALENDAR
VERSION:2.0
PRODID:-//QuickScores.com//BQ Dynamic iCal Creator//EN
METHOD:PUBLISH
X-WR-CALNAME:Wednesday Coed 1 - 2022 Fall Softball
X-WR-CALDESC:QuickScores game calendar
X-PUBLISHED-TTL:PT24H
REFRESH-INTERVAL;VALUE=DURATION:PT24H
CALSCALE:GREGORIAN
BEGIN:VTIMEZONE
TZID:America/Los_Angeles
X-LIC-LOCATION:America/Los_Angeles
BEGIN:DAYLIGHT
TZNAME:PDT
TZOFFSETFROM:-0800
TZOFFSETTO:-0700
DTSTART:19700308T020000
RRULE:FREQ=YEARLY;BYMONTH=3;BYDAY=2SU
END:DAYLIGHT
BEGIN:STANDARD
TZNAME:PST
TZOFFSETFROM:-0700
TZOFFSETTO:-0800
DTSTART:19701101T020000
RRULE:FREQ=YEARLY;BYMONTH=11;BYDAY=1SU
END:STANDARD
END:VTIMEZONE
BEGIN:VEVENT
UID:crpd-54797193-20220907T183000@quickscores.com
DTSTAMP:20260425T183700Z
DTSTART;TZID=America/Los_Angeles:20220907T183000
DURATION:PT1H15M0S
SUMMARY:Sho ' Nuff vs. NP Brew Crew
DESCRIPTION:Wednesday Coed 1 - Conejo Recreation and Park District
LOCATION:Borchard Park Field #1
CATEGORIES:QuickScores, Softball - Adult Game
TRANSP:OPAQUE
BEGIN:VALARM
TRIGGER:-PT2H
ACTION:DISPLAY
DESCRIPTION:Sho ' Nuff vs. NP Brew Crew
END:VALARM
END:VEVENT
BEGIN:VEVENT
UID:crpd-54797191-20220907T194500@quickscores.com
DTSTAMP:20260425T183700Z
DTSTART;TZID=America/Los_Angeles:20220907T194500
DURATION:PT1H15M0S
SUMMARY:NP Brew Crew vs. Baron Von Awesomes
DESCRIPTION:Wednesday Coed 1 - Conejo Recreation and Park District
LOCATION:Borchard Park Field #1
CATEGORIES:QuickScores, Softball - Adult Game
TRANSP:OPAQUE
BEGIN:VALARM
TRIGGER:-PT2H
ACTION:DISPLAY
DESCRIPTION:NP Brew Crew vs. Baron Von Awesomes
END:VALARM
END:VEVENT
BEGIN:VEVENT
UID:crpd-54797192-20220907T210000@quickscores.com
DTSTAMP:20260425T183700Z
DTSTART;TZID=America/Los_Angeles:20220907T210000
DURATION:PT1H15M0S
SUMMARY:Pitches Get Stitches vs. Taco Dirty To Me !
DESCRIPTION:Wednesday Coed 1 - Conejo Recreation and Park District
LOCATION:Borchard Park Field #1
CATEGORIES:QuickScores, Softball - Adult Game
TRANSP:OPAQUE
BEGIN:VALARM
TRIGGER:-PT2H
ACTION:DISPLAY
DESCRIPTION:Pitches Get Stitches vs. Taco Dirty To Me !
END:VALARM
END:VEVENT
BEGIN:VEVENT
UID:crpd-54797195-20220914T183000@quickscores.com
DTSTAMP:20260425T183700Z
DTSTART;TZID=America/Los_Angeles:20220914T183000
DURATION:PT1H15M0S
SUMMARY:Pitches Get Stitches vs. Sho ' Nuff
DESCRIPTION:Wednesday Coed 1 - Conejo Recreation and Park District
LOCATION:Borchard Park Field #1
CATEGORIES:QuickScores, Softball - Adult Game
TRANSP:OPAQUE
BEGIN:VALARM
TRIGGER:-PT2H
ACTION:DISPLAY
DESCRIPTION:Pitches Get Stitches vs. Sho ' Nuff
END:VALARM
END:VEVENT
BEGIN:VEVENT
UID:crpd-54797196-20220914T194500@quickscores.com
DTSTAMP:20260425T183700Z
DTSTART;TZID=America/Los_Angeles:20220914T194500
DURATION:PT1H15M0S
SUMMARY:Taco Dirty To Me ! vs. Baron Von Awesomes
DESCRIPTION:Wednesday Coed 1 - Conejo Recreation and Park District
LOCATION:Borchard Park Field #1
CATEGORIES:QuickScores, Softball - Adult Game
TRANSP:OPAQUE
BEGIN:VALARM
TRIGGER:-PT2H
ACTION:DISPLAY
DESCRIPTION:Taco Dirty To Me ! vs. Baron Von Awesomes
END:VALARM
END:VEVENT
BEGIN:VEVENT
UID:crpd-54797194-20220914T210000@quickscores.com
DTSTAMP:20260425T183700Z
DTSTART;TZID=America/Los_Angeles:20220914T210000
DURATION:PT1H15M0S
SUMMARY:Baron Von Awesomes vs. NP Brew Crew
DESCRIPTION:Wednesday Coed 1 - Conejo Recreation and Park District
LOCATION:Borchard Park Field #1
CATEGORIES:QuickScores, Softball - Adult Game
TRANSP:OPAQUE
BEGIN:VALARM
TRIGGER:-PT2H
ACTION:DISPLAY
DESCRIPTION:Baron Von Awesomes vs. NP Brew Crew
END:VALARM
END:VEVENT
BEGIN:VEVENT
UID:crpd-54797199-20220921T183000@quickscores.com
DTSTAMP:20260425T183700Z
DTSTART;TZID=America/Los_Angeles:20220921T183000
DURATION:PT1H15M0S
SUMMARY:NP Brew Crew vs. Pitches Get Stitches
DESCRIPTION:Wednesday Coed 1 - Conejo Recreation and Park District
LOCATION:Borchard Park Field #1
CATEGORIES:QuickScores, Softball - Adult Game
TRANSP:OPAQUE
BEGIN:VALARM
TRIGGER:-PT2H
ACTION:DISPLAY
DESCRIPTION:NP Brew Crew vs. Pitches Get Stitches
END:VALARM
END:VEVENT
BEGIN:VEVENT
UID:crpd-54797198-20220921T194500@quickscores.com
DTSTAMP:20260425T183700Z
DTSTART;TZID=America/Los_Angeles:20220921T194500
DURATION:PT1H15M0S
SUMMARY:Sho ' Nuff vs. Taco Dirty To Me !
DESCRIPTION:Wednesday Coed 1 - Conejo Recreation and Park District
LOCATION:Borchard Park Field #1
CATEGORIES:QuickScores, Softball - Adult Game
TRANSP:OPAQUE
BEGIN:VALARM
TRIGGER:-PT2H
ACTION:DISPLAY
DESCRIPTION:Sho ' Nuff vs. Taco Dirty To Me !
END:VALARM
END:VEVENT
BEGIN:VEVENT
UID:crpd-54797197-20220921T210000@quickscores.com
DTSTAMP:20260425T183700Z
DTSTART;TZID=America/Los_Angeles:20220921T210000
DURATION:PT1H15M0S
SUMMARY:Baron Von Awesomes vs. Taco Dirty To Me !
DESCRIPTION:Wednesday Coed 1 - Conejo Recreation and Park District
LOCATION:Borchard Park Field #1
CATEGORIES:QuickScores, Softball - Adult Game
TRANSP:OPAQUE
BEGIN:VALARM
TRIGGER:-PT2H
ACTION:DISPLAY
DESCRIPTION:Baron Von Awesomes vs. Taco Dirty To Me !
END:VALARM
END:VEVENT
BEGIN:VEVENT
UID:crpd-54797202-20220928T183000@quickscores.com
DTSTAMP:20260425T183700Z
DTSTART;TZID=America/Los_Angeles:20220928T183000
DURATION:PT1H15M0S
SUMMARY:Baron Von Awesomes vs. Sho ' Nuff
DESCRIPTION:Wednesday Coed 1 - Conejo Recreation and Park District
LOCATION:Borchard Park Field #1
CATEGORIES:QuickScores, Softball - Adult Game
TRANSP:OPAQUE
BEGIN:VALARM
TRIGGER:-PT2H
ACTION:DISPLAY
DESCRIPTION:Baron Von Awesomes vs. Sho ' Nuff
END:VALARM
END:VEVENT
BEGIN:VEVENT
UID:crpd-54797200-20220928T194500@quickscores.com
DTSTAMP:20260425T183700Z
DTSTART;TZID=America/Los_Angeles:20220928T194500
DURATION:PT1H15M0S
SUMMARY:Sho ' Nuff vs. Pitches Get Stitches
DESCRIPTION:Wednesday Coed 1 - Conejo Recreation and Park District
LOCATION:Borchard Park Field #1
CATEGORIES:QuickScores, Softball - Adult Game
TRANSP:OPAQUE
BEGIN:VALARM
TRIGGER:-PT2H
ACTION:DISPLAY
DESCRIPTION:Sho ' Nuff vs. Pitches Get Stitches
END:VALARM
END:VEVENT
BEGIN:VEVENT
UID:crpd-54797201-20220928T210000@quickscores.com
DTSTAMP:20260425T183700Z
DTSTART;TZID=America/Los_Angeles:20220928T210000
DURATION:PT1H15M0S
SUMMARY:Taco Dirty To Me ! vs. NP Brew Crew
DESCRIPTION:Wednesday Coed 1 - Conejo Recreation and Park District
LOCATION:Borchard Park Field #1
CATEGORIES:QuickScores, Softball - Adult Game
TRANSP:OPAQUE
BEGIN:VALARM
TRIGGER:-PT2H
ACTION:DISPLAY
DESCRIPTION:Taco Dirty To Me ! vs. NP Brew Crew
END:VALARM
END:VEVENT
BEGIN:VEVENT
UID:crpd-54797205-20221005T183000@quickscores.com
DTSTAMP:20260425T183700Z
DTSTART;TZID=America/Los_Angeles:20221005T183000
DURATION:PT1H15M0S
SUMMARY:Baron Von Awesomes vs. Pitches Get Stitches
DESCRIPTION:Wednesday Coed 1 - Conejo Recreation and Park District
LOCATION:Borchard Park Field #1
CATEGORIES:QuickScores, Softball - Adult Game
TRANSP:OPAQUE
BEGIN:VALARM
TRIGGER:-PT2H
ACTION:DISPLAY
DESCRIPTION:Baron Von Awesomes vs. Pitches Get Stitches
END:VALARM
END:VEVENT
BEGIN:VEVENT
UID:crpd-54797203-20221005T194500@quickscores.com
DTSTAMP:20260425T183700Z
DTSTART;TZID=America/Los_Angeles:20221005T194500
DURATION:PT1H15M0S
SUMMARY:Taco Dirty To Me ! vs. Pitches Get Stitches
DESCRIPTION:Wednesday Coed 1 - Conejo Recreation and Park District
LOCATION:Borchard Park Field #1
CATEGORIES:QuickScores, Softball - Adult Game
TRANSP:OPAQUE
BEGIN:VALARM
TRIGGER:-PT2H
ACTION:DISPLAY
DESCRIPTION:Taco Dirty To Me ! vs. Pitches Get Stitches
END:VALARM
END:VEVENT
BEGIN:VEVENT
UID:crpd-54797204-20221005T210000@quickscores.com
DTSTAMP:20260425T183700Z
DTSTART;TZID=America/Los_Angeles:20221005T210000
DURATION:PT1H15M0S
SUMMARY:NP Brew Crew vs. Sho ' Nuff
DESCRIPTION:Wednesday Coed 1 - Conejo Recreation and Park District
LOCATION:Borchard Park Field #1
CATEGORIES:QuickScores, Softball - Adult Game
TRANSP:OPAQUE
BEGIN:VALARM
TRIGGER:-PT2H
ACTION:DISPLAY
DESCRIPTION:NP Brew Crew vs. Sho ' Nuff
END:VALARM
END:VEVENT
BEGIN:VEVENT
UID:crpd-54797210-20221012T183000@quickscores.com
DTSTAMP:20260425T183700Z
DTSTART;TZID=America/Los_Angeles:20221012T183000
DURATION:PT1H15M0S
SUMMARY:NP Brew Crew vs. Taco Dirty To Me !
DESCRIPTION:Wednesday Coed 1 - Conejo Recreation and Park District
LOCATION:Borchard Park Field #1
CATEGORIES:QuickScores, Softball - Adult Game
TRANSP:OPAQUE
BEGIN:VALARM
TRIGGER:-PT2H
ACTION:DISPLAY
DESCRIPTION:NP Brew Crew vs. Taco Dirty To Me !
END:VALARM
END:VEVENT
BEGIN:VEVENT
UID:crpd-54797211-20221012T194500@quickscores.com
DTSTAMP:20260425T183700Z
DTSTART;TZID=America/Los_Angeles:20221012T194500
DURATION:PT1H15M0S
SUMMARY:Sho ' Nuff vs. Baron Von Awesomes
DESCRIPTION:Wednesday Coed 1 - Conejo Recreation and Park District
LOCATION:Borchard Park Field #1
CATEGORIES:QuickScores, Softball - Adult Game
TRANSP:OPAQUE
BEGIN:VALARM
TRIGGER:-PT2H
ACTION:DISPLAY
DESCRIPTION:Sho ' Nuff vs. Baron Von Awesomes
END:VALARM
END:VEVENT
BEGIN:VEVENT
UID:crpd-54797209-20221012T210000@quickscores.com
DTSTAMP:20260425T183700Z
DTSTART;TZID=America/Los_Angeles:20221012T210000
DURATION:PT1H15M0S
SUMMARY:Sho ' Nuff vs. Pitches Get Stitches
DESCRIPTION:Wednesday Coed 1 - Conejo Recreation and Park District
LOCATION:Borchard Park Field #1
CATEGORIES:QuickScores, Softball - Adult Game
TRANSP:OPAQUE
BEGIN:VALARM
TRIGGER:-PT2H
ACTION:DISPLAY
DESCRIPTION:Sho ' Nuff vs. Pitches Get Stitches
END:VALARM
END:VEVENT
BEGIN:VEVENT
UID:crpd-54797206-20221019T183000@quickscores.com
DTSTAMP:20260425T183700Z
DTSTART;TZID=America/Los_Angeles:20221019T183000
DURATION:PT1H15M0S
SUMMARY:Taco Dirty To Me ! vs. Sho ' Nuff
DESCRIPTION:Wednesday Coed 1 - Conejo Recreation and Park District
LOCATION:Borchard Park Field #1
CATEGORIES:QuickScores, Softball - Adult Game
TRANSP:OPAQUE
BEGIN:VALARM
TRIGGER:-PT2H
ACTION:DISPLAY
DESCRIPTION:Taco Dirty To Me ! vs. Sho ' Nuff
END:VALARM
END:VEVENT
BEGIN:VEVENT
UID:crpd-54797207-20221019T194500@quickscores.com
DTSTAMP:20260425T183700Z
DTSTART;TZID=America/Los_Angeles:20221019T194500
DURATION:PT1H15M0S
SUMMARY:Pitches Get Stitches vs. NP Brew Crew
DESCRIPTION:Wednesday Coed 1 - Conejo Recreation and Park District
LOCATION:Borchard Park Field #1
CATEGORIES:QuickScores, Softball - Adult Game
TRANSP:OPAQUE
BEGIN:VALARM
TRIGGER:-PT2H
ACTION:DISPLAY
DESCRIPTION:Pitches Get Stitches vs. NP Brew Crew
END:VALARM
END:VEVENT
BEGIN:VEVENT
UID:crpd-54797208-20221019T210000@quickscores.com
DTSTAMP:20260425T183700Z
DTSTART;TZID=America/Los_Angeles:20221019T210000
DURATION:PT1H15M0S
SUMMARY:Pitches Get Stitches vs. Baron Von Awesomes
DESCRIPTION:Wednesday Coed 1 - Conejo Recreation and Park District
LOCATION:Borchard Park Field #1
CATEGORIES:QuickScores, Softball - Adult Game
TRANSP:OPAQUE
BEGIN:VALARM
TRIGGER:-PT2H
ACTION:DISPLAY
DESCRIPTION:Pitches Get Stitches vs. Baron Von Awesomes
END:VALARM
END:VEVENT
BEGIN:VEVENT
UID:crpd-54797213-20221026T183000@quickscores.com
DTSTAMP:20260425T183700Z
DTSTART;TZID=America/Los_Angeles:20221026T183000
DURATION:PT1H15M0S
SUMMARY:Pitches Get Stitches vs. Taco Dirty To Me !
DESCRIPTION:Wednesday Coed 1 - Conejo Recreation and Park District
LOCATION:Borchard Park Field #1
CATEGORIES:QuickScores, Softball - Adult Game
TRANSP:OPAQUE
BEGIN:VALARM
TRIGGER:-PT2H
ACTION:DISPLAY
DESCRIPTION:Pitches Get Stitches vs. Taco Dirty To Me !
END:VALARM
END:VEVENT
BEGIN:VEVENT
UID:crpd-54797212-20221026T194500@quickscores.com
DTSTAMP:20260425T183700Z
DTSTART;TZID=America/Los_Angeles:20221026T194500
DURATION:PT1H15M0S
SUMMARY:Baron Von Awesomes vs. NP Brew Crew
DESCRIPTION:Wednesday Coed 1 - Conejo Recreation and Park District
LOCATION:Borchard Park Field #1
CATEGORIES:QuickScores, Softball - Adult Game
TRANSP:OPAQUE
BEGIN:VALARM
TRIGGER:-PT2H
ACTION:DISPLAY
DESCRIPTION:Baron Von Awesomes vs. NP Brew Crew
END:VALARM
END:VEVENT
BEGIN:VEVENT
UID:crpd-54797214-20221026T210000@quickscores.com
DTSTAMP:20260425T183700Z
DTSTART;TZID=America/Los_Angeles:20221026T210000
DURATION:PT1H15M0S
SUMMARY:NP Brew Crew vs. Sho ' Nuff
DESCRIPTION:Wednesday Coed 1 - Conejo Recreation and Park District
LOCATION:Borchard Park Field #1
CATEGORIES:QuickScores, Softball - Adult Game
TRANSP:OPAQUE
BEGIN:VALARM
TRIGGER:-PT2H
ACTION:DISPLAY
DESCRIPTION:NP Brew Crew vs. Sho ' Nuff
END:VALARM
END:VEVENT
BEGIN:VEVENT
UID:crpd-54797215-20221102T184500@quickscores.com
DTSTAMP:20260425T183700Z
DTSTART;TZID=America/Los_Angeles:20221102T184500
DURATION:PT1H15M0S
SUMMARY:Taco Dirty To Me ! vs. Baron Von Awesomes
DESCRIPTION:Wednesday Coed 1 - Conejo Recreation and Park District
LOCATION:Borchard Park Field #1
CATEGORIES:QuickScores, Softball - Adult Game
TRANSP:OPAQUE
BEGIN:VALARM
TRIGGER:-PT2H
ACTION:DISPLAY
DESCRIPTION:Taco Dirty To Me ! vs. Baron Von Awesomes
END:VALARM
END:VEVENT
END:VCALENDAR
