BEGIN:VCALENDAR
VERSION:2.0
PRODID:-//QuickScores.com//BQ Dynamic iCal Creator//EN
METHOD:PUBLISH
X-WR-CALNAME:Recreational Playoff - Spring 2022
X-WR-CALDESC:QuickScores game calendar
X-PUBLISHED-TTL:PT24H
REFRESH-INTERVAL;VALUE=DURATION:PT24H
CALSCALE:GREGORIAN
BEGIN:VTIMEZONE
TZID:America/Chicago
X-LIC-LOCATION:America/Chicago
BEGIN:DAYLIGHT
TZNAME:CDT
TZOFFSETFROM:-0600
TZOFFSETTO:-0500
DTSTART:19700308T020000
RRULE:FREQ=YEARLY;BYMONTH=3;BYDAY=2SU
END:DAYLIGHT
BEGIN:STANDARD
TZNAME:CST
TZOFFSETFROM:-0500
TZOFFSETTO:-0600
DTSTART:19701101T020000
RRULE:FREQ=YEARLY;BYMONTH=11;BYDAY=1SU
END:STANDARD
END:VTIMEZONE
BEGIN:VEVENT
UID:csparks-53710700-20220613T181500@quickscores.com
DTSTAMP:20260421T205000Z
DTSTART;TZID=America/Chicago:20220613T181500
DURATION:PT1H0M0S
SUMMARY:[#7 ] Shirts Required vs. [#10 ] Designed To Spike
DESCRIPTION:Recreational Playoff - Carol Stream Park District
LOCATION:Fountain View - Court 1
CATEGORIES:QuickScores, Volleyball - Adult Game
TRANSP:OPAQUE
BEGIN:VALARM
TRIGGER:-PT2H
ACTION:DISPLAY
DESCRIPTION:[#7 ] Shirts Required vs. [#10 ] Designed To Spike
END:VALARM
END:VEVENT
BEGIN:VEVENT
UID:csparks-53710701-20220613T191500@quickscores.com
DTSTAMP:20260421T205000Z
DTSTART;TZID=America/Chicago:20220613T191500
DURATION:PT1H0M0S
SUMMARY:[#8 ] Take It Easy On Us vs. [#9 ] Dig It
DESCRIPTION:Recreational Playoff - Carol Stream Park District
LOCATION:Fountain View - Court 1
CATEGORIES:QuickScores, Volleyball - Adult Game
TRANSP:OPAQUE
BEGIN:VALARM
TRIGGER:-PT2H
ACTION:DISPLAY
DESCRIPTION:[#8 ] Take It Easy On Us vs. [#9 ] Dig It
END:VALARM
END:VEVENT
BEGIN:VEVENT
UID:csparks-53710702-20220620T181500@quickscores.com
DTSTAMP:20260421T205000Z
DTSTART;TZID=America/Chicago:20220620T181500
DURATION:PT1H0M0S
SUMMARY:[#7 ] Shirts Required vs. [#8 ] Take It Easy On Us
DESCRIPTION:Recreational Playoff - Carol Stream Park District
LOCATION:Fountain View - Court 3
CATEGORIES:QuickScores, Volleyball - Adult Game
TRANSP:OPAQUE
BEGIN:VALARM
TRIGGER:-PT2H
ACTION:DISPLAY
DESCRIPTION:[#7 ] Shirts Required vs. [#8 ] Take It Easy On Us
END:VALARM
END:VEVENT
END:VCALENDAR
