BEGIN:VCALENDAR
VERSION:2.0
PRODID:-//QuickScores.com//BQ Dynamic iCal Creator//EN
METHOD:PUBLISH
X-WR-CALNAME:Pinto National - Spring 2022
X-WR-CALDESC:QuickScores game calendar
X-PUBLISHED-TTL:PT24H
REFRESH-INTERVAL;VALUE=DURATION:PT24H
CALSCALE:GREGORIAN
BEGIN:VTIMEZONE
TZID:America/New_York
X-LIC-LOCATION:America/New_York
BEGIN:DAYLIGHT
TZNAME:EDT
TZOFFSETFROM:-0500
TZOFFSETTO:-0400
DTSTART:19700308T020000
RRULE:FREQ=YEARLY;BYMONTH=3;BYDAY=2SU
END:DAYLIGHT
BEGIN:STANDARD
TZNAME:EST
TZOFFSETFROM:-0400
TZOFFSETTO:-0500
DTSTART:19701101T020000
RRULE:FREQ=YEARLY;BYMONTH=11;BYDAY=1SU
END:STANDARD
END:VTIMEZONE
BEGIN:VEVENT
UID:wheelingwv-52864824-20220427T180000@quickscores.com
DTSTAMP:20260423T104400Z
DTSTART;TZID=America/New_York:20220427T180000
DURATION:PT2H0M0S
SUMMARY:Woodsdale Lions vs. M&M Mavericks
DESCRIPTION:Pinto National - Wheeling, WV Parks and Recreation
LOCATION:Mozart Field
CATEGORIES:QuickScores, Baseball - Youth Game
TRANSP:OPAQUE
BEGIN:VALARM
TRIGGER:-PT2H
ACTION:DISPLAY
DESCRIPTION:Woodsdale Lions vs. M&M Mavericks
END:VALARM
END:VEVENT
BEGIN:VEVENT
UID:wheelingwv-52864784-20220427T180000@quickscores.com
DTSTAMP:20260423T104400Z
DTSTART;TZID=America/New_York:20220427T180000
DURATION:PT2H0M0S
SUMMARY:Warwood Redbirds West vs. Pike Royal Blue
DESCRIPTION:Pinto National - Wheeling, WV Parks and Recreation
LOCATION:Dimmeydale #1
CATEGORIES:QuickScores, Baseball - Youth Game
TRANSP:OPAQUE
BEGIN:VALARM
TRIGGER:-PT2H
ACTION:DISPLAY
DESCRIPTION:Warwood Redbirds West vs. Pike Royal Blue
END:VALARM
END:VEVENT
BEGIN:VEVENT
UID:wheelingwv-52864820-20220427T180000@quickscores.com
DTSTAMP:20260423T104400Z
DTSTART;TZID=America/New_York:20220427T180000
DURATION:PT2H0M0S
SUMMARY:M&M Red Raptors vs. Warwood Redbirds North
DESCRIPTION:Pinto National - Wheeling, WV Parks and Recreation
LOCATION:N. 24th Street - Field#1
CATEGORIES:QuickScores, Baseball - Youth Game
TRANSP:OPAQUE
BEGIN:VALARM
TRIGGER:-PT2H
ACTION:DISPLAY
DESCRIPTION:M&M Red Raptors vs. Warwood Redbirds North
END:VALARM
END:VEVENT
BEGIN:VEVENT
UID:wheelingwv-52864781-20220430T110000@quickscores.com
DTSTAMP:20260423T104400Z
DTSTART;TZID=America/New_York:20220430T110000
DURATION:PT2H0M0S
SUMMARY:Warwood Redbirds North vs. M&M Mavericks
DESCRIPTION:Pinto National - Wheeling, WV Parks and Recreation
LOCATION:Mt Olivet Field
CATEGORIES:QuickScores, Baseball - Youth Game
TRANSP:OPAQUE
BEGIN:VALARM
TRIGGER:-PT2H
ACTION:DISPLAY
DESCRIPTION:Warwood Redbirds North vs. M&M Mavericks
END:VALARM
END:VEVENT
BEGIN:VEVENT
UID:wheelingwv-52864782-20220430T110000@quickscores.com
DTSTAMP:20260423T104400Z
DTSTART;TZID=America/New_York:20220430T110000
DURATION:PT2H0M0S
SUMMARY:Woodsdale Lions vs. Pike Royal Blue
DESCRIPTION:Pinto National - Wheeling, WV Parks and Recreation
LOCATION:Dimmeydale #1
CATEGORIES:QuickScores, Baseball - Youth Game
TRANSP:OPAQUE
BEGIN:VALARM
TRIGGER:-PT2H
ACTION:DISPLAY
DESCRIPTION:Woodsdale Lions vs. Pike Royal Blue
END:VALARM
END:VEVENT
BEGIN:VEVENT
UID:wheelingwv-52864800-20220430T110000@quickscores.com
DTSTAMP:20260423T104400Z
DTSTART;TZID=America/New_York:20220430T110000
DURATION:PT2H0M0S
SUMMARY:M&M Red Raptors vs. Bethlehem Black
DESCRIPTION:Pinto National - Wheeling, WV Parks and Recreation
LOCATION:Bopp Field
CATEGORIES:QuickScores, Baseball - Youth Game
TRANSP:OPAQUE
BEGIN:VALARM
TRIGGER:-PT2H
ACTION:DISPLAY
DESCRIPTION:M&M Red Raptors vs. Bethlehem Black
END:VALARM
END:VEVENT
BEGIN:VEVENT
UID:wheelingwv-52864785-20220501T170000@quickscores.com
DTSTAMP:20260423T104400Z
DTSTART;TZID=America/New_York:20220501T170000
DURATION:PT2H0M0S
SUMMARY:Warwood Redbirds North vs. M&M Red Raptors
DESCRIPTION:Pinto National - Wheeling, WV Parks and Recreation
LOCATION:Mozart Field
CATEGORIES:QuickScores, Baseball - Youth Game
TRANSP:OPAQUE
BEGIN:VALARM
TRIGGER:-PT2H
ACTION:DISPLAY
DESCRIPTION:Warwood Redbirds North vs. M&M Red Raptors
END:VALARM
END:VEVENT
BEGIN:VEVENT
UID:wheelingwv-52864823-20220502T180000@quickscores.com
DTSTAMP:20260423T104400Z
DTSTART;TZID=America/New_York:20220502T180000
DURATION:PT2H0M0S
SUMMARY:M&M Mavericks vs. Pike Royal Blue
DESCRIPTION:Pinto National - Wheeling, WV Parks and Recreation
LOCATION:Dimmeydale #1
CATEGORIES:QuickScores, Baseball - Youth Game
TRANSP:OPAQUE
BEGIN:VALARM
TRIGGER:-PT2H
ACTION:DISPLAY
DESCRIPTION:M&M Mavericks vs. Pike Royal Blue
END:VALARM
END:VEVENT
BEGIN:VEVENT
UID:wheelingwv-52864792-20220504T180000@quickscores.com
DTSTAMP:20260423T104400Z
DTSTART;TZID=America/New_York:20220504T180000
DURATION:PT2H0M0S
SUMMARY:Warwood Redbirds North vs. Woodsdale Lions
DESCRIPTION:Pinto National - Wheeling, WV Parks and Recreation
LOCATION:Fulton Field
CATEGORIES:QuickScores, Baseball - Youth Game
TRANSP:OPAQUE
BEGIN:VALARM
TRIGGER:-PT2H
ACTION:DISPLAY
DESCRIPTION:Warwood Redbirds North vs. Woodsdale Lions
END:VALARM
END:VEVENT
BEGIN:VEVENT
UID:wheelingwv-52864790-20220504T180000@quickscores.com
DTSTAMP:20260423T104400Z
DTSTART;TZID=America/New_York:20220504T180000
DURATION:PT2H0M0S
SUMMARY:M&M Mavericks vs. M&M Red Raptors
DESCRIPTION:Pinto National - Wheeling, WV Parks and Recreation
LOCATION:Mt Olivet Field
CATEGORIES:QuickScores, Baseball - Youth Game
TRANSP:OPAQUE
BEGIN:VALARM
TRIGGER:-PT2H
ACTION:DISPLAY
DESCRIPTION:M&M Mavericks vs. M&M Red Raptors
END:VALARM
END:VEVENT
BEGIN:VEVENT
UID:wheelingwv-52864791-20220504T180000@quickscores.com
DTSTAMP:20260423T104400Z
DTSTART;TZID=America/New_York:20220504T180000
DURATION:PT2H0M0S
SUMMARY:Warwood Redbirds West vs. Bethlehem Black
DESCRIPTION:Pinto National - Wheeling, WV Parks and Recreation
LOCATION:Bopp Field
CATEGORIES:QuickScores, Baseball - Youth Game
TRANSP:OPAQUE
BEGIN:VALARM
TRIGGER:-PT2H
ACTION:DISPLAY
DESCRIPTION:Warwood Redbirds West vs. Bethlehem Black
END:VALARM
END:VEVENT
BEGIN:VEVENT
UID:wheelingwv-52864789-20220507T110000@quickscores.com
DTSTAMP:20260423T104400Z
DTSTART;TZID=America/New_York:20220507T110000
DURATION:PT2H0M0S
SUMMARY:M&M Red Raptors vs. Pike Royal Blue
DESCRIPTION:Pinto National - Wheeling, WV Parks and Recreation
LOCATION:Dimmeydale #1
CATEGORIES:QuickScores, Baseball - Youth Game
TRANSP:OPAQUE
BEGIN:VALARM
TRIGGER:-PT2H
ACTION:DISPLAY
DESCRIPTION:M&M Red Raptors vs. Pike Royal Blue
END:VALARM
END:VEVENT
BEGIN:VEVENT
UID:wheelingwv-52864788-20220507T110000@quickscores.com
DTSTAMP:20260423T104400Z
DTSTART;TZID=America/New_York:20220507T110000
DURATION:PT2H0M0S
SUMMARY:Bethlehem Black vs. M&M Mavericks
DESCRIPTION:Pinto National - Wheeling, WV Parks and Recreation
LOCATION:Mt Olivet Field
CATEGORIES:QuickScores, Baseball - Youth Game
TRANSP:OPAQUE
BEGIN:VALARM
TRIGGER:-PT2H
ACTION:DISPLAY
DESCRIPTION:Bethlehem Black vs. M&M Mavericks
END:VALARM
END:VEVENT
BEGIN:VEVENT
UID:wheelingwv-52864787-20220507T110000@quickscores.com
DTSTAMP:20260423T104400Z
DTSTART;TZID=America/New_York:20220507T110000
DURATION:PT2H0M0S
SUMMARY:Woodsdale Lions vs. Warwood Redbirds West
DESCRIPTION:Pinto National - Wheeling, WV Parks and Recreation
LOCATION:N. 24th Street - Field #2
CATEGORIES:QuickScores, Baseball - Youth Game
TRANSP:OPAQUE
BEGIN:VALARM
TRIGGER:-PT2H
ACTION:DISPLAY
DESCRIPTION:Woodsdale Lions vs. Warwood Redbirds West
END:VALARM
END:VEVENT
BEGIN:VEVENT
UID:wheelingwv-52864796-20220511T180000@quickscores.com
DTSTAMP:20260423T104400Z
DTSTART;TZID=America/New_York:20220511T180000
DURATION:PT2H0M0S
SUMMARY:Pike Royal Blue vs. M&M Mavericks
DESCRIPTION:Pinto National - Wheeling, WV Parks and Recreation
LOCATION:Mt Olivet Field
CATEGORIES:QuickScores, Baseball - Youth Game
TRANSP:OPAQUE
BEGIN:VALARM
TRIGGER:-PT2H
ACTION:DISPLAY
DESCRIPTION:Pike Royal Blue vs. M&M Mavericks
END:VALARM
END:VEVENT
BEGIN:VEVENT
UID:wheelingwv-52864794-20220511T180000@quickscores.com
DTSTAMP:20260423T104400Z
DTSTART;TZID=America/New_York:20220511T180000
DURATION:PT2H0M0S
SUMMARY:Bethlehem Black vs. Warwood Redbirds North
DESCRIPTION:Pinto National - Wheeling, WV Parks and Recreation
LOCATION:N. 24th Street - Field #2
CATEGORIES:QuickScores, Baseball - Youth Game
TRANSP:OPAQUE
BEGIN:VALARM
TRIGGER:-PT2H
ACTION:DISPLAY
DESCRIPTION:Bethlehem Black vs. Warwood Redbirds North
END:VALARM
END:VEVENT
BEGIN:VEVENT
UID:wheelingwv-52864806-20220511T180000@quickscores.com
DTSTAMP:20260423T104400Z
DTSTART;TZID=America/New_York:20220511T180000
DURATION:PT2H0M0S
SUMMARY:M&M Red Raptors vs. Woodsdale Lions
DESCRIPTION:Pinto National - Wheeling, WV Parks and Recreation
LOCATION:Greggsville Field
CATEGORIES:QuickScores, Baseball - Youth Game
TRANSP:OPAQUE
BEGIN:VALARM
TRIGGER:-PT2H
ACTION:DISPLAY
DESCRIPTION:M&M Red Raptors vs. Woodsdale Lions
END:VALARM
END:VEVENT
BEGIN:VEVENT
UID:wheelingwv-52864795-20220514T110000@quickscores.com
DTSTAMP:20260423T104400Z
DTSTART;TZID=America/New_York:20220514T110000
DURATION:PT2H0M0S
SUMMARY:M&M Red Raptors vs. Warwood Redbirds West
DESCRIPTION:Pinto National - Wheeling, WV Parks and Recreation
LOCATION:N. 24th Street - Field#1
CATEGORIES:QuickScores, Baseball - Youth Game
TRANSP:OPAQUE
BEGIN:VALARM
TRIGGER:-PT2H
ACTION:DISPLAY
DESCRIPTION:M&M Red Raptors vs. Warwood Redbirds West
END:VALARM
END:VEVENT
BEGIN:VEVENT
UID:wheelingwv-52864797-20220514T110000@quickscores.com
DTSTAMP:20260423T104400Z
DTSTART;TZID=America/New_York:20220514T110000
DURATION:PT2H0M0S
SUMMARY:Pike Royal Blue vs. Bethlehem Black
DESCRIPTION:Pinto National - Wheeling, WV Parks and Recreation
LOCATION:Bopp Field
CATEGORIES:QuickScores, Baseball - Youth Game
TRANSP:OPAQUE
BEGIN:VALARM
TRIGGER:-PT2H
ACTION:DISPLAY
DESCRIPTION:Pike Royal Blue vs. Bethlehem Black
END:VALARM
END:VEVENT
BEGIN:VEVENT
UID:wheelingwv-52864793-20220514T110000@quickscores.com
DTSTAMP:20260423T104400Z
DTSTART;TZID=America/New_York:20220514T110000
DURATION:PT2H0M0S
SUMMARY:M&M Mavericks vs. Warwood Redbirds North
DESCRIPTION:Pinto National - Wheeling, WV Parks and Recreation
LOCATION:N. 24th Street - Field #2
CATEGORIES:QuickScores, Baseball - Youth Game
TRANSP:OPAQUE
BEGIN:VALARM
TRIGGER:-PT2H
ACTION:DISPLAY
DESCRIPTION:M&M Mavericks vs. Warwood Redbirds North
END:VALARM
END:VEVENT
BEGIN:VEVENT
UID:wheelingwv-52864822-20220518T180000@quickscores.com
DTSTAMP:20260423T104400Z
DTSTART;TZID=America/New_York:20220518T180000
DURATION:PT2H0M0S
SUMMARY:Warwood Redbirds West vs. M&M Red Raptors
DESCRIPTION:Pinto National - Wheeling, WV Parks and Recreation
LOCATION:Mt Olivet Field
CATEGORIES:QuickScores, Baseball - Youth Game
TRANSP:OPAQUE
BEGIN:VALARM
TRIGGER:-PT2H
ACTION:DISPLAY
DESCRIPTION:Warwood Redbirds West vs. M&M Red Raptors
END:VALARM
END:VEVENT
BEGIN:VEVENT
UID:wheelingwv-52864801-20220518T180000@quickscores.com
DTSTAMP:20260423T104400Z
DTSTART;TZID=America/New_York:20220518T180000
DURATION:PT2H0M0S
SUMMARY:Bethlehem Black vs. Pike Royal Blue
DESCRIPTION:Pinto National - Wheeling, WV Parks and Recreation
LOCATION:Dimmeydale #1
CATEGORIES:QuickScores, Baseball - Youth Game
TRANSP:OPAQUE
BEGIN:VALARM
TRIGGER:-PT2H
ACTION:DISPLAY
DESCRIPTION:Bethlehem Black vs. Pike Royal Blue
END:VALARM
END:VEVENT
BEGIN:VEVENT
UID:wheelingwv-52864802-20220518T180000@quickscores.com
DTSTAMP:20260423T104400Z
DTSTART;TZID=America/New_York:20220518T180000
DURATION:PT2H0M0S
SUMMARY:M&M Mavericks vs. Woodsdale Lions
DESCRIPTION:Pinto National - Wheeling, WV Parks and Recreation
LOCATION:Fulton Field
CATEGORIES:QuickScores, Baseball - Youth Game
TRANSP:OPAQUE
BEGIN:VALARM
TRIGGER:-PT2H
ACTION:DISPLAY
DESCRIPTION:M&M Mavericks vs. Woodsdale Lions
END:VALARM
END:VEVENT
BEGIN:VEVENT
UID:wheelingwv-52864810-20220521T110000@quickscores.com
DTSTAMP:20260423T104400Z
DTSTART;TZID=America/New_York:20220521T110000
DURATION:PT2H0M0S
SUMMARY:M&M Mavericks vs. Bethlehem Black
DESCRIPTION:Pinto National - Wheeling, WV Parks and Recreation
LOCATION:Bopp Field
CATEGORIES:QuickScores, Baseball - Youth Game
TRANSP:OPAQUE
BEGIN:VALARM
TRIGGER:-PT2H
ACTION:DISPLAY
DESCRIPTION:M&M Mavericks vs. Bethlehem Black
END:VALARM
END:VEVENT
BEGIN:VEVENT
UID:wheelingwv-52864799-20220521T110000@quickscores.com
DTSTAMP:20260423T104400Z
DTSTART;TZID=America/New_York:20220521T110000
DURATION:PT2H0M0S
SUMMARY:Pike Royal Blue vs. Woodsdale Lions
DESCRIPTION:Pinto National - Wheeling, WV Parks and Recreation
LOCATION:Greggsville Field
CATEGORIES:QuickScores, Baseball - Youth Game
TRANSP:OPAQUE
BEGIN:VALARM
TRIGGER:-PT2H
ACTION:DISPLAY
DESCRIPTION:Pike Royal Blue vs. Woodsdale Lions
END:VALARM
END:VEVENT
BEGIN:VEVENT
UID:wheelingwv-52864803-20220521T110000@quickscores.com
DTSTAMP:20260423T104400Z
DTSTART;TZID=America/New_York:20220521T110000
DURATION:PT2H0M0S
SUMMARY:Warwood Redbirds West vs. Warwood Redbirds North
DESCRIPTION:Pinto National - Wheeling, WV Parks and Recreation
LOCATION:N. 24th Street - Field #2
CATEGORIES:QuickScores, Baseball - Youth Game
TRANSP:OPAQUE
BEGIN:VALARM
TRIGGER:-PT2H
ACTION:DISPLAY
DESCRIPTION:Warwood Redbirds West vs. Warwood Redbirds North
END:VALARM
END:VEVENT
BEGIN:VEVENT
UID:wheelingwv-52864786-20220525T180000@quickscores.com
DTSTAMP:20260423T104400Z
DTSTART;TZID=America/New_York:20220525T180000
DURATION:PT2H0M0S
SUMMARY:Woodsdale Lions vs. Bethlehem Black
DESCRIPTION:Pinto National - Wheeling, WV Parks and Recreation
LOCATION:Bopp Field
CATEGORIES:QuickScores, Baseball - Youth Game
TRANSP:OPAQUE
BEGIN:VALARM
TRIGGER:-PT2H
ACTION:DISPLAY
DESCRIPTION:Woodsdale Lions vs. Bethlehem Black
END:VALARM
END:VEVENT
BEGIN:VEVENT
UID:wheelingwv-52864807-20220525T180000@quickscores.com
DTSTAMP:20260423T104400Z
DTSTART;TZID=America/New_York:20220525T180000
DURATION:PT2H0M0S
SUMMARY:Pike Royal Blue vs. Warwood Redbirds North
DESCRIPTION:Pinto National - Wheeling, WV Parks and Recreation
LOCATION:N. 24th Street - Field #2
CATEGORIES:QuickScores, Baseball - Youth Game
TRANSP:OPAQUE
BEGIN:VALARM
TRIGGER:-PT2H
ACTION:DISPLAY
DESCRIPTION:Pike Royal Blue vs. Warwood Redbirds North
END:VALARM
END:VEVENT
BEGIN:VEVENT
UID:wheelingwv-52864808-20220525T180000@quickscores.com
DTSTAMP:20260423T104400Z
DTSTART;TZID=America/New_York:20220525T180000
DURATION:PT2H0M0S
SUMMARY:M&M Mavericks vs. Warwood Redbirds West
DESCRIPTION:Pinto National - Wheeling, WV Parks and Recreation
LOCATION:N. 24th Street - Field#1
CATEGORIES:QuickScores, Baseball - Youth Game
TRANSP:OPAQUE
BEGIN:VALARM
TRIGGER:-PT2H
ACTION:DISPLAY
DESCRIPTION:M&M Mavericks vs. Warwood Redbirds West
END:VALARM
END:VEVENT
BEGIN:VEVENT
UID:wheelingwv-52864805-20220528T110000@quickscores.com
DTSTAMP:20260423T104400Z
DTSTART;TZID=America/New_York:20220528T110000
DURATION:PT2H0M0S
SUMMARY:Bethlehem Black vs. Woodsdale Lions
DESCRIPTION:Pinto National - Wheeling, WV Parks and Recreation
LOCATION:Greggsville Field
CATEGORIES:QuickScores, Baseball - Youth Game
TRANSP:OPAQUE
BEGIN:VALARM
TRIGGER:-PT2H
ACTION:DISPLAY
DESCRIPTION:Bethlehem Black vs. Woodsdale Lions
END:VALARM
END:VEVENT
BEGIN:VEVENT
UID:wheelingwv-52864814-20220528T110000@quickscores.com
DTSTAMP:20260423T104400Z
DTSTART;TZID=America/New_York:20220528T110000
DURATION:PT2H0M0S
SUMMARY:M&M Red Raptors vs. M&M Mavericks
DESCRIPTION:Pinto National - Wheeling, WV Parks and Recreation
LOCATION:Mt Olivet Field
CATEGORIES:QuickScores, Baseball - Youth Game
TRANSP:OPAQUE
BEGIN:VALARM
TRIGGER:-PT2H
ACTION:DISPLAY
DESCRIPTION:M&M Red Raptors vs. M&M Mavericks
END:VALARM
END:VEVENT
BEGIN:VEVENT
UID:wheelingwv-52864804-20220528T110000@quickscores.com
DTSTAMP:20260423T104400Z
DTSTART;TZID=America/New_York:20220528T110000
DURATION:PT2H0M0S
SUMMARY:Pike Royal Blue vs. Warwood Redbirds West
DESCRIPTION:Pinto National - Wheeling, WV Parks and Recreation
LOCATION:N. 24th Street - Field #2
CATEGORIES:QuickScores, Baseball - Youth Game
TRANSP:OPAQUE
BEGIN:VALARM
TRIGGER:-PT2H
ACTION:DISPLAY
DESCRIPTION:Pike Royal Blue vs. Warwood Redbirds West
END:VALARM
END:VEVENT
BEGIN:VEVENT
UID:wheelingwv-52864813-20220601T180000@quickscores.com
DTSTAMP:20260423T104400Z
DTSTART;TZID=America/New_York:20220601T180000
DURATION:PT2H0M0S
SUMMARY:Warwood Redbirds West vs. M&M Mavericks
DESCRIPTION:Pinto National - Wheeling, WV Parks and Recreation
LOCATION:Mozart Field
CATEGORIES:QuickScores, Baseball - Youth Game
TRANSP:OPAQUE
BEGIN:VALARM
TRIGGER:-PT2H
ACTION:DISPLAY
DESCRIPTION:Warwood Redbirds West vs. M&M Mavericks
END:VALARM
END:VEVENT
BEGIN:VEVENT
UID:wheelingwv-52864812-20220601T180000@quickscores.com
DTSTAMP:20260423T104400Z
DTSTART;TZID=America/New_York:20220601T180000
DURATION:PT2H0M0S
SUMMARY:Warwood Redbirds North vs. Pike Royal Blue
DESCRIPTION:Pinto National - Wheeling, WV Parks and Recreation
LOCATION:Dimmeydale #2
CATEGORIES:QuickScores, Baseball - Youth Game
TRANSP:OPAQUE
BEGIN:VALARM
TRIGGER:-PT2H
ACTION:DISPLAY
DESCRIPTION:Warwood Redbirds North vs. Pike Royal Blue
END:VALARM
END:VEVENT
BEGIN:VEVENT
UID:wheelingwv-52864783-20220601T180000@quickscores.com
DTSTAMP:20260423T104400Z
DTSTART;TZID=America/New_York:20220601T180000
DURATION:PT2H0M0S
SUMMARY:Bethlehem Black vs. M&M Red Raptors
DESCRIPTION:Pinto National - Wheeling, WV Parks and Recreation
LOCATION:Mt Olivet Field
CATEGORIES:QuickScores, Baseball - Youth Game
TRANSP:OPAQUE
BEGIN:VALARM
TRIGGER:-PT2H
ACTION:DISPLAY
DESCRIPTION:Bethlehem Black vs. M&M Red Raptors
END:VALARM
END:VEVENT
BEGIN:VEVENT
UID:wheelingwv-52864809-20220604T110000@quickscores.com
DTSTAMP:20260423T104400Z
DTSTART;TZID=America/New_York:20220604T110000
DURATION:PT2H0M0S
SUMMARY:Warwood Redbirds West vs. Woodsdale Lions
DESCRIPTION:Pinto National - Wheeling, WV Parks and Recreation
LOCATION:Greggsville Field
CATEGORIES:QuickScores, Baseball - Youth Game
TRANSP:OPAQUE
BEGIN:VALARM
TRIGGER:-PT2H
ACTION:DISPLAY
DESCRIPTION:Warwood Redbirds West vs. Woodsdale Lions
END:VALARM
END:VEVENT
BEGIN:VEVENT
UID:wheelingwv-52864811-20220604T110000@quickscores.com
DTSTAMP:20260423T104400Z
DTSTART;TZID=America/New_York:20220604T110000
DURATION:PT2H0M0S
SUMMARY:Pike Royal Blue vs. M&M Red Raptors
DESCRIPTION:Pinto National - Wheeling, WV Parks and Recreation
LOCATION:Mt Olivet Field
CATEGORIES:QuickScores, Baseball - Youth Game
TRANSP:OPAQUE
BEGIN:VALARM
TRIGGER:-PT2H
ACTION:DISPLAY
DESCRIPTION:Pike Royal Blue vs. M&M Red Raptors
END:VALARM
END:VEVENT
BEGIN:VEVENT
UID:wheelingwv-52864821-20220604T130000@quickscores.com
DTSTAMP:20260423T104400Z
DTSTART;TZID=America/New_York:20220604T130000
DURATION:PT2H0M0S
SUMMARY:Warwood Redbirds North vs. Bethlehem Black
DESCRIPTION:Pinto National - Wheeling, WV Parks and Recreation
LOCATION:Bopp Field
CATEGORIES:QuickScores, Baseball - Youth Game
TRANSP:OPAQUE
BEGIN:VALARM
TRIGGER:-PT2H
ACTION:DISPLAY
DESCRIPTION:Warwood Redbirds North vs. Bethlehem Black
END:VALARM
END:VEVENT
BEGIN:VEVENT
UID:wheelingwv-52864817-20220605T170000@quickscores.com
DTSTAMP:20260423T104400Z
DTSTART;TZID=America/New_York:20220605T170000
DURATION:PT2H0M0S
SUMMARY:Warwood Redbirds North vs. Warwood Redbirds West
DESCRIPTION:Pinto National - Wheeling, WV Parks and Recreation
LOCATION:N. 24th Street - Field #2
CATEGORIES:QuickScores, Baseball - Youth Game
TRANSP:OPAQUE
BEGIN:VALARM
TRIGGER:-PT2H
ACTION:DISPLAY
DESCRIPTION:Warwood Redbirds North vs. Warwood Redbirds West
END:VALARM
END:VEVENT
BEGIN:VEVENT
UID:wheelingwv-52864816-20220611T110000@quickscores.com
DTSTAMP:20260423T104400Z
DTSTART;TZID=America/New_York:20220611T110000
DURATION:PT2H0M0S
SUMMARY:Woodsdale Lions vs. Warwood Redbirds North
DESCRIPTION:Pinto National - Wheeling, WV Parks and Recreation
LOCATION:N. 24th Street - Field#1
CATEGORIES:QuickScores, Baseball - Youth Game
TRANSP:OPAQUE
BEGIN:VALARM
TRIGGER:-PT2H
ACTION:DISPLAY
DESCRIPTION:Woodsdale Lions vs. Warwood Redbirds North
END:VALARM
END:VEVENT
BEGIN:VEVENT
UID:wheelingwv-52864815-20220611T110000@quickscores.com
DTSTAMP:20260423T104400Z
DTSTART;TZID=America/New_York:20220611T110000
DURATION:PT2H0M0S
SUMMARY:Bethlehem Black vs. Warwood Redbirds West
DESCRIPTION:Pinto National - Wheeling, WV Parks and Recreation
LOCATION:N. 24th Street - Field #2
CATEGORIES:QuickScores, Baseball - Youth Game
TRANSP:OPAQUE
BEGIN:VALARM
TRIGGER:-PT2H
ACTION:DISPLAY
DESCRIPTION:Bethlehem Black vs. Warwood Redbirds West
END:VALARM
END:VEVENT
BEGIN:VEVENT
UID:wheelingwv-52939842-20220615T180000@quickscores.com
DTSTAMP:20260423T104400Z
DTSTART;TZID=America/New_York:20220615T180000
DURATION:PT1H0M0S
SUMMARY:Warwood Redbirds North vs. M&M Crush
DESCRIPTION:Pinto National - Wheeling, WV Parks and Recreation
LOCATION:Mt Olivet Field
CATEGORIES:QuickScores, Baseball - Youth Game
TRANSP:OPAQUE
BEGIN:VALARM
TRIGGER:-PT2H
ACTION:DISPLAY
DESCRIPTION:Warwood Redbirds North vs. M&M Crush
END:VALARM
END:VEVENT
BEGIN:VEVENT
UID:wheelingwv-52939840-20220615T180000@quickscores.com
DTSTAMP:20260423T104400Z
DTSTART;TZID=America/New_York:20220615T180000
DURATION:PT2H0M0S
SUMMARY:Pike Royal Blue vs. Island Tigers
DESCRIPTION:Pinto National - Wheeling, WV Parks and Recreation
LOCATION:Whg. Island-Bridge Park (small field)
CATEGORIES:QuickScores, Baseball - Youth Game
TRANSP:OPAQUE
BEGIN:VALARM
TRIGGER:-PT2H
ACTION:DISPLAY
DESCRIPTION:Pike Royal Blue vs. Island Tigers
END:VALARM
END:VEVENT
BEGIN:VEVENT
UID:wheelingwv-52939838-20220615T180000@quickscores.com
DTSTAMP:20260423T104400Z
DTSTART;TZID=America/New_York:20220615T180000
DURATION:PT2H0M0S
SUMMARY:M&M Red Raptors vs. Dallas Pike Green
DESCRIPTION:Pinto National - Wheeling, WV Parks and Recreation
LOCATION:Dallas Pike
CATEGORIES:QuickScores, Baseball - Youth Game
TRANSP:OPAQUE
BEGIN:VALARM
TRIGGER:-PT2H
ACTION:DISPLAY
DESCRIPTION:M&M Red Raptors vs. Dallas Pike Green
END:VALARM
END:VEVENT
BEGIN:VEVENT
UID:wheelingwv-52939844-20220615T180000@quickscores.com
DTSTAMP:20260423T104400Z
DTSTART;TZID=America/New_York:20220615T180000
DURATION:PT2H0M0S
SUMMARY:Warwood Redbirds West vs. Pike Red & White
DESCRIPTION:Pinto National - Wheeling, WV Parks and Recreation
LOCATION:Dimmeydale #1
CATEGORIES:QuickScores, Baseball - Youth Game
TRANSP:OPAQUE
BEGIN:VALARM
TRIGGER:-PT2H
ACTION:DISPLAY
DESCRIPTION:Warwood Redbirds West vs. Pike Red & White
END:VALARM
END:VEVENT
BEGIN:VEVENT
UID:wheelingwv-52939846-20220615T180000@quickscores.com
DTSTAMP:20260423T104400Z
DTSTART;TZID=America/New_York:20220615T180000
DURATION:PT2H0M0S
SUMMARY:Woodsdale Lions vs. Warwood Redbirds South
DESCRIPTION:Pinto National - Wheeling, WV Parks and Recreation
LOCATION:N. 24th Street - Field #2
CATEGORIES:QuickScores, Baseball - Youth Game
TRANSP:OPAQUE
BEGIN:VALARM
TRIGGER:-PT2H
ACTION:DISPLAY
DESCRIPTION:Woodsdale Lions vs. Warwood Redbirds South
END:VALARM
END:VEVENT
BEGIN:VEVENT
UID:wheelingwv-52940002-20220618T110000@quickscores.com
DTSTAMP:20260423T104400Z
DTSTART;TZID=America/New_York:20220618T110000
DURATION:PT1H0M0S
SUMMARY:M&M Crush vs. Warwood Redbirds West
DESCRIPTION:Pinto National - Wheeling, WV Parks and Recreation
LOCATION:N. 24th Street - Field #2
CATEGORIES:QuickScores, Baseball - Youth Game
TRANSP:OPAQUE
BEGIN:VALARM
TRIGGER:-PT2H
ACTION:DISPLAY
DESCRIPTION:M&M Crush vs. Warwood Redbirds West
END:VALARM
END:VEVENT
BEGIN:VEVENT
UID:wheelingwv-52939854-20220618T110000@quickscores.com
DTSTAMP:20260423T104400Z
DTSTART;TZID=America/New_York:20220618T110000
DURATION:PT2H0M0S
SUMMARY:Dallas Pike Green vs. Pike Royal Blue
DESCRIPTION:Pinto National - Wheeling, WV Parks and Recreation
LOCATION:Dimmeydale #1
CATEGORIES:QuickScores, Baseball - Youth Game
TRANSP:OPAQUE
BEGIN:VALARM
TRIGGER:-PT2H
ACTION:DISPLAY
DESCRIPTION:Dallas Pike Green vs. Pike Royal Blue
END:VALARM
END:VEVENT
BEGIN:VEVENT
UID:wheelingwv-52939856-20220618T110000@quickscores.com
DTSTAMP:20260423T104400Z
DTSTART;TZID=America/New_York:20220618T110000
DURATION:PT1H0M0S
SUMMARY:Island Tigers vs. Warwood Redbirds North
DESCRIPTION:Pinto National - Wheeling, WV Parks and Recreation
LOCATION:N. 24th Street - Field#1
CATEGORIES:QuickScores, Baseball - Youth Game
TRANSP:OPAQUE
BEGIN:VALARM
TRIGGER:-PT2H
ACTION:DISPLAY
DESCRIPTION:Island Tigers vs. Warwood Redbirds North
END:VALARM
END:VEVENT
BEGIN:VEVENT
UID:wheelingwv-52939852-20220618T110000@quickscores.com
DTSTAMP:20260423T104400Z
DTSTART;TZID=America/New_York:20220618T110000
DURATION:PT1H0M0S
SUMMARY:Cameron Gold vs. M&M Red Raptors
DESCRIPTION:Pinto National - Wheeling, WV Parks and Recreation
LOCATION:Mozart Field
CATEGORIES:QuickScores, Baseball - Youth Game
TRANSP:OPAQUE
BEGIN:VALARM
TRIGGER:-PT2H
ACTION:DISPLAY
DESCRIPTION:Cameron Gold vs. M&M Red Raptors
END:VALARM
END:VEVENT
BEGIN:VEVENT
UID:wheelingwv-52939850-20220618T110000@quickscores.com
DTSTAMP:20260423T104400Z
DTSTART;TZID=America/New_York:20220618T110000
DURATION:PT2H0M0S
SUMMARY:M&M Mavericks vs. Cameron Blue
DESCRIPTION:Pinto National - Wheeling, WV Parks and Recreation
LOCATION:Cameron
CATEGORIES:QuickScores, Baseball - Youth Game
TRANSP:OPAQUE
BEGIN:VALARM
TRIGGER:-PT2H
ACTION:DISPLAY
DESCRIPTION:M&M Mavericks vs. Cameron Blue
END:VALARM
END:VEVENT
BEGIN:VEVENT
UID:wheelingwv-52939848-20220618T110000@quickscores.com
DTSTAMP:20260423T104400Z
DTSTART;TZID=America/New_York:20220618T110000
DURATION:PT2H0M0S
SUMMARY:Warwood Redbirds South vs. Bethlehem Black
DESCRIPTION:Pinto National - Wheeling, WV Parks and Recreation
LOCATION:Bopp Field
CATEGORIES:QuickScores, Baseball - Youth Game
TRANSP:OPAQUE
BEGIN:VALARM
TRIGGER:-PT2H
ACTION:DISPLAY
DESCRIPTION:Warwood Redbirds South vs. Bethlehem Black
END:VALARM
END:VEVENT
BEGIN:VEVENT
UID:wheelingwv-52940076-20220618T110000@quickscores.com
DTSTAMP:20260423T104400Z
DTSTART;TZID=America/New_York:20220618T110000
DURATION:PT2H0M0S
SUMMARY:Pike Red & White vs. Woodsdale Lions
DESCRIPTION:Pinto National - Wheeling, WV Parks and Recreation
LOCATION:Fulton Field
CATEGORIES:QuickScores, Baseball - Youth Game
TRANSP:OPAQUE
BEGIN:VALARM
TRIGGER:-PT2H
ACTION:DISPLAY
DESCRIPTION:Pike Red & White vs. Woodsdale Lions
END:VALARM
END:VEVENT
BEGIN:VEVENT
UID:wheelingwv-52939788-20220619T170000@quickscores.com
DTSTAMP:20260423T104400Z
DTSTART;TZID=America/New_York:20220619T170000
DURATION:PT2H0M0S
SUMMARY:Bethlehem Black vs. Cameron Blue
DESCRIPTION:Pinto National - Wheeling, WV Parks and Recreation
LOCATION:Cameron
CATEGORIES:QuickScores, Baseball - Youth Game
TRANSP:OPAQUE
BEGIN:VALARM
TRIGGER:-PT2H
ACTION:DISPLAY
DESCRIPTION:Bethlehem Black vs. Cameron Blue
END:VALARM
END:VEVENT
BEGIN:VEVENT
UID:wheelingwv-52864818-20220619T170000@quickscores.com
DTSTAMP:20260423T104400Z
DTSTART;TZID=America/New_York:20220619T170000
DURATION:PT2H0M0S
SUMMARY:Woodsdale Lions vs. M&M Red Raptors
DESCRIPTION:Pinto National - Wheeling, WV Parks and Recreation
LOCATION:Mozart Field
CATEGORIES:QuickScores, Baseball - Youth Game
TRANSP:OPAQUE
BEGIN:VALARM
TRIGGER:-PT2H
ACTION:DISPLAY
DESCRIPTION:Woodsdale Lions vs. M&M Red Raptors
END:VALARM
END:VEVENT
BEGIN:VEVENT
UID:wheelingwv-52939836-20220619T170000@quickscores.com
DTSTAMP:20260423T104400Z
DTSTART;TZID=America/New_York:20220619T170000
DURATION:PT2H0M0S
SUMMARY:Cameron Gold vs. M&M Mavericks
DESCRIPTION:Pinto National - Wheeling, WV Parks and Recreation
LOCATION:Mt Olivet Field
CATEGORIES:QuickScores, Baseball - Youth Game
TRANSP:OPAQUE
BEGIN:VALARM
TRIGGER:-PT2H
ACTION:DISPLAY
DESCRIPTION:Cameron Gold vs. M&M Mavericks
END:VALARM
END:VEVENT
END:VCALENDAR
