BEGIN:VCALENDAR
VERSION:2.0
PRODID:-//QuickScores.com//BQ Dynamic iCal Creator//EN
METHOD:PUBLISH
X-WR-CALNAME:Wednesday Advanced Mixed - 2022 Spring Pickleball League
X-WR-CALDESC:QuickScores game calendar
X-PUBLISHED-TTL:PT24H
REFRESH-INTERVAL;VALUE=DURATION:PT24H
CALSCALE:GREGORIAN
BEGIN:VTIMEZONE
TZID:America/Los_Angeles
X-LIC-LOCATION:America/Los_Angeles
BEGIN:DAYLIGHT
TZNAME:PDT
TZOFFSETFROM:-0800
TZOFFSETTO:-0700
DTSTART:19700308T020000
RRULE:FREQ=YEARLY;BYMONTH=3;BYDAY=2SU
END:DAYLIGHT
BEGIN:STANDARD
TZNAME:PST
TZOFFSETFROM:-0700
TZOFFSETTO:-0800
DTSTART:19701101T020000
RRULE:FREQ=YEARLY;BYMONTH=11;BYDAY=1SU
END:STANDARD
END:VTIMEZONE
BEGIN:VEVENT
UID:crpd-52851239-20220330T183000@quickscores.com
DTSTAMP:20260424T084300Z
DTSTART;TZID=America/Los_Angeles:20220330T183000
DURATION:PT0H45M0S
SUMMARY:Karen & Preston vs. Doreene & Valerie
DESCRIPTION:Wednesday Advanced Mixed - Conejo Recreation and Park District
LOCATION:Rancho Conejo Pickleball Court #5
CATEGORIES:QuickScores, Pickleball Game
TRANSP:OPAQUE
BEGIN:VALARM
TRIGGER:-PT2H
ACTION:DISPLAY
DESCRIPTION:Karen & Preston vs. Doreene & Valerie
END:VALARM
END:VEVENT
BEGIN:VEVENT
UID:crpd-52851235-20220330T183000@quickscores.com
DTSTAMP:20260424T084300Z
DTSTART;TZID=America/Los_Angeles:20220330T183000
DURATION:PT0H45M0S
SUMMARY:Laurie & Scott vs. Cheryl & Don
DESCRIPTION:Wednesday Advanced Mixed - Conejo Recreation and Park District
LOCATION:Rancho Conejo Pickleball Court #6
CATEGORIES:QuickScores, Pickleball Game
TRANSP:OPAQUE
BEGIN:VALARM
TRIGGER:-PT2H
ACTION:DISPLAY
DESCRIPTION:Laurie & Scott vs. Cheryl & Don
END:VALARM
END:VEVENT
BEGIN:VEVENT
UID:crpd-52851237-20220330T183000@quickscores.com
DTSTAMP:20260424T084300Z
DTSTART;TZID=America/Los_Angeles:20220330T183000
DURATION:PT0H45M0S
SUMMARY:Annie & Matt vs. Denise & Daniel
DESCRIPTION:Wednesday Advanced Mixed - Conejo Recreation and Park District
LOCATION:Rancho Conejo Pickleball Court #4
CATEGORIES:QuickScores, Pickleball Game
TRANSP:OPAQUE
BEGIN:VALARM
TRIGGER:-PT2H
ACTION:DISPLAY
DESCRIPTION:Annie & Matt vs. Denise & Daniel
END:VALARM
END:VEVENT
BEGIN:VEVENT
UID:crpd-52851234-20220330T191500@quickscores.com
DTSTAMP:20260424T084300Z
DTSTART;TZID=America/Los_Angeles:20220330T191500
DURATION:PT0H45M0S
SUMMARY:Karen & Preston vs. Cheryl & Don
DESCRIPTION:Wednesday Advanced Mixed - Conejo Recreation and Park District
LOCATION:Rancho Conejo Pickleball Court #5
CATEGORIES:QuickScores, Pickleball Game
TRANSP:OPAQUE
BEGIN:VALARM
TRIGGER:-PT2H
ACTION:DISPLAY
DESCRIPTION:Karen & Preston vs. Cheryl & Don
END:VALARM
END:VEVENT
BEGIN:VEVENT
UID:crpd-52851238-20220330T191500@quickscores.com
DTSTAMP:20260424T084300Z
DTSTART;TZID=America/Los_Angeles:20220330T191500
DURATION:PT0H45M0S
SUMMARY:Doreene & Valerie vs. Denise & Daniel
DESCRIPTION:Wednesday Advanced Mixed - Conejo Recreation and Park District
LOCATION:Rancho Conejo Pickleball Court #4
CATEGORIES:QuickScores, Pickleball Game
TRANSP:OPAQUE
BEGIN:VALARM
TRIGGER:-PT2H
ACTION:DISPLAY
DESCRIPTION:Doreene & Valerie vs. Denise & Daniel
END:VALARM
END:VEVENT
BEGIN:VEVENT
UID:crpd-52851236-20220330T191500@quickscores.com
DTSTAMP:20260424T084300Z
DTSTART;TZID=America/Los_Angeles:20220330T191500
DURATION:PT0H45M0S
SUMMARY:Laurie & Scott vs. Annie & Matt
DESCRIPTION:Wednesday Advanced Mixed - Conejo Recreation and Park District
LOCATION:Rancho Conejo Pickleball Court #6
CATEGORIES:QuickScores, Pickleball Game
TRANSP:OPAQUE
BEGIN:VALARM
TRIGGER:-PT2H
ACTION:DISPLAY
DESCRIPTION:Laurie & Scott vs. Annie & Matt
END:VALARM
END:VEVENT
BEGIN:VEVENT
UID:crpd-52851240-20220406T183000@quickscores.com
DTSTAMP:20260424T084300Z
DTSTART;TZID=America/Los_Angeles:20220406T183000
DURATION:PT0H45M0S
SUMMARY:Karen & Preston vs. Denise & Daniel
DESCRIPTION:Wednesday Advanced Mixed - Conejo Recreation and Park District
LOCATION:Rancho Conejo Pickleball Court #6
CATEGORIES:QuickScores, Pickleball Game
TRANSP:OPAQUE
BEGIN:VALARM
TRIGGER:-PT2H
ACTION:DISPLAY
DESCRIPTION:Karen & Preston vs. Denise & Daniel
END:VALARM
END:VEVENT
BEGIN:VEVENT
UID:crpd-52851242-20220406T183000@quickscores.com
DTSTAMP:20260424T084300Z
DTSTART;TZID=America/Los_Angeles:20220406T183000
DURATION:PT0H45M0S
SUMMARY:Cheryl & Don vs. Annie & Matt
DESCRIPTION:Wednesday Advanced Mixed - Conejo Recreation and Park District
LOCATION:Rancho Conejo Pickleball Court #4
CATEGORIES:QuickScores, Pickleball Game
TRANSP:OPAQUE
BEGIN:VALARM
TRIGGER:-PT2H
ACTION:DISPLAY
DESCRIPTION:Cheryl & Don vs. Annie & Matt
END:VALARM
END:VEVENT
BEGIN:VEVENT
UID:crpd-52851244-20220406T183000@quickscores.com
DTSTAMP:20260424T084300Z
DTSTART;TZID=America/Los_Angeles:20220406T183000
DURATION:PT0H45M0S
SUMMARY:Doreene & Valerie vs. Laurie & Scott
DESCRIPTION:Wednesday Advanced Mixed - Conejo Recreation and Park District
LOCATION:Rancho Conejo Pickleball Court #5
CATEGORIES:QuickScores, Pickleball Game
TRANSP:OPAQUE
BEGIN:VALARM
TRIGGER:-PT2H
ACTION:DISPLAY
DESCRIPTION:Doreene & Valerie vs. Laurie & Scott
END:VALARM
END:VEVENT
BEGIN:VEVENT
UID:crpd-52851245-20220406T191500@quickscores.com
DTSTAMP:20260424T084300Z
DTSTART;TZID=America/Los_Angeles:20220406T191500
DURATION:PT0H45M0S
SUMMARY:Karen & Preston vs. Laurie & Scott
DESCRIPTION:Wednesday Advanced Mixed - Conejo Recreation and Park District
LOCATION:Rancho Conejo Pickleball Court #5
CATEGORIES:QuickScores, Pickleball Game
TRANSP:OPAQUE
BEGIN:VALARM
TRIGGER:-PT2H
ACTION:DISPLAY
DESCRIPTION:Karen & Preston vs. Laurie & Scott
END:VALARM
END:VEVENT
BEGIN:VEVENT
UID:crpd-52851243-20220406T191500@quickscores.com
DTSTAMP:20260424T084300Z
DTSTART;TZID=America/Los_Angeles:20220406T191500
DURATION:PT0H45M0S
SUMMARY:Annie & Matt vs. Doreene & Valerie
DESCRIPTION:Wednesday Advanced Mixed - Conejo Recreation and Park District
LOCATION:Rancho Conejo Pickleball Court #4
CATEGORIES:QuickScores, Pickleball Game
TRANSP:OPAQUE
BEGIN:VALARM
TRIGGER:-PT2H
ACTION:DISPLAY
DESCRIPTION:Annie & Matt vs. Doreene & Valerie
END:VALARM
END:VEVENT
BEGIN:VEVENT
UID:crpd-52851241-20220406T191500@quickscores.com
DTSTAMP:20260424T084300Z
DTSTART;TZID=America/Los_Angeles:20220406T191500
DURATION:PT0H45M0S
SUMMARY:Denise & Daniel vs. Cheryl & Don
DESCRIPTION:Wednesday Advanced Mixed - Conejo Recreation and Park District
LOCATION:Rancho Conejo Pickleball Court #6
CATEGORIES:QuickScores, Pickleball Game
TRANSP:OPAQUE
BEGIN:VALARM
TRIGGER:-PT2H
ACTION:DISPLAY
DESCRIPTION:Denise & Daniel vs. Cheryl & Don
END:VALARM
END:VEVENT
BEGIN:VEVENT
UID:crpd-52851251-20220413T183000@quickscores.com
DTSTAMP:20260424T084300Z
DTSTART;TZID=America/Los_Angeles:20220413T183000
DURATION:PT0H45M0S
SUMMARY:Cheryl & Don vs. Doreene & Valerie
DESCRIPTION:Wednesday Advanced Mixed - Conejo Recreation and Park District
LOCATION:Rancho Conejo Pickleball Court #4
CATEGORIES:QuickScores, Pickleball Game
TRANSP:OPAQUE
BEGIN:VALARM
TRIGGER:-PT2H
ACTION:DISPLAY
DESCRIPTION:Cheryl & Don vs. Doreene & Valerie
END:VALARM
END:VEVENT
BEGIN:VEVENT
UID:crpd-52851250-20220413T183000@quickscores.com
DTSTAMP:20260424T084300Z
DTSTART;TZID=America/Los_Angeles:20220413T183000
DURATION:PT0H45M0S
SUMMARY:Denise & Daniel vs. Laurie & Scott
DESCRIPTION:Wednesday Advanced Mixed - Conejo Recreation and Park District
LOCATION:Rancho Conejo Pickleball Court #6
CATEGORIES:QuickScores, Pickleball Game
TRANSP:OPAQUE
BEGIN:VALARM
TRIGGER:-PT2H
ACTION:DISPLAY
DESCRIPTION:Denise & Daniel vs. Laurie & Scott
END:VALARM
END:VEVENT
BEGIN:VEVENT
UID:crpd-52851249-20220413T183000@quickscores.com
DTSTAMP:20260424T084300Z
DTSTART;TZID=America/Los_Angeles:20220413T183000
DURATION:PT0H45M0S
SUMMARY:Karen & Preston vs. Annie & Matt
DESCRIPTION:Wednesday Advanced Mixed - Conejo Recreation and Park District
LOCATION:Rancho Conejo Pickleball Court #5
CATEGORIES:QuickScores, Pickleball Game
TRANSP:OPAQUE
BEGIN:VALARM
TRIGGER:-PT2H
ACTION:DISPLAY
DESCRIPTION:Karen & Preston vs. Annie & Matt
END:VALARM
END:VEVENT
BEGIN:VEVENT
UID:crpd-52851248-20220413T191500@quickscores.com
DTSTAMP:20260424T084300Z
DTSTART;TZID=America/Los_Angeles:20220413T191500
DURATION:PT0H45M0S
SUMMARY:Denise & Daniel vs. Doreene & Valerie
DESCRIPTION:Wednesday Advanced Mixed - Conejo Recreation and Park District
LOCATION:Rancho Conejo Pickleball Court #6
CATEGORIES:QuickScores, Pickleball Game
TRANSP:OPAQUE
BEGIN:VALARM
TRIGGER:-PT2H
ACTION:DISPLAY
DESCRIPTION:Denise & Daniel vs. Doreene & Valerie
END:VALARM
END:VEVENT
BEGIN:VEVENT
UID:crpd-52851247-20220413T191500@quickscores.com
DTSTAMP:20260424T084300Z
DTSTART;TZID=America/Los_Angeles:20220413T191500
DURATION:PT0H45M0S
SUMMARY:Annie & Matt vs. Laurie & Scott
DESCRIPTION:Wednesday Advanced Mixed - Conejo Recreation and Park District
LOCATION:Rancho Conejo Pickleball Court #5
CATEGORIES:QuickScores, Pickleball Game
TRANSP:OPAQUE
BEGIN:VALARM
TRIGGER:-PT2H
ACTION:DISPLAY
DESCRIPTION:Annie & Matt vs. Laurie & Scott
END:VALARM
END:VEVENT
BEGIN:VEVENT
UID:crpd-52851246-20220413T191500@quickscores.com
DTSTAMP:20260424T084300Z
DTSTART;TZID=America/Los_Angeles:20220413T191500
DURATION:PT0H45M0S
SUMMARY:Cheryl & Don vs. Karen & Preston
DESCRIPTION:Wednesday Advanced Mixed - Conejo Recreation and Park District
LOCATION:Rancho Conejo Pickleball Court #4
CATEGORIES:QuickScores, Pickleball Game
TRANSP:OPAQUE
BEGIN:VALARM
TRIGGER:-PT2H
ACTION:DISPLAY
DESCRIPTION:Cheryl & Don vs. Karen & Preston
END:VALARM
END:VEVENT
BEGIN:VEVENT
UID:crpd-52851257-20220427T183000@quickscores.com
DTSTAMP:20260424T084300Z
DTSTART;TZID=America/Los_Angeles:20220427T183000
DURATION:PT0H45M0S
SUMMARY:Laurie & Scott vs. Doreene & Valerie
DESCRIPTION:Wednesday Advanced Mixed - Conejo Recreation and Park District
LOCATION:Rancho Conejo Pickleball Court #5
CATEGORIES:QuickScores, Pickleball Game
TRANSP:OPAQUE
BEGIN:VALARM
TRIGGER:-PT2H
ACTION:DISPLAY
DESCRIPTION:Laurie & Scott vs. Doreene & Valerie
END:VALARM
END:VEVENT
BEGIN:VEVENT
UID:crpd-52851256-20220427T183000@quickscores.com
DTSTAMP:20260424T084300Z
DTSTART;TZID=America/Los_Angeles:20220427T183000
DURATION:PT0H45M0S
SUMMARY:Annie & Matt vs. Cheryl & Don
DESCRIPTION:Wednesday Advanced Mixed - Conejo Recreation and Park District
LOCATION:Rancho Conejo Pickleball Court #6
CATEGORIES:QuickScores, Pickleball Game
TRANSP:OPAQUE
BEGIN:VALARM
TRIGGER:-PT2H
ACTION:DISPLAY
DESCRIPTION:Annie & Matt vs. Cheryl & Don
END:VALARM
END:VEVENT
BEGIN:VEVENT
UID:crpd-52851255-20220427T183000@quickscores.com
DTSTAMP:20260424T084300Z
DTSTART;TZID=America/Los_Angeles:20220427T183000
DURATION:PT0H45M0S
SUMMARY:Denise & Daniel vs. Karen & Preston
DESCRIPTION:Wednesday Advanced Mixed - Conejo Recreation and Park District
LOCATION:Rancho Conejo Pickleball Court #4
CATEGORIES:QuickScores, Pickleball Game
TRANSP:OPAQUE
BEGIN:VALARM
TRIGGER:-PT2H
ACTION:DISPLAY
DESCRIPTION:Denise & Daniel vs. Karen & Preston
END:VALARM
END:VEVENT
BEGIN:VEVENT
UID:crpd-52851254-20220427T191500@quickscores.com
DTSTAMP:20260424T084300Z
DTSTART;TZID=America/Los_Angeles:20220427T191500
DURATION:PT0H45M0S
SUMMARY:Doreene & Valerie vs. Karen & Preston
DESCRIPTION:Wednesday Advanced Mixed - Conejo Recreation and Park District
LOCATION:Rancho Conejo Pickleball Court #4
CATEGORIES:QuickScores, Pickleball Game
TRANSP:OPAQUE
BEGIN:VALARM
TRIGGER:-PT2H
ACTION:DISPLAY
DESCRIPTION:Doreene & Valerie vs. Karen & Preston
END:VALARM
END:VEVENT
BEGIN:VEVENT
UID:crpd-52851253-20220427T191500@quickscores.com
DTSTAMP:20260424T084300Z
DTSTART;TZID=America/Los_Angeles:20220427T191500
DURATION:PT0H45M0S
SUMMARY:Denise & Daniel vs. Annie & Matt
DESCRIPTION:Wednesday Advanced Mixed - Conejo Recreation and Park District
LOCATION:Rancho Conejo Pickleball Court #6
CATEGORIES:QuickScores, Pickleball Game
TRANSP:OPAQUE
BEGIN:VALARM
TRIGGER:-PT2H
ACTION:DISPLAY
DESCRIPTION:Denise & Daniel vs. Annie & Matt
END:VALARM
END:VEVENT
BEGIN:VEVENT
UID:crpd-52851252-20220427T191500@quickscores.com
DTSTAMP:20260424T084300Z
DTSTART;TZID=America/Los_Angeles:20220427T191500
DURATION:PT0H45M0S
SUMMARY:Cheryl & Don vs. Laurie & Scott
DESCRIPTION:Wednesday Advanced Mixed - Conejo Recreation and Park District
LOCATION:Rancho Conejo Pickleball Court #5
CATEGORIES:QuickScores, Pickleball Game
TRANSP:OPAQUE
BEGIN:VALARM
TRIGGER:-PT2H
ACTION:DISPLAY
DESCRIPTION:Cheryl & Don vs. Laurie & Scott
END:VALARM
END:VEVENT
BEGIN:VEVENT
UID:crpd-52851260-20220504T183000@quickscores.com
DTSTAMP:20260424T084300Z
DTSTART;TZID=America/Los_Angeles:20220504T183000
DURATION:PT0H45M0S
SUMMARY:Laurie & Scott vs. Karen & Preston
DESCRIPTION:Wednesday Advanced Mixed - Conejo Recreation and Park District
LOCATION:Rancho Conejo Pickleball Court #4
CATEGORIES:QuickScores, Pickleball Game
TRANSP:OPAQUE
BEGIN:VALARM
TRIGGER:-PT2H
ACTION:DISPLAY
DESCRIPTION:Laurie & Scott vs. Karen & Preston
END:VALARM
END:VEVENT
BEGIN:VEVENT
UID:crpd-52851259-20220504T183000@quickscores.com
DTSTAMP:20260424T084300Z
DTSTART;TZID=America/Los_Angeles:20220504T183000
DURATION:PT0H45M0S
SUMMARY:Doreene & Valerie vs. Annie & Matt
DESCRIPTION:Wednesday Advanced Mixed - Conejo Recreation and Park District
LOCATION:Rancho Conejo Pickleball Court #6
CATEGORIES:QuickScores, Pickleball Game
TRANSP:OPAQUE
BEGIN:VALARM
TRIGGER:-PT2H
ACTION:DISPLAY
DESCRIPTION:Doreene & Valerie vs. Annie & Matt
END:VALARM
END:VEVENT
BEGIN:VEVENT
UID:crpd-52851258-20220504T183000@quickscores.com
DTSTAMP:20260424T084300Z
DTSTART;TZID=America/Los_Angeles:20220504T183000
DURATION:PT0H45M0S
SUMMARY:Cheryl & Don vs. Denise & Daniel
DESCRIPTION:Wednesday Advanced Mixed - Conejo Recreation and Park District
LOCATION:Rancho Conejo Pickleball Court #5
CATEGORIES:QuickScores, Pickleball Game
TRANSP:OPAQUE
BEGIN:VALARM
TRIGGER:-PT2H
ACTION:DISPLAY
DESCRIPTION:Cheryl & Don vs. Denise & Daniel
END:VALARM
END:VEVENT
BEGIN:VEVENT
UID:crpd-52851261-20220504T191500@quickscores.com
DTSTAMP:20260424T084300Z
DTSTART;TZID=America/Los_Angeles:20220504T191500
DURATION:PT0H45M0S
SUMMARY:Annie & Matt vs. Karen & Preston
DESCRIPTION:Wednesday Advanced Mixed - Conejo Recreation and Park District
LOCATION:Rancho Conejo Pickleball Court #6
CATEGORIES:QuickScores, Pickleball Game
TRANSP:OPAQUE
BEGIN:VALARM
TRIGGER:-PT2H
ACTION:DISPLAY
DESCRIPTION:Annie & Matt vs. Karen & Preston
END:VALARM
END:VEVENT
BEGIN:VEVENT
UID:crpd-52851262-20220504T191500@quickscores.com
DTSTAMP:20260424T084300Z
DTSTART;TZID=America/Los_Angeles:20220504T191500
DURATION:PT0H45M0S
SUMMARY:Laurie & Scott vs. Denise & Daniel
DESCRIPTION:Wednesday Advanced Mixed - Conejo Recreation and Park District
LOCATION:Rancho Conejo Pickleball Court #4
CATEGORIES:QuickScores, Pickleball Game
TRANSP:OPAQUE
BEGIN:VALARM
TRIGGER:-PT2H
ACTION:DISPLAY
DESCRIPTION:Laurie & Scott vs. Denise & Daniel
END:VALARM
END:VEVENT
BEGIN:VEVENT
UID:crpd-52851263-20220504T191500@quickscores.com
DTSTAMP:20260424T084300Z
DTSTART;TZID=America/Los_Angeles:20220504T191500
DURATION:PT0H45M0S
SUMMARY:Doreene & Valerie vs. Cheryl & Don
DESCRIPTION:Wednesday Advanced Mixed - Conejo Recreation and Park District
LOCATION:Rancho Conejo Pickleball Court #5
CATEGORIES:QuickScores, Pickleball Game
TRANSP:OPAQUE
BEGIN:VALARM
TRIGGER:-PT2H
ACTION:DISPLAY
DESCRIPTION:Doreene & Valerie vs. Cheryl & Don
END:VALARM
END:VEVENT
BEGIN:VEVENT
UID:crpd-52851266-20220518T183000@quickscores.com
DTSTAMP:20260424T084300Z
DTSTART;TZID=America/Los_Angeles:20220518T183000
DURATION:PT0H45M0S
SUMMARY:Doreene & Valerie vs. Karen & Preston
DESCRIPTION:Wednesday Advanced Mixed - Conejo Recreation and Park District
LOCATION:Rancho Conejo Pickleball Court #6
CATEGORIES:QuickScores, Pickleball Game
TRANSP:OPAQUE
BEGIN:VALARM
TRIGGER:-PT2H
ACTION:DISPLAY
DESCRIPTION:Doreene & Valerie vs. Karen & Preston
END:VALARM
END:VEVENT
BEGIN:VEVENT
UID:crpd-52851265-20220518T183000@quickscores.com
DTSTAMP:20260424T084300Z
DTSTART;TZID=America/Los_Angeles:20220518T183000
DURATION:PT0H45M0S
SUMMARY:Annie & Matt vs. Denise & Daniel
DESCRIPTION:Wednesday Advanced Mixed - Conejo Recreation and Park District
LOCATION:Rancho Conejo Pickleball Court #5
CATEGORIES:QuickScores, Pickleball Game
TRANSP:OPAQUE
BEGIN:VALARM
TRIGGER:-PT2H
ACTION:DISPLAY
DESCRIPTION:Annie & Matt vs. Denise & Daniel
END:VALARM
END:VEVENT
BEGIN:VEVENT
UID:crpd-52851264-20220518T183000@quickscores.com
DTSTAMP:20260424T084300Z
DTSTART;TZID=America/Los_Angeles:20220518T183000
DURATION:PT0H45M0S
SUMMARY:Cheryl & Don vs. Laurie & Scott
DESCRIPTION:Wednesday Advanced Mixed - Conejo Recreation and Park District
LOCATION:Rancho Conejo Pickleball Court #4
CATEGORIES:QuickScores, Pickleball Game
TRANSP:OPAQUE
BEGIN:VALARM
TRIGGER:-PT2H
ACTION:DISPLAY
DESCRIPTION:Cheryl & Don vs. Laurie & Scott
END:VALARM
END:VEVENT
BEGIN:VEVENT
UID:crpd-52851267-20220518T191500@quickscores.com
DTSTAMP:20260424T084300Z
DTSTART;TZID=America/Los_Angeles:20220518T191500
DURATION:PT0H45M0S
SUMMARY:Karen & Preston vs. Cheryl & Don
DESCRIPTION:Wednesday Advanced Mixed - Conejo Recreation and Park District
LOCATION:Rancho Conejo Pickleball Court #6
CATEGORIES:QuickScores, Pickleball Game
TRANSP:OPAQUE
BEGIN:VALARM
TRIGGER:-PT2H
ACTION:DISPLAY
DESCRIPTION:Karen & Preston vs. Cheryl & Don
END:VALARM
END:VEVENT
BEGIN:VEVENT
UID:crpd-52851268-20220518T191500@quickscores.com
DTSTAMP:20260424T084300Z
DTSTART;TZID=America/Los_Angeles:20220518T191500
DURATION:PT0H45M0S
SUMMARY:Laurie & Scott vs. Annie & Matt
DESCRIPTION:Wednesday Advanced Mixed - Conejo Recreation and Park District
LOCATION:Rancho Conejo Pickleball Court #4
CATEGORIES:QuickScores, Pickleball Game
TRANSP:OPAQUE
BEGIN:VALARM
TRIGGER:-PT2H
ACTION:DISPLAY
DESCRIPTION:Laurie & Scott vs. Annie & Matt
END:VALARM
END:VEVENT
BEGIN:VEVENT
UID:crpd-52851269-20220518T191500@quickscores.com
DTSTAMP:20260424T084300Z
DTSTART;TZID=America/Los_Angeles:20220518T191500
DURATION:PT0H45M0S
SUMMARY:Doreene & Valerie vs. Denise & Daniel
DESCRIPTION:Wednesday Advanced Mixed - Conejo Recreation and Park District
LOCATION:Rancho Conejo Pickleball Court #5
CATEGORIES:QuickScores, Pickleball Game
TRANSP:OPAQUE
BEGIN:VALARM
TRIGGER:-PT2H
ACTION:DISPLAY
DESCRIPTION:Doreene & Valerie vs. Denise & Daniel
END:VALARM
END:VEVENT
BEGIN:VEVENT
UID:crpd-52851274-20220525T183000@quickscores.com
DTSTAMP:20260424T084300Z
DTSTART;TZID=America/Los_Angeles:20220525T183000
DURATION:PT0H45M0S
SUMMARY:Laurie & Scott vs. Doreene & Valerie
DESCRIPTION:Wednesday Advanced Mixed - Conejo Recreation and Park District
LOCATION:Rancho Conejo Pickleball Court #6
CATEGORIES:QuickScores, Pickleball Game
TRANSP:OPAQUE
BEGIN:VALARM
TRIGGER:-PT2H
ACTION:DISPLAY
DESCRIPTION:Laurie & Scott vs. Doreene & Valerie
END:VALARM
END:VEVENT
BEGIN:VEVENT
UID:crpd-52851272-20220525T183000@quickscores.com
DTSTAMP:20260424T084300Z
DTSTART;TZID=America/Los_Angeles:20220525T183000
DURATION:PT0H45M0S
SUMMARY:Cheryl & Don vs. Annie & Matt
DESCRIPTION:Wednesday Advanced Mixed - Conejo Recreation and Park District
LOCATION:Rancho Conejo Pickleball Court #5
CATEGORIES:QuickScores, Pickleball Game
TRANSP:OPAQUE
BEGIN:VALARM
TRIGGER:-PT2H
ACTION:DISPLAY
DESCRIPTION:Cheryl & Don vs. Annie & Matt
END:VALARM
END:VEVENT
BEGIN:VEVENT
UID:crpd-52851270-20220525T183000@quickscores.com
DTSTAMP:20260424T084300Z
DTSTART;TZID=America/Los_Angeles:20220525T183000
DURATION:PT0H45M0S
SUMMARY:Karen & Preston vs. Denise & Daniel
DESCRIPTION:Wednesday Advanced Mixed - Conejo Recreation and Park District
LOCATION:Rancho Conejo Pickleball Court #4
CATEGORIES:QuickScores, Pickleball Game
TRANSP:OPAQUE
BEGIN:VALARM
TRIGGER:-PT2H
ACTION:DISPLAY
DESCRIPTION:Karen & Preston vs. Denise & Daniel
END:VALARM
END:VEVENT
BEGIN:VEVENT
UID:crpd-52851273-20220525T191500@quickscores.com
DTSTAMP:20260424T084300Z
DTSTART;TZID=America/Los_Angeles:20220525T191500
DURATION:PT0H45M0S
SUMMARY:Annie & Matt vs. Doreene & Valerie
DESCRIPTION:Wednesday Advanced Mixed - Conejo Recreation and Park District
LOCATION:Rancho Conejo Pickleball Court #5
CATEGORIES:QuickScores, Pickleball Game
TRANSP:OPAQUE
BEGIN:VALARM
TRIGGER:-PT2H
ACTION:DISPLAY
DESCRIPTION:Annie & Matt vs. Doreene & Valerie
END:VALARM
END:VEVENT
BEGIN:VEVENT
UID:crpd-52851275-20220525T191500@quickscores.com
DTSTAMP:20260424T084300Z
DTSTART;TZID=America/Los_Angeles:20220525T191500
DURATION:PT0H45M0S
SUMMARY:Laurie & Scott vs. Karen & Preston
DESCRIPTION:Wednesday Advanced Mixed - Conejo Recreation and Park District
LOCATION:Rancho Conejo Pickleball Court #6
CATEGORIES:QuickScores, Pickleball Game
TRANSP:OPAQUE
BEGIN:VALARM
TRIGGER:-PT2H
ACTION:DISPLAY
DESCRIPTION:Laurie & Scott vs. Karen & Preston
END:VALARM
END:VEVENT
BEGIN:VEVENT
UID:crpd-52851271-20220525T191500@quickscores.com
DTSTAMP:20260424T084300Z
DTSTART;TZID=America/Los_Angeles:20220525T191500
DURATION:PT0H45M0S
SUMMARY:Denise & Daniel vs. Cheryl & Don
DESCRIPTION:Wednesday Advanced Mixed - Conejo Recreation and Park District
LOCATION:Rancho Conejo Pickleball Court #4
CATEGORIES:QuickScores, Pickleball Game
TRANSP:OPAQUE
BEGIN:VALARM
TRIGGER:-PT2H
ACTION:DISPLAY
DESCRIPTION:Denise & Daniel vs. Cheryl & Don
END:VALARM
END:VEVENT
BEGIN:VEVENT
UID:crpd-52851278-20220601T183000@quickscores.com
DTSTAMP:20260424T084300Z
DTSTART;TZID=America/Los_Angeles:20220601T183000
DURATION:PT0H45M0S
SUMMARY:Doreene & Valerie vs. Cheryl & Don
DESCRIPTION:Wednesday Advanced Mixed - Conejo Recreation and Park District
LOCATION:Rancho Conejo Pickleball Court #6
CATEGORIES:QuickScores, Pickleball Game
TRANSP:OPAQUE
BEGIN:VALARM
TRIGGER:-PT2H
ACTION:DISPLAY
DESCRIPTION:Doreene & Valerie vs. Cheryl & Don
END:VALARM
END:VEVENT
BEGIN:VEVENT
UID:crpd-52851276-20220601T183000@quickscores.com
DTSTAMP:20260424T084300Z
DTSTART;TZID=America/Los_Angeles:20220601T183000
DURATION:PT0H45M0S
SUMMARY:Karen & Preston vs. Annie & Matt
DESCRIPTION:Wednesday Advanced Mixed - Conejo Recreation and Park District
LOCATION:Rancho Conejo Pickleball Court #4
CATEGORIES:QuickScores, Pickleball Game
TRANSP:OPAQUE
BEGIN:VALARM
TRIGGER:-PT2H
ACTION:DISPLAY
DESCRIPTION:Karen & Preston vs. Annie & Matt
END:VALARM
END:VEVENT
BEGIN:VEVENT
UID:crpd-52851277-20220601T183000@quickscores.com
DTSTAMP:20260424T084300Z
DTSTART;TZID=America/Los_Angeles:20220601T183000
DURATION:PT0H45M0S
SUMMARY:Denise & Daniel vs. Laurie & Scott
DESCRIPTION:Wednesday Advanced Mixed - Conejo Recreation and Park District
LOCATION:Rancho Conejo Pickleball Court #5
CATEGORIES:QuickScores, Pickleball Game
TRANSP:OPAQUE
BEGIN:VALARM
TRIGGER:-PT2H
ACTION:DISPLAY
DESCRIPTION:Denise & Daniel vs. Laurie & Scott
END:VALARM
END:VEVENT
BEGIN:VEVENT
UID:crpd-52851279-20220601T191500@quickscores.com
DTSTAMP:20260424T084300Z
DTSTART;TZID=America/Los_Angeles:20220601T191500
DURATION:PT0H45M0S
SUMMARY:Cheryl & Don vs. Karen & Preston
DESCRIPTION:Wednesday Advanced Mixed - Conejo Recreation and Park District
LOCATION:Rancho Conejo Pickleball Court #6
CATEGORIES:QuickScores, Pickleball Game
TRANSP:OPAQUE
BEGIN:VALARM
TRIGGER:-PT2H
ACTION:DISPLAY
DESCRIPTION:Cheryl & Don vs. Karen & Preston
END:VALARM
END:VEVENT
BEGIN:VEVENT
UID:crpd-52851280-20220601T191500@quickscores.com
DTSTAMP:20260424T084300Z
DTSTART;TZID=America/Los_Angeles:20220601T191500
DURATION:PT0H45M0S
SUMMARY:Annie & Matt vs. Laurie & Scott
DESCRIPTION:Wednesday Advanced Mixed - Conejo Recreation and Park District
LOCATION:Rancho Conejo Pickleball Court #4
CATEGORIES:QuickScores, Pickleball Game
TRANSP:OPAQUE
BEGIN:VALARM
TRIGGER:-PT2H
ACTION:DISPLAY
DESCRIPTION:Annie & Matt vs. Laurie & Scott
END:VALARM
END:VEVENT
BEGIN:VEVENT
UID:crpd-52851281-20220601T191500@quickscores.com
DTSTAMP:20260424T084300Z
DTSTART;TZID=America/Los_Angeles:20220601T191500
DURATION:PT0H45M0S
SUMMARY:Denise & Daniel vs. Doreene & Valerie
DESCRIPTION:Wednesday Advanced Mixed - Conejo Recreation and Park District
LOCATION:Rancho Conejo Pickleball Court #5
CATEGORIES:QuickScores, Pickleball Game
TRANSP:OPAQUE
BEGIN:VALARM
TRIGGER:-PT2H
ACTION:DISPLAY
DESCRIPTION:Denise & Daniel vs. Doreene & Valerie
END:VALARM
END:VEVENT
END:VCALENDAR
