BEGIN:VCALENDAR
VERSION:2.0
PRODID:-//QuickScores.com//BQ Dynamic iCal Creator//EN
METHOD:PUBLISH
X-WR-CALNAME:Wednesday Men&#039;s - 2021 Fall Softball League
X-WR-CALDESC:QuickScores game calendar
X-PUBLISHED-TTL:PT24H
REFRESH-INTERVAL;VALUE=DURATION:PT24H
CALSCALE:GREGORIAN
BEGIN:VTIMEZONE
TZID:America/Los_Angeles
X-LIC-LOCATION:America/Los_Angeles
BEGIN:DAYLIGHT
TZNAME:PDT
TZOFFSETFROM:-0800
TZOFFSETTO:-0700
DTSTART:19700308T020000
RRULE:FREQ=YEARLY;BYMONTH=3;BYDAY=2SU
END:DAYLIGHT
BEGIN:STANDARD
TZNAME:PST
TZOFFSETFROM:-0700
TZOFFSETTO:-0800
DTSTART:19701101T020000
RRULE:FREQ=YEARLY;BYMONTH=11;BYDAY=1SU
END:STANDARD
END:VTIMEZONE
BEGIN:VEVENT
UID:crpd-50665028-20210908T183000@quickscores.com
DTSTAMP:20260424T095800Z
DTSTART;TZID=America/Los_Angeles:20210908T183000
DURATION:PT1H15M0S
SUMMARY:Head First vs. Cronies
DESCRIPTION:Wednesday Men's - Conejo Recreation and Park District
LOCATION:Borchard Park Field #3
CATEGORIES:QuickScores, Softball - Adult Game
TRANSP:OPAQUE
BEGIN:VALARM
TRIGGER:-PT2H
ACTION:DISPLAY
DESCRIPTION:Head First vs. Cronies
END:VALARM
END:VEVENT
BEGIN:VEVENT
UID:crpd-50665029-20210908T194500@quickscores.com
DTSTAMP:20260424T095800Z
DTSTART;TZID=America/Los_Angeles:20210908T194500
DURATION:PT1H15M0S
SUMMARY:Git R' Done vs. Free Agents
DESCRIPTION:Wednesday Men's - Conejo Recreation and Park District
LOCATION:Borchard Park Field #3
CATEGORIES:QuickScores, Softball - Adult Game
TRANSP:OPAQUE
BEGIN:VALARM
TRIGGER:-PT2H
ACTION:DISPLAY
DESCRIPTION:Git R' Done vs. Free Agents
END:VALARM
END:VEVENT
BEGIN:VEVENT
UID:crpd-50665031-20210915T183000@quickscores.com
DTSTAMP:20260424T095800Z
DTSTART;TZID=America/Los_Angeles:20210915T183000
DURATION:PT1H15M0S
SUMMARY:Git R' Done vs. Wednesday Warriors
DESCRIPTION:Wednesday Men's - Conejo Recreation and Park District
LOCATION:Borchard Park Field #3
CATEGORIES:QuickScores, Softball - Adult Game
TRANSP:OPAQUE
BEGIN:VALARM
TRIGGER:-PT2H
ACTION:DISPLAY
DESCRIPTION:Git R' Done vs. Wednesday Warriors
END:VALARM
END:VEVENT
BEGIN:VEVENT
UID:crpd-50665032-20210915T194500@quickscores.com
DTSTAMP:20260424T095800Z
DTSTART;TZID=America/Los_Angeles:20210915T194500
DURATION:PT1H15M0S
SUMMARY:Free Agents vs. Cronies
DESCRIPTION:Wednesday Men's - Conejo Recreation and Park District
LOCATION:Borchard Park Field #3
CATEGORIES:QuickScores, Softball - Adult Game
TRANSP:OPAQUE
BEGIN:VALARM
TRIGGER:-PT2H
ACTION:DISPLAY
DESCRIPTION:Free Agents vs. Cronies
END:VALARM
END:VEVENT
BEGIN:VEVENT
UID:crpd-50665034-20210922T183000@quickscores.com
DTSTAMP:20260424T095800Z
DTSTART;TZID=America/Los_Angeles:20210922T183000
DURATION:PT1H15M0S
SUMMARY:Wednesday Warriors vs. Free Agents
DESCRIPTION:Wednesday Men's - Conejo Recreation and Park District
LOCATION:Borchard Park Field #3
CATEGORIES:QuickScores, Softball - Adult Game
TRANSP:OPAQUE
BEGIN:VALARM
TRIGGER:-PT2H
ACTION:DISPLAY
DESCRIPTION:Wednesday Warriors vs. Free Agents
END:VALARM
END:VEVENT
BEGIN:VEVENT
UID:crpd-50665035-20210922T194500@quickscores.com
DTSTAMP:20260424T095800Z
DTSTART;TZID=America/Los_Angeles:20210922T194500
DURATION:PT1H15M0S
SUMMARY:Head First vs. Git R' Done
DESCRIPTION:Wednesday Men's - Conejo Recreation and Park District
LOCATION:Borchard Park Field #3
CATEGORIES:QuickScores, Softball - Adult Game
TRANSP:OPAQUE
BEGIN:VALARM
TRIGGER:-PT2H
ACTION:DISPLAY
DESCRIPTION:Head First vs. Git R' Done
END:VALARM
END:VEVENT
BEGIN:VEVENT
UID:crpd-50665037-20210929T183000@quickscores.com
DTSTAMP:20260424T095800Z
DTSTART;TZID=America/Los_Angeles:20210929T183000
DURATION:PT1H15M0S
SUMMARY:Free Agents vs. Head First
DESCRIPTION:Wednesday Men's - Conejo Recreation and Park District
LOCATION:Borchard Park Field #3
CATEGORIES:QuickScores, Softball - Adult Game
TRANSP:OPAQUE
BEGIN:VALARM
TRIGGER:-PT2H
ACTION:DISPLAY
DESCRIPTION:Free Agents vs. Head First
END:VALARM
END:VEVENT
BEGIN:VEVENT
UID:crpd-50665038-20210929T194500@quickscores.com
DTSTAMP:20260424T095800Z
DTSTART;TZID=America/Los_Angeles:20210929T194500
DURATION:PT1H15M0S
SUMMARY:Cronies vs. Wednesday Warriors
DESCRIPTION:Wednesday Men's - Conejo Recreation and Park District
LOCATION:Borchard Park Field #3
CATEGORIES:QuickScores, Softball - Adult Game
TRANSP:OPAQUE
BEGIN:VALARM
TRIGGER:-PT2H
ACTION:DISPLAY
DESCRIPTION:Cronies vs. Wednesday Warriors
END:VALARM
END:VEVENT
BEGIN:VEVENT
UID:crpd-50665040-20211006T183000@quickscores.com
DTSTAMP:20260424T095800Z
DTSTART;TZID=America/Los_Angeles:20211006T183000
DURATION:PT1H15M0S
SUMMARY:Cronies vs. Git R' Done
DESCRIPTION:Wednesday Men's - Conejo Recreation and Park District
LOCATION:Borchard Park Field #3
CATEGORIES:QuickScores, Softball - Adult Game
TRANSP:OPAQUE
BEGIN:VALARM
TRIGGER:-PT2H
ACTION:DISPLAY
DESCRIPTION:Cronies vs. Git R' Done
END:VALARM
END:VEVENT
BEGIN:VEVENT
UID:crpd-50665041-20211006T194500@quickscores.com
DTSTAMP:20260424T095800Z
DTSTART;TZID=America/Los_Angeles:20211006T194500
DURATION:PT1H15M0S
SUMMARY:Wednesday Warriors vs. Head First
DESCRIPTION:Wednesday Men's - Conejo Recreation and Park District
LOCATION:Borchard Park Field #3
CATEGORIES:QuickScores, Softball - Adult Game
TRANSP:OPAQUE
BEGIN:VALARM
TRIGGER:-PT2H
ACTION:DISPLAY
DESCRIPTION:Wednesday Warriors vs. Head First
END:VALARM
END:VEVENT
BEGIN:VEVENT
UID:crpd-50665043-20211013T183000@quickscores.com
DTSTAMP:20260424T095800Z
DTSTART;TZID=America/Los_Angeles:20211013T183000
DURATION:PT1H15M0S
SUMMARY:Free Agents vs. Wednesday Warriors
DESCRIPTION:Wednesday Men's - Conejo Recreation and Park District
LOCATION:Borchard Park Field #3
CATEGORIES:QuickScores, Softball - Adult Game
TRANSP:OPAQUE
BEGIN:VALARM
TRIGGER:-PT2H
ACTION:DISPLAY
DESCRIPTION:Free Agents vs. Wednesday Warriors
END:VALARM
END:VEVENT
BEGIN:VEVENT
UID:crpd-50665044-20211013T194500@quickscores.com
DTSTAMP:20260424T095800Z
DTSTART;TZID=America/Los_Angeles:20211013T194500
DURATION:PT1H15M0S
SUMMARY:Git R' Done vs. Head First
DESCRIPTION:Wednesday Men's - Conejo Recreation and Park District
LOCATION:Borchard Park Field #3
CATEGORIES:QuickScores, Softball - Adult Game
TRANSP:OPAQUE
BEGIN:VALARM
TRIGGER:-PT2H
ACTION:DISPLAY
DESCRIPTION:Git R' Done vs. Head First
END:VALARM
END:VEVENT
BEGIN:VEVENT
UID:crpd-50665046-20211020T183000@quickscores.com
DTSTAMP:20260424T095800Z
DTSTART;TZID=America/Los_Angeles:20211020T183000
DURATION:PT1H15M0S
SUMMARY:Head First vs. Free Agents
DESCRIPTION:Wednesday Men's - Conejo Recreation and Park District
LOCATION:Borchard Park Field #3
CATEGORIES:QuickScores, Softball - Adult Game
TRANSP:OPAQUE
BEGIN:VALARM
TRIGGER:-PT2H
ACTION:DISPLAY
DESCRIPTION:Head First vs. Free Agents
END:VALARM
END:VEVENT
BEGIN:VEVENT
UID:crpd-50665047-20211020T194500@quickscores.com
DTSTAMP:20260424T095800Z
DTSTART;TZID=America/Los_Angeles:20211020T194500
DURATION:PT1H15M0S
SUMMARY:Wednesday Warriors vs. Cronies
DESCRIPTION:Wednesday Men's - Conejo Recreation and Park District
LOCATION:Borchard Park Field #3
CATEGORIES:QuickScores, Softball - Adult Game
TRANSP:OPAQUE
BEGIN:VALARM
TRIGGER:-PT2H
ACTION:DISPLAY
DESCRIPTION:Wednesday Warriors vs. Cronies
END:VALARM
END:VEVENT
BEGIN:VEVENT
UID:crpd-50665053-20211103T183000@quickscores.com
DTSTAMP:20260424T095800Z
DTSTART;TZID=America/Los_Angeles:20211103T183000
DURATION:PT1H15M0S
SUMMARY:Cronies vs. Free Agents
DESCRIPTION:Wednesday Men's - Conejo Recreation and Park District
LOCATION:Borchard Park Field #3
CATEGORIES:QuickScores, Softball - Adult Game
TRANSP:OPAQUE
BEGIN:VALARM
TRIGGER:-PT2H
ACTION:DISPLAY
DESCRIPTION:Cronies vs. Free Agents
END:VALARM
END:VEVENT
BEGIN:VEVENT
UID:crpd-50665052-20211103T194500@quickscores.com
DTSTAMP:20260424T095800Z
DTSTART;TZID=America/Los_Angeles:20211103T194500
DURATION:PT1H15M0S
SUMMARY:Wednesday Warriors vs. Git R' Done
DESCRIPTION:Wednesday Men's - Conejo Recreation and Park District
LOCATION:Borchard Park Field #3
CATEGORIES:QuickScores, Softball - Adult Game
TRANSP:OPAQUE
BEGIN:VALARM
TRIGGER:-PT2H
ACTION:DISPLAY
DESCRIPTION:Wednesday Warriors vs. Git R' Done
END:VALARM
END:VEVENT
BEGIN:VEVENT
UID:crpd-50665055-20211110T183000@quickscores.com
DTSTAMP:20260424T095800Z
DTSTART;TZID=America/Los_Angeles:20211110T183000
DURATION:PT1H15M0S
SUMMARY:Git R' Done vs. Cronies
DESCRIPTION:Wednesday Men's - Conejo Recreation and Park District
LOCATION:Borchard Park Field #3
CATEGORIES:QuickScores, Softball - Adult Game
TRANSP:OPAQUE
BEGIN:VALARM
TRIGGER:-PT2H
ACTION:DISPLAY
DESCRIPTION:Git R' Done vs. Cronies
END:VALARM
END:VEVENT
BEGIN:VEVENT
UID:crpd-50665056-20211110T194500@quickscores.com
DTSTAMP:20260424T095800Z
DTSTART;TZID=America/Los_Angeles:20211110T194500
DURATION:PT1H15M0S
SUMMARY:Head First vs. Wednesday Warriors
DESCRIPTION:Wednesday Men's - Conejo Recreation and Park District
LOCATION:Borchard Park Field #3
CATEGORIES:QuickScores, Softball - Adult Game
TRANSP:OPAQUE
BEGIN:VALARM
TRIGGER:-PT2H
ACTION:DISPLAY
DESCRIPTION:Head First vs. Wednesday Warriors
END:VALARM
END:VEVENT
BEGIN:VEVENT
UID:crpd-50665058-20211117T183000@quickscores.com
DTSTAMP:20260424T095800Z
DTSTART;TZID=America/Los_Angeles:20211117T183000
DURATION:PT1H15M0S
SUMMARY:Head First vs. Cronies
DESCRIPTION:Wednesday Men's - Conejo Recreation and Park District
LOCATION:Borchard Park Field #3
CATEGORIES:QuickScores, Softball - Adult Game
TRANSP:OPAQUE
BEGIN:VALARM
TRIGGER:-PT2H
ACTION:DISPLAY
DESCRIPTION:Head First vs. Cronies
END:VALARM
END:VEVENT
BEGIN:VEVENT
UID:crpd-50665059-20211117T194500@quickscores.com
DTSTAMP:20260424T095800Z
DTSTART;TZID=America/Los_Angeles:20211117T194500
DURATION:PT1H15M0S
SUMMARY:Free Agents vs. Git R' Done
DESCRIPTION:Wednesday Men's - Conejo Recreation and Park District
LOCATION:Borchard Park Field #3
CATEGORIES:QuickScores, Softball - Adult Game
TRANSP:OPAQUE
BEGIN:VALARM
TRIGGER:-PT2H
ACTION:DISPLAY
DESCRIPTION:Free Agents vs. Git R' Done
END:VALARM
END:VEVENT
BEGIN:VEVENT
UID:crpd-50665061-20211201T183000@quickscores.com
DTSTAMP:20260424T095800Z
DTSTART;TZID=America/Los_Angeles:20211201T183000
DURATION:PT1H15M0S
SUMMARY:Git R' Done vs. Wednesday Warriors
DESCRIPTION:Wednesday Men's - Conejo Recreation and Park District
LOCATION:Borchard Park Field #3
CATEGORIES:QuickScores, Softball - Adult Game
TRANSP:OPAQUE
BEGIN:VALARM
TRIGGER:-PT2H
ACTION:DISPLAY
DESCRIPTION:Git R' Done vs. Wednesday Warriors
END:VALARM
END:VEVENT
BEGIN:VEVENT
UID:crpd-50665062-20211201T194500@quickscores.com
DTSTAMP:20260424T095800Z
DTSTART;TZID=America/Los_Angeles:20211201T194500
DURATION:PT1H15M0S
SUMMARY:Cronies vs. Free Agents
DESCRIPTION:Wednesday Men's - Conejo Recreation and Park District
LOCATION:Borchard Park Field #3
CATEGORIES:QuickScores, Softball - Adult Game
TRANSP:OPAQUE
BEGIN:VALARM
TRIGGER:-PT2H
ACTION:DISPLAY
DESCRIPTION:Cronies vs. Free Agents
END:VALARM
END:VEVENT
BEGIN:VEVENT
UID:crpd-50665064-20211208T183000@quickscores.com
DTSTAMP:20260424T095800Z
DTSTART;TZID=America/Los_Angeles:20211208T183000
DURATION:PT1H15M0S
SUMMARY:Wednesday Warriors vs. Head First
DESCRIPTION:Wednesday Men's - Conejo Recreation and Park District
LOCATION:Pepper Tree Playfield #2
CATEGORIES:QuickScores, Softball - Adult Game
TRANSP:OPAQUE
BEGIN:VALARM
TRIGGER:-PT2H
ACTION:DISPLAY
DESCRIPTION:Wednesday Warriors vs. Head First
END:VALARM
END:VEVENT
BEGIN:VEVENT
UID:crpd-50665050-20220112T183000@quickscores.com
DTSTAMP:20260424T095800Z
DTSTART;TZID=America/Los_Angeles:20220112T183000
DURATION:PT1H15M0S
SUMMARY:Free Agents vs. Git R' Done
DESCRIPTION:Rescheduled Games From 1/5 --- Wednesday Men's - Conejo Recreation and Park District
LOCATION:Pepper Tree Playfield #2
CATEGORIES:QuickScores, Softball - Adult Game
TRANSP:OPAQUE
BEGIN:VALARM
TRIGGER:-PT2H
ACTION:DISPLAY
DESCRIPTION:Free Agents vs. Git R' Done
END:VALARM
END:VEVENT
BEGIN:VEVENT
UID:crpd-50665049-20220112T194500@quickscores.com
DTSTAMP:20260424T095800Z
DTSTART;TZID=America/Los_Angeles:20220112T194500
DURATION:PT1H15M0S
SUMMARY:Cronies vs. Head First
DESCRIPTION:Rescheduled Games From 1/5 --- Wednesday Men's - Conejo Recreation and Park District
LOCATION:Pepper Tree Playfield #2
CATEGORIES:QuickScores, Softball - Adult Game
TRANSP:OPAQUE
BEGIN:VALARM
TRIGGER:-PT2H
ACTION:DISPLAY
DESCRIPTION:Cronies vs. Head First
END:VALARM
END:VEVENT
END:VCALENDAR
