BEGIN:VCALENDAR
VERSION:2.0
PRODID:-//QuickScores.com//BQ Dynamic iCal Creator//EN
METHOD:PUBLISH
X-WR-CALNAME:Central & West Rookie Spring Soccer (1st-2nd Grade) - 2019 SPRING SOCCER
X-WR-CALDESC:QuickScores game calendar
X-PUBLISHED-TTL:PT24H
REFRESH-INTERVAL;VALUE=DURATION:PT24H
CALSCALE:GREGORIAN
BEGIN:VTIMEZONE
TZID:America/New_York
X-LIC-LOCATION:America/New_York
BEGIN:DAYLIGHT
TZNAME:EDT
TZOFFSETFROM:-0500
TZOFFSETTO:-0400
DTSTART:19700308T020000
RRULE:FREQ=YEARLY;BYMONTH=3;BYDAY=2SU
END:DAYLIGHT
BEGIN:STANDARD
TZNAME:EST
TZOFFSETFROM:-0400
TZOFFSETTO:-0500
DTSTART:19701101T020000
RRULE:FREQ=YEARLY;BYMONTH=11;BYDAY=1SU
END:STANDARD
END:VTIMEZONE
BEGIN:VEVENT
UID:bcparks-41513542-20190406T100000@quickscores.com
DTSTAMP:20260425T105500Z
DTSTART;TZID=America/New_York:20190406T100000
DURATION:PT1H0M0S
SUMMARY:WEST BANDITS vs. WEST LEGENDS
DESCRIPTION:Central & West Rookie Spring Soccer (1st-2nd Grade) - Brunswick County Parks & Recreation
LOCATION:SHALLOTTE PARK ROOKIE #1
CATEGORIES:QuickScores, Soccer - Youth Game
TRANSP:OPAQUE
BEGIN:VALARM
TRIGGER:-PT2H
ACTION:DISPLAY
DESCRIPTION:WEST BANDITS vs. WEST LEGENDS
END:VALARM
END:VEVENT
BEGIN:VEVENT
UID:bcparks-41513544-20190406T100000@quickscores.com
DTSTAMP:20260425T105500Z
DTSTART;TZID=America/New_York:20190406T100000
DURATION:PT1H0M0S
SUMMARY:CENTRAL LANCERS vs. WEST HUSKIES
DESCRIPTION:Central & West Rookie Spring Soccer (1st-2nd Grade) - Brunswick County Parks & Recreation
LOCATION:CEDAR GROVE ROOKIE #1
CATEGORIES:QuickScores, Soccer - Youth Game
TRANSP:OPAQUE
BEGIN:VALARM
TRIGGER:-PT2H
ACTION:DISPLAY
DESCRIPTION:CENTRAL LANCERS vs. WEST HUSKIES
END:VALARM
END:VEVENT
BEGIN:VEVENT
UID:bcparks-41513543-20190406T110000@quickscores.com
DTSTAMP:20260425T105500Z
DTSTART;TZID=America/New_York:20190406T110000
DURATION:PT1H0M0S
SUMMARY:WEST TROJANS vs. CENTRAL SAINTS
DESCRIPTION:Central & West Rookie Spring Soccer (1st-2nd Grade) - Brunswick County Parks & Recreation
LOCATION:SHALLOTTE PARK ROOKIE #1
CATEGORIES:QuickScores, Soccer - Youth Game
TRANSP:OPAQUE
BEGIN:VALARM
TRIGGER:-PT2H
ACTION:DISPLAY
DESCRIPTION:WEST TROJANS vs. CENTRAL SAINTS
END:VALARM
END:VEVENT
BEGIN:VEVENT
UID:bcparks-41513548-20190413T090000@quickscores.com
DTSTAMP:20260425T105500Z
DTSTART;TZID=America/New_York:20190413T090000
DURATION:PT1H0M0S
SUMMARY:WEST HUSKIES vs. CENTRAL SAINTS
DESCRIPTION:Central & West Rookie Spring Soccer (1st-2nd Grade) - Brunswick County Parks & Recreation
LOCATION:CEDAR GROVE ROOKIE #1
CATEGORIES:QuickScores, Soccer - Youth Game
TRANSP:OPAQUE
BEGIN:VALARM
TRIGGER:-PT2H
ACTION:DISPLAY
DESCRIPTION:WEST HUSKIES vs. CENTRAL SAINTS
END:VALARM
END:VEVENT
BEGIN:VEVENT
UID:bcparks-41513547-20190413T100000@quickscores.com
DTSTAMP:20260425T105500Z
DTSTART;TZID=America/New_York:20190413T100000
DURATION:PT1H0M0S
SUMMARY:CENTRAL LANCERS vs. WEST LEGENDS
DESCRIPTION:Central & West Rookie Spring Soccer (1st-2nd Grade) - Brunswick County Parks & Recreation
LOCATION:SHALLOTTE PARK ROOKIES #2
CATEGORIES:QuickScores, Soccer - Youth Game
TRANSP:OPAQUE
BEGIN:VALARM
TRIGGER:-PT2H
ACTION:DISPLAY
DESCRIPTION:CENTRAL LANCERS vs. WEST LEGENDS
END:VALARM
END:VEVENT
BEGIN:VEVENT
UID:bcparks-41513546-20190413T100000@quickscores.com
DTSTAMP:20260425T105500Z
DTSTART;TZID=America/New_York:20190413T100000
DURATION:PT1H0M0S
SUMMARY:WEST TROJANS vs. CENTRAL STEER
DESCRIPTION:Central & West Rookie Spring Soccer (1st-2nd Grade) - Brunswick County Parks & Recreation
LOCATION:SHALLOTTE PARK ROOKIE #1
CATEGORIES:QuickScores, Soccer - Youth Game
TRANSP:OPAQUE
BEGIN:VALARM
TRIGGER:-PT2H
ACTION:DISPLAY
DESCRIPTION:WEST TROJANS vs. CENTRAL STEER
END:VALARM
END:VEVENT
BEGIN:VEVENT
UID:bcparks-41513568-20190420T100000@quickscores.com
DTSTAMP:20260425T105500Z
DTSTART;TZID=America/New_York:20190420T100000
DURATION:PT1H0M0S
SUMMARY:WEST LEGENDS vs. WEST TROJANS
DESCRIPTION:Central & West Rookie Spring Soccer (1st-2nd Grade) - Brunswick County Parks & Recreation
LOCATION:SHALLOTTE PARK ROOKIE #1
CATEGORIES:QuickScores, Soccer - Youth Game
TRANSP:OPAQUE
BEGIN:VALARM
TRIGGER:-PT2H
ACTION:DISPLAY
DESCRIPTION:WEST LEGENDS vs. WEST TROJANS
END:VALARM
END:VEVENT
BEGIN:VEVENT
UID:bcparks-41513567-20190420T100000@quickscores.com
DTSTAMP:20260425T105500Z
DTSTART;TZID=America/New_York:20190420T100000
DURATION:PT1H0M0S
SUMMARY:CENTRAL STEER vs. WEST BANDITS
DESCRIPTION:Central & West Rookie Spring Soccer (1st-2nd Grade) - Brunswick County Parks & Recreation
LOCATION:SHALLOTTE PARK JUNIOR HIGH #1
CATEGORIES:QuickScores, Soccer - Youth Game
TRANSP:OPAQUE
BEGIN:VALARM
TRIGGER:-PT2H
ACTION:DISPLAY
DESCRIPTION:CENTRAL STEER vs. WEST BANDITS
END:VALARM
END:VEVENT
BEGIN:VEVENT
UID:bcparks-41513566-20190420T100000@quickscores.com
DTSTAMP:20260425T105500Z
DTSTART;TZID=America/New_York:20190420T100000
DURATION:PT1H0M0S
SUMMARY:CENTRAL SAINTS vs. CENTRAL LANCERS
DESCRIPTION:Central & West Rookie Spring Soccer (1st-2nd Grade) - Brunswick County Parks & Recreation
LOCATION:CEDAR GROVE ROOKIE #1
CATEGORIES:QuickScores, Soccer - Youth Game
TRANSP:OPAQUE
BEGIN:VALARM
TRIGGER:-PT2H
ACTION:DISPLAY
DESCRIPTION:CENTRAL SAINTS vs. CENTRAL LANCERS
END:VALARM
END:VEVENT
BEGIN:VEVENT
UID:bcparks-41514851-20190420T110000@quickscores.com
DTSTAMP:20260425T105500Z
DTSTART;TZID=America/New_York:20190420T110000
DURATION:PT1H0M0S
SUMMARY:WEST LEGENDS vs. WEST TROJANS
DESCRIPTION:Central & West Rookie Spring Soccer (1st-2nd Grade) - Brunswick County Parks & Recreation
LOCATION:SHALLOTTE PARK ROOKIE #1
CATEGORIES:QuickScores, Soccer - Youth Game
TRANSP:OPAQUE
BEGIN:VALARM
TRIGGER:-PT2H
ACTION:DISPLAY
DESCRIPTION:WEST LEGENDS vs. WEST TROJANS
END:VALARM
END:VEVENT
BEGIN:VEVENT
UID:bcparks-41513570-20190427T090000@quickscores.com
DTSTAMP:20260425T105500Z
DTSTART;TZID=America/New_York:20190427T090000
DURATION:PT1H0M0S
SUMMARY:CENTRAL SAINTS vs. CENTRAL STEER
DESCRIPTION:Central & West Rookie Spring Soccer (1st-2nd Grade) - Brunswick County Parks & Recreation
LOCATION:CEDAR GROVE ROOKIE #1
CATEGORIES:QuickScores, Soccer - Youth Game
TRANSP:OPAQUE
BEGIN:VALARM
TRIGGER:-PT2H
ACTION:DISPLAY
DESCRIPTION:CENTRAL SAINTS vs. CENTRAL STEER
END:VALARM
END:VEVENT
BEGIN:VEVENT
UID:bcparks-41513572-20190427T100000@quickscores.com
DTSTAMP:20260425T105500Z
DTSTART;TZID=America/New_York:20190427T100000
DURATION:PT1H0M0S
SUMMARY:CENTRAL LANCERS vs. WEST TROJANS
DESCRIPTION:Central & West Rookie Spring Soccer (1st-2nd Grade) - Brunswick County Parks & Recreation
LOCATION:CEDAR GROVE ROOKIE #1
CATEGORIES:QuickScores, Soccer - Youth Game
TRANSP:OPAQUE
BEGIN:VALARM
TRIGGER:-PT2H
ACTION:DISPLAY
DESCRIPTION:CENTRAL LANCERS vs. WEST TROJANS
END:VALARM
END:VEVENT
BEGIN:VEVENT
UID:bcparks-41513571-20190427T110000@quickscores.com
DTSTAMP:20260425T105500Z
DTSTART;TZID=America/New_York:20190427T110000
DURATION:PT1H0M0S
SUMMARY:WEST HUSKIES vs. WEST BANDITS
DESCRIPTION:Central & West Rookie Spring Soccer (1st-2nd Grade) - Brunswick County Parks & Recreation
LOCATION:SHALLOTTE PARK ROOKIE #1
CATEGORIES:QuickScores, Soccer - Youth Game
TRANSP:OPAQUE
BEGIN:VALARM
TRIGGER:-PT2H
ACTION:DISPLAY
DESCRIPTION:WEST HUSKIES vs. WEST BANDITS
END:VALARM
END:VEVENT
BEGIN:VEVENT
UID:bcparks-41513560-20190504T100000@quickscores.com
DTSTAMP:20260425T105500Z
DTSTART;TZID=America/New_York:20190504T100000
DURATION:PT1H0M0S
SUMMARY:WEST BANDITS vs. WEST TROJANS
DESCRIPTION:Central & West Rookie Spring Soccer (1st-2nd Grade) - Brunswick County Parks & Recreation
LOCATION:SHALLOTTE PARK JUNIOR HIGH #1
CATEGORIES:QuickScores, Soccer - Youth Game
TRANSP:OPAQUE
BEGIN:VALARM
TRIGGER:-PT2H
ACTION:DISPLAY
DESCRIPTION:WEST BANDITS vs. WEST TROJANS
END:VALARM
END:VEVENT
BEGIN:VEVENT
UID:bcparks-41513559-20190504T100000@quickscores.com
DTSTAMP:20260425T105500Z
DTSTART;TZID=America/New_York:20190504T100000
DURATION:PT1H0M0S
SUMMARY:CENTRAL STEER vs. CENTRAL LANCERS
DESCRIPTION:Central & West Rookie Spring Soccer (1st-2nd Grade) - Brunswick County Parks & Recreation
LOCATION:CEDAR GROVE ROOKIE #1
CATEGORIES:QuickScores, Soccer - Youth Game
TRANSP:OPAQUE
BEGIN:VALARM
TRIGGER:-PT2H
ACTION:DISPLAY
DESCRIPTION:CENTRAL STEER vs. CENTRAL LANCERS
END:VALARM
END:VEVENT
BEGIN:VEVENT
UID:bcparks-41513558-20190504T110000@quickscores.com
DTSTAMP:20260425T105500Z
DTSTART;TZID=America/New_York:20190504T110000
DURATION:PT1H0M0S
SUMMARY:WEST LEGENDS vs. WEST HUSKIES
DESCRIPTION:Central & West Rookie Spring Soccer (1st-2nd Grade) - Brunswick County Parks & Recreation
LOCATION:SHALLOTTE PARK ROOKIE #1
CATEGORIES:QuickScores, Soccer - Youth Game
TRANSP:OPAQUE
BEGIN:VALARM
TRIGGER:-PT2H
ACTION:DISPLAY
DESCRIPTION:WEST LEGENDS vs. WEST HUSKIES
END:VALARM
END:VEVENT
BEGIN:VEVENT
UID:bcparks-41513563-20190511T090000@quickscores.com
DTSTAMP:20260425T105500Z
DTSTART;TZID=America/New_York:20190511T090000
DURATION:PT1H0M0S
SUMMARY:CENTRAL SAINTS vs. WEST BANDITS
DESCRIPTION:Central & West Rookie Spring Soccer (1st-2nd Grade) - Brunswick County Parks & Recreation
LOCATION:CEDAR GROVE ROOKIE #1
CATEGORIES:QuickScores, Soccer - Youth Game
TRANSP:OPAQUE
BEGIN:VALARM
TRIGGER:-PT2H
ACTION:DISPLAY
DESCRIPTION:CENTRAL SAINTS vs. WEST BANDITS
END:VALARM
END:VEVENT
BEGIN:VEVENT
UID:bcparks-41513562-20190511T100000@quickscores.com
DTSTAMP:20260425T105500Z
DTSTART;TZID=America/New_York:20190511T100000
DURATION:PT1H0M0S
SUMMARY:WEST HUSKIES vs. WEST TROJANS
DESCRIPTION:FORFEIT --- Central & West Rookie Spring Soccer (1st-2nd Grade) - Brunswick County Parks & Recreation
LOCATION:SHALLOTTE PARK ROOKIE #1
CATEGORIES:QuickScores, Soccer - Youth Game
TRANSP:OPAQUE
BEGIN:VALARM
TRIGGER:-PT2H
ACTION:DISPLAY
DESCRIPTION:WEST HUSKIES vs. WEST TROJANS
END:VALARM
END:VEVENT
BEGIN:VEVENT
UID:bcparks-41513564-20190511T100000@quickscores.com
DTSTAMP:20260425T105500Z
DTSTART;TZID=America/New_York:20190511T100000
DURATION:PT1H0M0S
SUMMARY:WEST LEGENDS vs. CENTRAL STEER
DESCRIPTION:Central & West Rookie Spring Soccer (1st-2nd Grade) - Brunswick County Parks & Recreation
LOCATION:SHALLOTTE PARK ROOKIES #2
CATEGORIES:QuickScores, Soccer - Youth Game
TRANSP:OPAQUE
BEGIN:VALARM
TRIGGER:-PT2H
ACTION:DISPLAY
DESCRIPTION:WEST LEGENDS vs. CENTRAL STEER
END:VALARM
END:VEVENT
BEGIN:VEVENT
UID:bcparks-41513552-20190518T090000@quickscores.com
DTSTAMP:20260425T105500Z
DTSTART;TZID=America/New_York:20190518T090000
DURATION:PT1H0M0S
SUMMARY:WEST TROJANS vs. CENTRAL LANCERS
DESCRIPTION:Central & West Rookie Spring Soccer (1st-2nd Grade) - Brunswick County Parks & Recreation
LOCATION:SHALLOTTE PARK ROOKIE #1
CATEGORIES:QuickScores, Soccer - Youth Game
TRANSP:OPAQUE
BEGIN:VALARM
TRIGGER:-PT2H
ACTION:DISPLAY
DESCRIPTION:WEST TROJANS vs. CENTRAL LANCERS
END:VALARM
END:VEVENT
BEGIN:VEVENT
UID:bcparks-41513551-20190518T100000@quickscores.com
DTSTAMP:20260425T105500Z
DTSTART;TZID=America/New_York:20190518T100000
DURATION:PT1H0M0S
SUMMARY:WEST BANDITS vs. WEST HUSKIES
DESCRIPTION:Central & West Rookie Spring Soccer (1st-2nd Grade) - Brunswick County Parks & Recreation
LOCATION:SHALLOTTE PARK ROOKIE #1
CATEGORIES:QuickScores, Soccer - Youth Game
TRANSP:OPAQUE
BEGIN:VALARM
TRIGGER:-PT2H
ACTION:DISPLAY
DESCRIPTION:WEST BANDITS vs. WEST HUSKIES
END:VALARM
END:VEVENT
BEGIN:VEVENT
UID:bcparks-41513550-20190518T100000@quickscores.com
DTSTAMP:20260425T105500Z
DTSTART;TZID=America/New_York:20190518T100000
DURATION:PT1H0M0S
SUMMARY:CENTRAL STEER vs. CENTRAL SAINTS
DESCRIPTION:Central & West Rookie Spring Soccer (1st-2nd Grade) - Brunswick County Parks & Recreation
LOCATION:CEDAR GROVE ROOKIE #1
CATEGORIES:QuickScores, Soccer - Youth Game
TRANSP:OPAQUE
BEGIN:VALARM
TRIGGER:-PT2H
ACTION:DISPLAY
DESCRIPTION:CENTRAL STEER vs. CENTRAL SAINTS
END:VALARM
END:VEVENT
BEGIN:VEVENT
UID:bcparks-41513555-20190525T090000@quickscores.com
DTSTAMP:20260425T105500Z
DTSTART;TZID=America/New_York:20190525T090000
DURATION:PT1H0M0S
SUMMARY:WEST HUSKIES vs. CENTRAL STEER
DESCRIPTION:Central & West Rookie Spring Soccer (1st-2nd Grade) - Brunswick County Parks & Recreation
LOCATION:SHALLOTTE PARK ROOKIE #1
CATEGORIES:QuickScores, Soccer - Youth Game
TRANSP:OPAQUE
BEGIN:VALARM
TRIGGER:-PT2H
ACTION:DISPLAY
DESCRIPTION:WEST HUSKIES vs. CENTRAL STEER
END:VALARM
END:VEVENT
BEGIN:VEVENT
UID:bcparks-41513556-20190525T100000@quickscores.com
DTSTAMP:20260425T105500Z
DTSTART;TZID=America/New_York:20190525T100000
DURATION:PT1H0M0S
SUMMARY:CENTRAL SAINTS vs. WEST LEGENDS
DESCRIPTION:Central & West Rookie Spring Soccer (1st-2nd Grade) - Brunswick County Parks & Recreation
LOCATION:SHALLOTTE PARK JUNIOR HIGH #1
CATEGORIES:QuickScores, Soccer - Youth Game
TRANSP:OPAQUE
BEGIN:VALARM
TRIGGER:-PT2H
ACTION:DISPLAY
DESCRIPTION:CENTRAL SAINTS vs. WEST LEGENDS
END:VALARM
END:VEVENT
BEGIN:VEVENT
UID:bcparks-41514667-20190525T100000@quickscores.com
DTSTAMP:20260425T105500Z
DTSTART;TZID=America/New_York:20190525T100000
DURATION:PT1H0M0S
SUMMARY:CENTRAL STEER vs. WEST HUSKIES
DESCRIPTION:Central & West Rookie Spring Soccer (1st-2nd Grade) - Brunswick County Parks & Recreation
LOCATION:SHALLOTTE PARK ROOKIE #1
CATEGORIES:QuickScores, Soccer - Youth Game
TRANSP:OPAQUE
BEGIN:VALARM
TRIGGER:-PT2H
ACTION:DISPLAY
DESCRIPTION:CENTRAL STEER vs. WEST HUSKIES
END:VALARM
END:VEVENT
BEGIN:VEVENT
UID:bcparks-41513554-20190525T100000@quickscores.com
DTSTAMP:20260425T105500Z
DTSTART;TZID=America/New_York:20190525T100000
DURATION:PT1H0M0S
SUMMARY:CENTRAL LANCERS vs. WEST BANDITS
DESCRIPTION:Central & West Rookie Spring Soccer (1st-2nd Grade) - Brunswick County Parks & Recreation
LOCATION:CEDAR GROVE ROOKIE #1
CATEGORIES:QuickScores, Soccer - Youth Game
TRANSP:OPAQUE
BEGIN:VALARM
TRIGGER:-PT2H
ACTION:DISPLAY
DESCRIPTION:CENTRAL LANCERS vs. WEST BANDITS
END:VALARM
END:VEVENT
BEGIN:VEVENT
UID:bcparks-41513578-20190525T110000@quickscores.com
DTSTAMP:20260425T105500Z
DTSTART;TZID=America/New_York:20190525T110000
DURATION:PT1H0M0S
SUMMARY:WEST BANDITS vs. CENTRAL LANCERS
DESCRIPTION:FORFEIT --- Central & West Rookie Spring Soccer (1st-2nd Grade) - Brunswick County Parks & Recreation
LOCATION:CEDAR GROVE ROOKIE #1
CATEGORIES:QuickScores, Soccer - Youth Game
TRANSP:OPAQUE
BEGIN:VALARM
TRIGGER:-PT2H
ACTION:DISPLAY
DESCRIPTION:WEST BANDITS vs. CENTRAL LANCERS
END:VALARM
END:VEVENT
BEGIN:VEVENT
UID:bcparks-41514666-20190525T110000@quickscores.com
DTSTAMP:20260425T105500Z
DTSTART;TZID=America/New_York:20190525T110000
DURATION:PT1H0M0S
SUMMARY:WEST LEGENDS vs. CENTRAL SAINTS
DESCRIPTION:Central & West Rookie Spring Soccer (1st-2nd Grade) - Brunswick County Parks & Recreation
LOCATION:SHALLOTTE PARK JUNIOR HIGH #1
CATEGORIES:QuickScores, Soccer - Youth Game
TRANSP:OPAQUE
BEGIN:VALARM
TRIGGER:-PT2H
ACTION:DISPLAY
DESCRIPTION:WEST LEGENDS vs. CENTRAL SAINTS
END:VALARM
END:VEVENT
END:VCALENDAR
